BEGIN:VCALENDAR
VERSION:2.0
PRODID:-//Talcott Mountain Collective - ECPv6.15.20//NONSGML v1.0//EN
CALSCALE:GREGORIAN
METHOD:PUBLISH
X-WR-CALNAME:Talcott Mountain Collective
X-ORIGINAL-URL:https://talcottcollective.com
X-WR-CALDESC:Events for Talcott Mountain Collective
REFRESH-INTERVAL;VALUE=DURATION:PT1H
X-Robots-Tag:noindex
X-PUBLISHED-TTL:PT1H
BEGIN:VTIMEZONE
TZID:America/New_York
BEGIN:DAYLIGHT
TZOFFSETFROM:-0500
TZOFFSETTO:-0400
TZNAME:EDT
DTSTART:20210314T070000
END:DAYLIGHT
BEGIN:STANDARD
TZOFFSETFROM:-0400
TZOFFSETTO:-0500
TZNAME:EST
DTSTART:20211107T060000
END:STANDARD
BEGIN:DAYLIGHT
TZOFFSETFROM:-0500
TZOFFSETTO:-0400
TZNAME:EDT
DTSTART:20220313T070000
END:DAYLIGHT
BEGIN:STANDARD
TZOFFSETFROM:-0400
TZOFFSETTO:-0500
TZNAME:EST
DTSTART:20221106T060000
END:STANDARD
BEGIN:DAYLIGHT
TZOFFSETFROM:-0500
TZOFFSETTO:-0400
TZNAME:EDT
DTSTART:20230312T070000
END:DAYLIGHT
BEGIN:STANDARD
TZOFFSETFROM:-0400
TZOFFSETTO:-0500
TZNAME:EST
DTSTART:20231105T060000
END:STANDARD
END:VTIMEZONE
BEGIN:VEVENT
DTSTART;TZID=America/New_York:20220614T150000
DTEND;TZID=America/New_York:20220614T200000
DTSTAMP:20260424T082749
CREATED:20220615T220631Z
LAST-MODIFIED:20220921T031133Z
UID:2374-1655218800-1655236800@talcottcollective.com
SUMMARY:Tasty Tuesdays
DESCRIPTION:What is Tasty Tuesday you may ask? Well\, candidly\, it’s our effort to bring in more customers on our slowest day of the week…\n\n\nBut if we may – it’s also a pretty sweet offer. All food and beverage from the Collective Kitchen & Bar will receive a 25% discount. All draught beer\, cocktails\, hot meals\, snacks – it all qualifies.\n\n\n\n\n\nSo\, you’ve got that going for ya…\nwhich is nice!
URL:https://talcottcollective.com/event/tasty-tuesdays/2022-06-14/
CATEGORIES:Promotion Night
ATTACH;FMTTYPE=image/jpeg:https://talcottcollective.com/wp-content/uploads/2022/06/Copy-of-Announcing-Our-New.jpg
END:VEVENT
END:VCALENDAR