BEGIN:VCALENDAR
VERSION:2.0
PRODID:-//Talcott Mountain Collective - ECPv6.15.20//NONSGML v1.0//EN
CALSCALE:GREGORIAN
METHOD:PUBLISH
X-WR-CALNAME:Talcott Mountain Collective
X-ORIGINAL-URL:https://talcottcollective.com
X-WR-CALDESC:Events for Talcott Mountain Collective
REFRESH-INTERVAL;VALUE=DURATION:PT1H
X-Robots-Tag:noindex
X-PUBLISHED-TTL:PT1H
BEGIN:VTIMEZONE
TZID:America/New_York
BEGIN:DAYLIGHT
TZOFFSETFROM:-0500
TZOFFSETTO:-0400
TZNAME:EDT
DTSTART:20240310T070000
END:DAYLIGHT
BEGIN:STANDARD
TZOFFSETFROM:-0400
TZOFFSETTO:-0500
TZNAME:EST
DTSTART:20241103T060000
END:STANDARD
BEGIN:DAYLIGHT
TZOFFSETFROM:-0500
TZOFFSETTO:-0400
TZNAME:EDT
DTSTART:20250309T070000
END:DAYLIGHT
BEGIN:STANDARD
TZOFFSETFROM:-0400
TZOFFSETTO:-0500
TZNAME:EST
DTSTART:20251102T060000
END:STANDARD
BEGIN:DAYLIGHT
TZOFFSETFROM:-0500
TZOFFSETTO:-0400
TZNAME:EDT
DTSTART:20260308T070000
END:DAYLIGHT
BEGIN:STANDARD
TZOFFSETFROM:-0400
TZOFFSETTO:-0500
TZNAME:EST
DTSTART:20261101T060000
END:STANDARD
END:VTIMEZONE
BEGIN:VEVENT
DTSTART;TZID=America/New_York:20250117T183000
DTEND;TZID=America/New_York:20250117T213000
DTSTAMP:20260421T051115
CREATED:20250110T154927Z
LAST-MODIFIED:20250110T154927Z
UID:7138-1737138600-1737149400@talcottcollective.com
SUMMARY:The Duketones
DESCRIPTION:Take classics by Chuck Berry\, Fats Domino\, Buddy Holly\, add some red meat country\, blues & Dylan\, shake it all up & you’ve got yourself The Duketones!
URL:https://talcottcollective.com/event/the-duketones/
CATEGORIES:Music
ATTACH;FMTTYPE=image/jpeg:https://talcottcollective.com/wp-content/uploads/2024/02/duketones.jpg
END:VEVENT
END:VCALENDAR