BEGIN:VCALENDAR
VERSION:2.0
PRODID:-//Talcott Mountain Collective - ECPv6.15.20//NONSGML v1.0//EN
CALSCALE:GREGORIAN
METHOD:PUBLISH
X-WR-CALNAME:Talcott Mountain Collective
X-ORIGINAL-URL:https://talcottcollective.com
X-WR-CALDESC:Events for Talcott Mountain Collective
REFRESH-INTERVAL;VALUE=DURATION:PT1H
X-Robots-Tag:noindex
X-PUBLISHED-TTL:PT1H
BEGIN:VTIMEZONE
TZID:America/New_York
BEGIN:DAYLIGHT
TZOFFSETFROM:-0500
TZOFFSETTO:-0400
TZNAME:EDT
DTSTART:20240310T070000
END:DAYLIGHT
BEGIN:STANDARD
TZOFFSETFROM:-0400
TZOFFSETTO:-0500
TZNAME:EST
DTSTART:20241103T060000
END:STANDARD
BEGIN:DAYLIGHT
TZOFFSETFROM:-0500
TZOFFSETTO:-0400
TZNAME:EDT
DTSTART:20250309T070000
END:DAYLIGHT
BEGIN:STANDARD
TZOFFSETFROM:-0400
TZOFFSETTO:-0500
TZNAME:EST
DTSTART:20251102T060000
END:STANDARD
BEGIN:DAYLIGHT
TZOFFSETFROM:-0500
TZOFFSETTO:-0400
TZNAME:EDT
DTSTART:20260308T070000
END:DAYLIGHT
BEGIN:STANDARD
TZOFFSETFROM:-0400
TZOFFSETTO:-0500
TZNAME:EST
DTSTART:20261101T060000
END:STANDARD
END:VTIMEZONE
BEGIN:VEVENT
DTSTART;TZID=America/New_York:20250208T140000
DTEND;TZID=America/New_York:20250208T190000
DTSTAMP:20260419T144726
CREATED:20241001T152635Z
LAST-MODIFIED:20250601T193100Z
UID:7076-1739023200-1739041200@talcottcollective.com
SUMMARY:Vinyl Days With Wolfbain
DESCRIPTION:Our most popular music feature is now a weekly treat.
URL:https://talcottcollective.com/event/vinyl-days-with-wolfbain/2025-02-08/
CATEGORIES:Music
ATTACH;FMTTYPE=image/jpeg:https://talcottcollective.com/wp-content/uploads/2023/10/DJ-Wolfbain-2.jpg
END:VEVENT
BEGIN:VEVENT
DTSTART;TZID=America/New_York:20250208T193000
DTEND;TZID=America/New_York:20250208T223000
DTSTAMP:20260419T144726
CREATED:20250130T141431Z
LAST-MODIFIED:20250130T141431Z
UID:7187-1739043000-1739053800@talcottcollective.com
SUMMARY:Big Game Saturday w/Accoustic Marshpit
DESCRIPTION:We’re Baaaaack…on Big Game SATURDAY! There was such a high demand of people asking when we will be playing here again… well here you go! It’s the day before the Pro Football Championship . Make plans…tell your friends…there will be food trucks and some more details to follow! This will be the best part of the weekend Who’s in?!
URL:https://talcottcollective.com/event/big-game-saturday-w-accoustic-marshpit/
ATTACH;FMTTYPE=image/jpeg:https://talcottcollective.com/wp-content/uploads/2023/05/Accoustic-Marshpit-e1743279768972.jpeg
END:VEVENT
END:VCALENDAR