BEGIN:VCALENDAR
VERSION:2.0
PRODID:-//Talcott Mountain Collective - ECPv6.15.20//NONSGML v1.0//EN
CALSCALE:GREGORIAN
METHOD:PUBLISH
X-WR-CALNAME:Talcott Mountain Collective
X-ORIGINAL-URL:https://talcottcollective.com
X-WR-CALDESC:Events for Talcott Mountain Collective
REFRESH-INTERVAL;VALUE=DURATION:PT1H
X-Robots-Tag:noindex
X-PUBLISHED-TTL:PT1H
BEGIN:VTIMEZONE
TZID:America/New_York
BEGIN:DAYLIGHT
TZOFFSETFROM:-0500
TZOFFSETTO:-0400
TZNAME:EDT
DTSTART:20240310T070000
END:DAYLIGHT
BEGIN:STANDARD
TZOFFSETFROM:-0400
TZOFFSETTO:-0500
TZNAME:EST
DTSTART:20241103T060000
END:STANDARD
BEGIN:DAYLIGHT
TZOFFSETFROM:-0500
TZOFFSETTO:-0400
TZNAME:EDT
DTSTART:20250309T070000
END:DAYLIGHT
BEGIN:STANDARD
TZOFFSETFROM:-0400
TZOFFSETTO:-0500
TZNAME:EST
DTSTART:20251102T060000
END:STANDARD
BEGIN:DAYLIGHT
TZOFFSETFROM:-0500
TZOFFSETTO:-0400
TZNAME:EDT
DTSTART:20260308T070000
END:DAYLIGHT
BEGIN:STANDARD
TZOFFSETFROM:-0400
TZOFFSETTO:-0500
TZNAME:EST
DTSTART:20261101T060000
END:STANDARD
END:VTIMEZONE
BEGIN:VEVENT
DTSTART;TZID=America/New_York:20250531T130000
DTEND;TZID=America/New_York:20250531T190000
DTSTAMP:20260422T123200
CREATED:20250502T014635Z
LAST-MODIFIED:20250502T014635Z
UID:7649-1748696400-1748718000@talcottcollective.com
SUMMARY:East West Grille Food Truck
DESCRIPTION:
URL:https://talcottcollective.com/event/east-west-grille-food-truck/
ATTACH;FMTTYPE=image/jpeg:https://talcottcollective.com/wp-content/uploads/2025/04/FoodTruck-East-West-Grill-scaled.jpg
END:VEVENT
BEGIN:VEVENT
DTSTART;TZID=America/New_York:20250531T140000
DTEND;TZID=America/New_York:20250531T190000
DTSTAMP:20260422T123200
CREATED:20241001T152635Z
LAST-MODIFIED:20250601T193113Z
UID:7093-1748700000-1748718000@talcottcollective.com
SUMMARY:Vinyl Days With Wolfbain
DESCRIPTION:Our most popular music feature is now a weekly treat.
URL:https://talcottcollective.com/event/vinyl-days-with-wolfbain/2025-05-31/
CATEGORIES:Music
ATTACH;FMTTYPE=image/jpeg:https://talcottcollective.com/wp-content/uploads/2023/10/DJ-Wolfbain-2.jpg
END:VEVENT
BEGIN:VEVENT
DTSTART;TZID=America/New_York:20250531T200000
DTEND;TZID=America/New_York:20250531T230000
DTSTAMP:20260422T123200
CREATED:20250329T223017Z
LAST-MODIFIED:20250528T224225Z
UID:7401-1748721600-1748732400@talcottcollective.com
SUMMARY:Shout - 90's Dance Party
DESCRIPTION:Connecticut based tribute band Shout presents a 90’s dance party at Talcott Mountain Collective featuring a variety of 90’s dance hits!! $10 : 16+(under 18 must be accompanied by adult)
URL:https://talcottcollective.com/event/shout-90s-dance-party/
CATEGORIES:Music
ATTACH;FMTTYPE=image/jpeg:https://talcottcollective.com/wp-content/uploads/2025/03/476486863_18021295907648158_2630716935572203528_n-scaled.jpg
END:VEVENT
END:VCALENDAR