BEGIN:VCALENDAR
VERSION:2.0
PRODID:-//Talcott Mountain Collective - ECPv6.15.20//NONSGML v1.0//EN
CALSCALE:GREGORIAN
METHOD:PUBLISH
X-ORIGINAL-URL:https://talcottcollective.com
X-WR-CALDESC:Events for Talcott Mountain Collective
REFRESH-INTERVAL;VALUE=DURATION:PT1H
X-Robots-Tag:noindex
X-PUBLISHED-TTL:PT1H
BEGIN:VTIMEZONE
TZID:America/New_York
BEGIN:DAYLIGHT
TZOFFSETFROM:-0500
TZOFFSETTO:-0400
TZNAME:EDT
DTSTART:20240310T070000
END:DAYLIGHT
BEGIN:STANDARD
TZOFFSETFROM:-0400
TZOFFSETTO:-0500
TZNAME:EST
DTSTART:20241103T060000
END:STANDARD
BEGIN:DAYLIGHT
TZOFFSETFROM:-0500
TZOFFSETTO:-0400
TZNAME:EDT
DTSTART:20250309T070000
END:DAYLIGHT
BEGIN:STANDARD
TZOFFSETFROM:-0400
TZOFFSETTO:-0500
TZNAME:EST
DTSTART:20251102T060000
END:STANDARD
BEGIN:DAYLIGHT
TZOFFSETFROM:-0500
TZOFFSETTO:-0400
TZNAME:EDT
DTSTART:20260308T070000
END:DAYLIGHT
BEGIN:STANDARD
TZOFFSETFROM:-0400
TZOFFSETTO:-0500
TZNAME:EST
DTSTART:20261101T060000
END:STANDARD
END:VTIMEZONE
BEGIN:VEVENT
DTSTART;TZID=America/New_York:20250620T160000
DTEND;TZID=America/New_York:20250620T200000
DTSTAMP:20260422T122415
CREATED:20250609T011646Z
LAST-MODIFIED:20250609T011646Z
UID:8457-1750435200-1750449600@talcottcollective.com
SUMMARY:Samba e Favela Food Truck
DESCRIPTION:We are taking Street Food to a new level with a delicious fusion of Brazilian\, Latin and Spanish Food
URL:https://talcottcollective.com/event/samba-e-favela-food-truck/2025-06-20/
CATEGORIES:Food Truck
ATTACH;FMTTYPE=image/jpeg:https://talcottcollective.com/wp-content/uploads/2025/04/FoodTruck-Samba-scaled.jpg
END:VEVENT
BEGIN:VEVENT
DTSTART;TZID=America/New_York:20250620T170000
DTEND;TZID=America/New_York:20250620T190000
DTSTAMP:20260422T122415
CREATED:20250601T180722Z
LAST-MODIFIED:20250616T202456Z
UID:8003-1750438800-1750446000@talcottcollective.com
SUMMARY:The Hooch
DESCRIPTION:Free outdoor show
URL:https://talcottcollective.com/event/the-hooch-13/
CATEGORIES:Music
ATTACH;FMTTYPE=image/jpeg:https://talcottcollective.com/wp-content/uploads/2024/10/The-Hooch-Band.jpg
END:VEVENT
BEGIN:VEVENT
DTSTART;TZID=America/New_York:20250620T200000
DTEND;TZID=America/New_York:20250620T223000
DTSTAMP:20260422T122415
CREATED:20250601T180552Z
LAST-MODIFIED:20250616T200757Z
UID:7994-1750449600-1750458600@talcottcollective.com
SUMMARY:Shout! Yacht Rock Night
DESCRIPTION:Featuring music from Steely Dan\, Doobie Brothers\, Michael McDonald\, Toto and more. Help us celebrate the summer solstice with some Yacht Rock classics! (inside show)\n$10 Cover Charge • 16+(under 18 must be accompanied by adult)
URL:https://talcottcollective.com/event/shout/
CATEGORIES:Music
ATTACH;FMTTYPE=image/jpeg:https://talcottcollective.com/wp-content/uploads/2025/06/Shout-Yacht-Rock.jpg
END:VEVENT
END:VCALENDAR