BEGIN:VCALENDAR
VERSION:2.0
PRODID:-//Talcott Mountain Collective - ECPv6.15.20//NONSGML v1.0//EN
CALSCALE:GREGORIAN
METHOD:PUBLISH
X-WR-CALNAME:Talcott Mountain Collective
X-ORIGINAL-URL:https://talcottcollective.com
X-WR-CALDESC:Events for Talcott Mountain Collective
REFRESH-INTERVAL;VALUE=DURATION:PT1H
X-Robots-Tag:noindex
X-PUBLISHED-TTL:PT1H
BEGIN:VTIMEZONE
TZID:America/New_York
BEGIN:DAYLIGHT
TZOFFSETFROM:-0500
TZOFFSETTO:-0400
TZNAME:EDT
DTSTART:20240310T070000
END:DAYLIGHT
BEGIN:STANDARD
TZOFFSETFROM:-0400
TZOFFSETTO:-0500
TZNAME:EST
DTSTART:20241103T060000
END:STANDARD
BEGIN:DAYLIGHT
TZOFFSETFROM:-0500
TZOFFSETTO:-0400
TZNAME:EDT
DTSTART:20250309T070000
END:DAYLIGHT
BEGIN:STANDARD
TZOFFSETFROM:-0400
TZOFFSETTO:-0500
TZNAME:EST
DTSTART:20251102T060000
END:STANDARD
BEGIN:DAYLIGHT
TZOFFSETFROM:-0500
TZOFFSETTO:-0400
TZNAME:EDT
DTSTART:20260308T070000
END:DAYLIGHT
BEGIN:STANDARD
TZOFFSETFROM:-0400
TZOFFSETTO:-0500
TZNAME:EST
DTSTART:20261101T060000
END:STANDARD
END:VTIMEZONE
BEGIN:VEVENT
DTSTART;TZID=America/New_York:20250621T130000
DTEND;TZID=America/New_York:20250621T200000
DTSTAMP:20260424T041156
CREATED:20250609T015653Z
LAST-MODIFIED:20250609T015653Z
UID:8459-1750510800-1750536000@talcottcollective.com
SUMMARY:Mi Buen Pastor Food Truck
DESCRIPTION:Mexican Fusion
URL:https://talcottcollective.com/event/mi-buen-pastor-food-truck-4/2025-06-21/
CATEGORIES:Food Truck
ATTACH;FMTTYPE=image/jpeg:https://talcottcollective.com/wp-content/uploads/2025/04/FoodTruck-Mi-Buen-Pastor-scaled.jpg
END:VEVENT
BEGIN:VEVENT
DTSTART;TZID=America/New_York:20250621T140000
DTEND;TZID=America/New_York:20250621T190000
DTSTAMP:20260424T041156
CREATED:20241001T152635Z
LAST-MODIFIED:20250601T193114Z
UID:7096-1750514400-1750532400@talcottcollective.com
SUMMARY:Vinyl Days With Wolfbain
DESCRIPTION:Our most popular music feature is now a weekly treat.
URL:https://talcottcollective.com/event/vinyl-days-with-wolfbain/2025-06-21/
CATEGORIES:Music
ATTACH;FMTTYPE=image/jpeg:https://talcottcollective.com/wp-content/uploads/2023/10/DJ-Wolfbain-2.jpg
END:VEVENT
BEGIN:VEVENT
DTSTART;TZID=America/New_York:20250621T180000
DTEND;TZID=America/New_York:20250621T210000
DTSTAMP:20260424T041156
CREATED:20250523T031053Z
LAST-MODIFIED:20250620T190954Z
UID:7829-1750528800-1750539600@talcottcollective.com
SUMMARY:Jeff Pitchell - $20
DESCRIPTION:Blues Hall of Fame award winning guitarist Jeff Pitchell’s style blends B.B. King and Duane Allman\, which was endorsed by Gregg Allman. His diverse songwriting catalog recalls the variety of Eric Clapton’s classics and his vocal delivery\, which ranges from smooth tenderness to Billy Gibbons ZZ Top-like power\, received high praise from J. Geils. His songwriting award winning “An Eye for an Eye” was recorded by British blues legend John Mayall.
URL:https://talcottcollective.com/event/jeff-pitchell-20/
CATEGORIES:Music
ATTACH;FMTTYPE=image/webp:https://talcottcollective.com/wp-content/uploads/2025/05/Jeff-Pitchell-1.webp
END:VEVENT
END:VCALENDAR