BEGIN:VCALENDAR
VERSION:2.0
PRODID:-//Talcott Mountain Collective - ECPv6.15.20//NONSGML v1.0//EN
CALSCALE:GREGORIAN
METHOD:PUBLISH
X-ORIGINAL-URL:https://talcottcollective.com
X-WR-CALDESC:Events for Talcott Mountain Collective
REFRESH-INTERVAL;VALUE=DURATION:PT1H
X-Robots-Tag:noindex
X-PUBLISHED-TTL:PT1H
BEGIN:VTIMEZONE
TZID:America/New_York
BEGIN:DAYLIGHT
TZOFFSETFROM:-0500
TZOFFSETTO:-0400
TZNAME:EDT
DTSTART:20240310T070000
END:DAYLIGHT
BEGIN:STANDARD
TZOFFSETFROM:-0400
TZOFFSETTO:-0500
TZNAME:EST
DTSTART:20241103T060000
END:STANDARD
BEGIN:DAYLIGHT
TZOFFSETFROM:-0500
TZOFFSETTO:-0400
TZNAME:EDT
DTSTART:20250309T070000
END:DAYLIGHT
BEGIN:STANDARD
TZOFFSETFROM:-0400
TZOFFSETTO:-0500
TZNAME:EST
DTSTART:20251102T060000
END:STANDARD
BEGIN:DAYLIGHT
TZOFFSETFROM:-0500
TZOFFSETTO:-0400
TZNAME:EDT
DTSTART:20260308T070000
END:DAYLIGHT
BEGIN:STANDARD
TZOFFSETFROM:-0400
TZOFFSETTO:-0500
TZNAME:EST
DTSTART:20261101T060000
END:STANDARD
END:VTIMEZONE
BEGIN:VEVENT
DTSTART;TZID=America/New_York:20250712T130000
DTEND;TZID=America/New_York:20250712T190000
DTSTAMP:20260422T082755
CREATED:20250706T031409Z
LAST-MODIFIED:20250706T031409Z
UID:8651-1752325200-1752346800@talcottcollective.com
SUMMARY:Cluck\, Cluck\, Moo
DESCRIPTION:
URL:https://talcottcollective.com/event/cluck-cluck-moo/
CATEGORIES:Food Truck
ATTACH;FMTTYPE=image/jpeg:https://talcottcollective.com/wp-content/uploads/2025/04/FoodTruck-Cluck-cluck-moos-scaled.jpg
END:VEVENT
BEGIN:VEVENT
DTSTART;TZID=America/New_York:20250712T130000
DTEND;TZID=America/New_York:20250712T200000
DTSTAMP:20260422T082755
CREATED:20250609T011646Z
LAST-MODIFIED:20250609T014908Z
UID:8432-1752325200-1752350400@talcottcollective.com
SUMMARY:Samba e Favela Food Truck
DESCRIPTION:We are taking Street Food to a new level with a delicious fusion of Brazilian\, Latin and Spanish Food
URL:https://talcottcollective.com/event/samba-e-favela-food-truck/2025-07-12/
CATEGORIES:Food Truck
ATTACH;FMTTYPE=image/jpeg:https://talcottcollective.com/wp-content/uploads/2025/04/FoodTruck-Samba-scaled.jpg
END:VEVENT
BEGIN:VEVENT
DTSTART;TZID=America/New_York:20250712T140000
DTEND;TZID=America/New_York:20250712T190000
DTSTAMP:20260422T082755
CREATED:20241001T152635Z
LAST-MODIFIED:20250601T193115Z
UID:7099-1752328800-1752346800@talcottcollective.com
SUMMARY:Vinyl Days With Wolfbain
DESCRIPTION:Our most popular music feature is now a weekly treat.
URL:https://talcottcollective.com/event/vinyl-days-with-wolfbain/2025-07-12/
CATEGORIES:Music
ATTACH;FMTTYPE=image/jpeg:https://talcottcollective.com/wp-content/uploads/2023/10/DJ-Wolfbain-2.jpg
END:VEVENT
BEGIN:VEVENT
DTSTART;TZID=America/New_York:20250712T173000
DTEND;TZID=America/New_York:20250712T210000
DTSTAMP:20260422T082755
CREATED:20250707T171728Z
LAST-MODIFIED:20250707T171728Z
UID:8687-1752341400-1752354000@talcottcollective.com
SUMMARY:The Wilcox Bros. w/Maddie Kovanda
DESCRIPTION:Come and see the Wilcox Bros. with Maddie Kovanda and special guest Hally Jaeggi!
URL:https://talcottcollective.com/event/the-wilcox-bros-w-maddie-kovanda/
ATTACH;FMTTYPE=image/jpeg:https://talcottcollective.com/wp-content/uploads/2025/07/The-Wilcox-Bros.-wMaddie-K.jpg
END:VEVENT
END:VCALENDAR