BEGIN:VCALENDAR
VERSION:2.0
PRODID:-//Talcott Mountain Collective - ECPv6.15.20//NONSGML v1.0//EN
CALSCALE:GREGORIAN
METHOD:PUBLISH
X-ORIGINAL-URL:https://talcottcollective.com
X-WR-CALDESC:Events for Talcott Mountain Collective
REFRESH-INTERVAL;VALUE=DURATION:PT1H
X-Robots-Tag:noindex
X-PUBLISHED-TTL:PT1H
BEGIN:VTIMEZONE
TZID:America/New_York
BEGIN:DAYLIGHT
TZOFFSETFROM:-0500
TZOFFSETTO:-0400
TZNAME:EDT
DTSTART:20240310T070000
END:DAYLIGHT
BEGIN:STANDARD
TZOFFSETFROM:-0400
TZOFFSETTO:-0500
TZNAME:EST
DTSTART:20241103T060000
END:STANDARD
BEGIN:DAYLIGHT
TZOFFSETFROM:-0500
TZOFFSETTO:-0400
TZNAME:EDT
DTSTART:20250309T070000
END:DAYLIGHT
BEGIN:STANDARD
TZOFFSETFROM:-0400
TZOFFSETTO:-0500
TZNAME:EST
DTSTART:20251102T060000
END:STANDARD
BEGIN:DAYLIGHT
TZOFFSETFROM:-0500
TZOFFSETTO:-0400
TZNAME:EDT
DTSTART:20260308T070000
END:DAYLIGHT
BEGIN:STANDARD
TZOFFSETFROM:-0400
TZOFFSETTO:-0500
TZNAME:EST
DTSTART:20261101T060000
END:STANDARD
END:VTIMEZONE
BEGIN:VEVENT
DTSTART;TZID=America/New_York:20250713T130000
DTEND;TZID=America/New_York:20250713T190000
DTSTAMP:20260422T074855
CREATED:20250706T031537Z
LAST-MODIFIED:20250706T031537Z
UID:8653-1752411600-1752433200@talcottcollective.com
SUMMARY:Nibbles and Noms Food Truck
DESCRIPTION:
URL:https://talcottcollective.com/event/nibbles-and-noms-food-truck/
CATEGORIES:Food Truck
ATTACH;FMTTYPE=image/jpeg:https://talcottcollective.com/wp-content/uploads/2025/04/FoodTruck-Nibbles-n-Noms-scaled.jpg
END:VEVENT
BEGIN:VEVENT
DTSTART;TZID=America/New_York:20250713T160000
DTEND;TZID=America/New_York:20250713T190000
DTSTAMP:20260422T074855
CREATED:20250706T025531Z
LAST-MODIFIED:20250707T214323Z
UID:8641-1752422400-1752433200@talcottcollective.com
SUMMARY:Faster Things - Allman Brothers Tribute
DESCRIPTION:This powerhouse tribute to the Allman Brothers Band has been earning rave reviews from fans and venues alike\, with long time ABB fans touting Faster Things as one of their favorites. \nMore info at www.fasterthingsabb.com– $10 cover
URL:https://talcottcollective.com/event/faster-things/
CATEGORIES:Music
ATTACH;FMTTYPE=image/jpeg:https://talcottcollective.com/wp-content/uploads/2025/07/FasterThings-2-scaled.jpg
END:VEVENT
END:VCALENDAR