BEGIN:VCALENDAR
VERSION:2.0
PRODID:-//Talcott Mountain Collective - ECPv6.15.20//NONSGML v1.0//EN
CALSCALE:GREGORIAN
METHOD:PUBLISH
X-ORIGINAL-URL:https://talcottcollective.com
X-WR-CALDESC:Events for Talcott Mountain Collective
REFRESH-INTERVAL;VALUE=DURATION:PT1H
X-Robots-Tag:noindex
X-PUBLISHED-TTL:PT1H
BEGIN:VTIMEZONE
TZID:America/New_York
BEGIN:DAYLIGHT
TZOFFSETFROM:-0500
TZOFFSETTO:-0400
TZNAME:EDT
DTSTART:20240310T070000
END:DAYLIGHT
BEGIN:STANDARD
TZOFFSETFROM:-0400
TZOFFSETTO:-0500
TZNAME:EST
DTSTART:20241103T060000
END:STANDARD
BEGIN:DAYLIGHT
TZOFFSETFROM:-0500
TZOFFSETTO:-0400
TZNAME:EDT
DTSTART:20250309T070000
END:DAYLIGHT
BEGIN:STANDARD
TZOFFSETFROM:-0400
TZOFFSETTO:-0500
TZNAME:EST
DTSTART:20251102T060000
END:STANDARD
BEGIN:DAYLIGHT
TZOFFSETFROM:-0500
TZOFFSETTO:-0400
TZNAME:EDT
DTSTART:20260308T070000
END:DAYLIGHT
BEGIN:STANDARD
TZOFFSETFROM:-0400
TZOFFSETTO:-0500
TZNAME:EST
DTSTART:20261101T060000
END:STANDARD
END:VTIMEZONE
BEGIN:VEVENT
DTSTART;TZID=America/New_York:20250727T120000
DTEND;TZID=America/New_York:20250727T150000
DTSTAMP:20260422T060940
CREATED:20250727T174808Z
LAST-MODIFIED:20250727T174808Z
UID:8814-1753617600-1753628400@talcottcollective.com
SUMMARY:Meet Sean Lawson of Lawson's Finest!
DESCRIPTION:Come down to the Collective and get a Sip of Sunshine poured by the man himself\, Sean Lawson! Here until 3:00
URL:https://talcottcollective.com/event/meet-sean-lawson-of-lawsons-finest/
CATEGORIES:Promotion Night
ATTACH;FMTTYPE=image/jpeg:https://talcottcollective.com/wp-content/uploads/2025/07/IMG_8398-scaled.jpeg
END:VEVENT
BEGIN:VEVENT
DTSTART;TZID=America/New_York:20250727T130000
DTEND;TZID=America/New_York:20250727T190000
DTSTAMP:20260422T060940
CREATED:20250609T004941Z
LAST-MODIFIED:20250609T010445Z
UID:8402-1753621200-1753642800@talcottcollective.com
SUMMARY:Mama Nena Food Truck
DESCRIPTION:Serving fresh\, hand made tapas from across Spain
URL:https://talcottcollective.com/event/8389/2025-07-27/
CATEGORIES:Food Truck
ATTACH;FMTTYPE=image/png:https://talcottcollective.com/wp-content/uploads/2025/04/Mama-Nena-FoodTruck25.png
END:VEVENT
BEGIN:VEVENT
DTSTART;TZID=America/New_York:20250727T150000
DTEND;TZID=America/New_York:20250727T190000
DTSTAMP:20260422T060940
CREATED:20250711T001448Z
LAST-MODIFIED:20250711T001448Z
UID:8714-1753628400-1753642800@talcottcollective.com
SUMMARY:Decker Bandits & King Saison
DESCRIPTION:Get ready for a night of high-energy music with King Saison and The Decker Bandits – it’s gonna be a wild ride!
URL:https://talcottcollective.com/event/decker-bandits-king-saison/
CATEGORIES:Music
ATTACH;FMTTYPE=image/jpeg:https://talcottcollective.com/wp-content/uploads/2025/07/Decker-Bandits-King-Saison.jpg
END:VEVENT
END:VCALENDAR