BEGIN:VCALENDAR
VERSION:2.0
PRODID:-//Talcott Mountain Collective - ECPv6.15.20//NONSGML v1.0//EN
CALSCALE:GREGORIAN
METHOD:PUBLISH
X-WR-CALNAME:Talcott Mountain Collective
X-ORIGINAL-URL:https://talcottcollective.com
X-WR-CALDESC:Events for Talcott Mountain Collective
REFRESH-INTERVAL;VALUE=DURATION:PT1H
X-Robots-Tag:noindex
X-PUBLISHED-TTL:PT1H
BEGIN:VTIMEZONE
TZID:America/New_York
BEGIN:DAYLIGHT
TZOFFSETFROM:-0500
TZOFFSETTO:-0400
TZNAME:EDT
DTSTART:20240310T070000
END:DAYLIGHT
BEGIN:STANDARD
TZOFFSETFROM:-0400
TZOFFSETTO:-0500
TZNAME:EST
DTSTART:20241103T060000
END:STANDARD
BEGIN:DAYLIGHT
TZOFFSETFROM:-0500
TZOFFSETTO:-0400
TZNAME:EDT
DTSTART:20250309T070000
END:DAYLIGHT
BEGIN:STANDARD
TZOFFSETFROM:-0400
TZOFFSETTO:-0500
TZNAME:EST
DTSTART:20251102T060000
END:STANDARD
BEGIN:DAYLIGHT
TZOFFSETFROM:-0500
TZOFFSETTO:-0400
TZNAME:EDT
DTSTART:20260308T070000
END:DAYLIGHT
BEGIN:STANDARD
TZOFFSETFROM:-0400
TZOFFSETTO:-0500
TZNAME:EST
DTSTART:20261101T060000
END:STANDARD
END:VTIMEZONE
BEGIN:VEVENT
DTSTART;TZID=America/New_York:20250906T130000
DTEND;TZID=America/New_York:20250906T200000
DTSTAMP:20260421T191424
CREATED:20250830T174637Z
LAST-MODIFIED:20250830T174637Z
UID:8964-1757163600-1757188800@talcottcollective.com
SUMMARY:Lucan's Grill Food Truck
DESCRIPTION:
URL:https://talcottcollective.com/event/lucans-grill-food-truck-2/
CATEGORIES:Food Truck
ATTACH;FMTTYPE=image/jpeg:https://talcottcollective.com/wp-content/uploads/2025/05/Lucans-Grill-scaled.jpg
END:VEVENT
BEGIN:VEVENT
DTSTART;TZID=America/New_York:20250906T130000
DTEND;TZID=America/New_York:20250906T200000
DTSTAMP:20260421T191424
CREATED:20250830T175004Z
LAST-MODIFIED:20250830T175004Z
UID:8966-1757163600-1757188800@talcottcollective.com
SUMMARY:Pika Food Truck
DESCRIPTION:
URL:https://talcottcollective.com/event/pika-food-truck-5/2025-09-06/
CATEGORIES:Food Truck
ATTACH;FMTTYPE=image/jpeg:https://talcottcollective.com/wp-content/uploads/2025/04/FoodTruck-Pika-scaled.jpg
END:VEVENT
BEGIN:VEVENT
DTSTART;TZID=America/New_York:20250906T140000
DTEND;TZID=America/New_York:20250906T190000
DTSTAMP:20260421T191424
CREATED:20241001T152635Z
LAST-MODIFIED:20250601T193122Z
UID:7107-1757167200-1757185200@talcottcollective.com
SUMMARY:Vinyl Days With Wolfbain
DESCRIPTION:Our most popular music feature is now a weekly treat.
URL:https://talcottcollective.com/event/vinyl-days-with-wolfbain/2025-09-06/
CATEGORIES:Music
ATTACH;FMTTYPE=image/jpeg:https://talcottcollective.com/wp-content/uploads/2023/10/DJ-Wolfbain-2.jpg
END:VEVENT
BEGIN:VEVENT
DTSTART;TZID=America/New_York:20250906T180000
DTEND;TZID=America/New_York:20250906T210000
DTSTAMP:20260421T191424
CREATED:20250830T195942Z
LAST-MODIFIED:20250830T195942Z
UID:8996-1757181600-1757192400@talcottcollective.com
SUMMARY:Soggy Paper Cups & The Decker Bandits
DESCRIPTION:We’re BACK at @talcottcollective for an awesome show with The Decker Bandits! Come out\, bring some friends\, play a round of disc golf\, and have some fun with us! $10 Cover
URL:https://talcottcollective.com/event/soggy-paper-cups-the-decker-bandits/
CATEGORIES:Music
ATTACH;FMTTYPE=image/jpeg:https://talcottcollective.com/wp-content/uploads/2025/08/538763307_17890720794324772_6485031969582932684_n.jpg
END:VEVENT
END:VCALENDAR