BEGIN:VCALENDAR
VERSION:2.0
PRODID:-//Talcott Mountain Collective - ECPv6.15.20//NONSGML v1.0//EN
CALSCALE:GREGORIAN
METHOD:PUBLISH
X-ORIGINAL-URL:https://talcottcollective.com
X-WR-CALDESC:Events for Talcott Mountain Collective
REFRESH-INTERVAL;VALUE=DURATION:PT1H
X-Robots-Tag:noindex
X-PUBLISHED-TTL:PT1H
BEGIN:VTIMEZONE
TZID:America/New_York
BEGIN:DAYLIGHT
TZOFFSETFROM:-0500
TZOFFSETTO:-0400
TZNAME:EDT
DTSTART:20240310T070000
END:DAYLIGHT
BEGIN:STANDARD
TZOFFSETFROM:-0400
TZOFFSETTO:-0500
TZNAME:EST
DTSTART:20241103T060000
END:STANDARD
BEGIN:DAYLIGHT
TZOFFSETFROM:-0500
TZOFFSETTO:-0400
TZNAME:EDT
DTSTART:20250309T070000
END:DAYLIGHT
BEGIN:STANDARD
TZOFFSETFROM:-0400
TZOFFSETTO:-0500
TZNAME:EST
DTSTART:20251102T060000
END:STANDARD
BEGIN:DAYLIGHT
TZOFFSETFROM:-0500
TZOFFSETTO:-0400
TZNAME:EDT
DTSTART:20260308T070000
END:DAYLIGHT
BEGIN:STANDARD
TZOFFSETFROM:-0400
TZOFFSETTO:-0500
TZNAME:EST
DTSTART:20261101T060000
END:STANDARD
END:VTIMEZONE
BEGIN:VEVENT
DTSTART;TZID=America/New_York:20250907T130000
DTEND;TZID=America/New_York:20250907T200000
DTSTAMP:20260421T202226
CREATED:20250830T173840Z
LAST-MODIFIED:20250830T173840Z
UID:8946-1757250000-1757275200@talcottcollective.com
SUMMARY:Capt 'N Jerk Food Truck
DESCRIPTION:
URL:https://talcottcollective.com/event/capt-n-jerk-food-truck-10/2025-09-07/
CATEGORIES:Food Truck
ATTACH;FMTTYPE=image/jpeg:https://talcottcollective.com/wp-content/uploads/2025/04/FoodTruck-Capt-N-Jerk-scaled.jpg
END:VEVENT
BEGIN:VEVENT
DTSTART;TZID=America/New_York:20250907T160000
DTEND;TZID=America/New_York:20250907T190000
DTSTAMP:20260421T202226
CREATED:20250830T200215Z
LAST-MODIFIED:20250830T200215Z
UID:8999-1757260800-1757271600@talcottcollective.com
SUMMARY:Saintshouse
DESCRIPTION:Eddie Gautier\, a veteran and a songwriter\, with a distinct southern voice\, not of the beautiful NE area. Hailing from Texas\, sings classic and original songs about life.
URL:https://talcottcollective.com/event/saintshouse/
CATEGORIES:Music
ATTACH;FMTTYPE=image/jpeg:https://talcottcollective.com/wp-content/uploads/2025/03/Saintshouse-Eddie-Gautier.jpg
END:VEVENT
END:VCALENDAR