BEGIN:VCALENDAR
VERSION:2.0
PRODID:-//Talcott Mountain Collective - ECPv6.15.20//NONSGML v1.0//EN
CALSCALE:GREGORIAN
METHOD:PUBLISH
X-ORIGINAL-URL:https://talcottcollective.com
X-WR-CALDESC:Events for Talcott Mountain Collective
REFRESH-INTERVAL;VALUE=DURATION:PT1H
X-Robots-Tag:noindex
X-PUBLISHED-TTL:PT1H
BEGIN:VTIMEZONE
TZID:America/New_York
BEGIN:DAYLIGHT
TZOFFSETFROM:-0500
TZOFFSETTO:-0400
TZNAME:EDT
DTSTART:20240310T070000
END:DAYLIGHT
BEGIN:STANDARD
TZOFFSETFROM:-0400
TZOFFSETTO:-0500
TZNAME:EST
DTSTART:20241103T060000
END:STANDARD
BEGIN:DAYLIGHT
TZOFFSETFROM:-0500
TZOFFSETTO:-0400
TZNAME:EDT
DTSTART:20250309T070000
END:DAYLIGHT
BEGIN:STANDARD
TZOFFSETFROM:-0400
TZOFFSETTO:-0500
TZNAME:EST
DTSTART:20251102T060000
END:STANDARD
BEGIN:DAYLIGHT
TZOFFSETFROM:-0500
TZOFFSETTO:-0400
TZNAME:EDT
DTSTART:20260308T070000
END:DAYLIGHT
BEGIN:STANDARD
TZOFFSETFROM:-0400
TZOFFSETTO:-0500
TZNAME:EST
DTSTART:20261101T060000
END:STANDARD
END:VTIMEZONE
BEGIN:VEVENT
DTSTART;TZID=America/New_York:20250912T160000
DTEND;TZID=America/New_York:20250912T200000
DTSTAMP:20260421T224059
CREATED:20250830T175312Z
LAST-MODIFIED:20250830T175312Z
UID:8969-1757692800-1757707200@talcottcollective.com
SUMMARY:Elo's Hibachi
DESCRIPTION:
URL:https://talcottcollective.com/event/elos-hibachi/
CATEGORIES:Food Truck
ATTACH;FMTTYPE=image/jpeg:https://talcottcollective.com/wp-content/uploads/2025/04/FoodTruck-Elos-Hibachi-scaled.jpg
END:VEVENT
BEGIN:VEVENT
DTSTART;TZID=America/New_York:20250912T170000
DTEND;TZID=America/New_York:20250912T220000
DTSTAMP:20260421T224059
CREATED:20250830T212910Z
LAST-MODIFIED:20250830T212910Z
UID:9011-1757696400-1757714400@talcottcollective.com
SUMMARY:The Night Before the Hike
DESCRIPTION:The annual @hiketothemic 🥾🎤 is Sept 13 & 14 and as an official partner\, we are honored to once again host THE NIGHT BEFORE THE HIKE -Friday\, Sept 12 🤘🥳
URL:https://talcottcollective.com/event/the-night-before-the-hike/
CATEGORIES:Food Truck,Music
ATTACH;FMTTYPE=image/jpeg:https://talcottcollective.com/wp-content/uploads/2025/08/539579661_18043781288648158_637921555054449462_n.jpg
END:VEVENT
END:VCALENDAR