BEGIN:VCALENDAR
VERSION:2.0
PRODID:-//Talcott Mountain Collective - ECPv6.15.20//NONSGML v1.0//EN
CALSCALE:GREGORIAN
METHOD:PUBLISH
X-WR-CALNAME:Talcott Mountain Collective
X-ORIGINAL-URL:https://talcottcollective.com
X-WR-CALDESC:Events for Talcott Mountain Collective
REFRESH-INTERVAL;VALUE=DURATION:PT1H
X-Robots-Tag:noindex
X-PUBLISHED-TTL:PT1H
BEGIN:VTIMEZONE
TZID:America/New_York
BEGIN:DAYLIGHT
TZOFFSETFROM:-0500
TZOFFSETTO:-0400
TZNAME:EDT
DTSTART:20240310T070000
END:DAYLIGHT
BEGIN:STANDARD
TZOFFSETFROM:-0400
TZOFFSETTO:-0500
TZNAME:EST
DTSTART:20241103T060000
END:STANDARD
BEGIN:DAYLIGHT
TZOFFSETFROM:-0500
TZOFFSETTO:-0400
TZNAME:EDT
DTSTART:20250309T070000
END:DAYLIGHT
BEGIN:STANDARD
TZOFFSETFROM:-0400
TZOFFSETTO:-0500
TZNAME:EST
DTSTART:20251102T060000
END:STANDARD
BEGIN:DAYLIGHT
TZOFFSETFROM:-0500
TZOFFSETTO:-0400
TZNAME:EDT
DTSTART:20260308T070000
END:DAYLIGHT
BEGIN:STANDARD
TZOFFSETFROM:-0400
TZOFFSETTO:-0500
TZNAME:EST
DTSTART:20261101T060000
END:STANDARD
END:VTIMEZONE
BEGIN:VEVENT
DTSTART;TZID=America/New_York:20250914T130000
DTEND;TZID=America/New_York:20250914T190000
DTSTAMP:20260421T225307
CREATED:20250830T175923Z
LAST-MODIFIED:20250830T175923Z
UID:8977-1757854800-1757876400@talcottcollective.com
SUMMARY:Nibbles & Noms Food Truck
DESCRIPTION:
URL:https://talcottcollective.com/event/nibbles-noms-food-truck/2025-09-14/
CATEGORIES:Food Truck
ATTACH;FMTTYPE=image/jpeg:https://talcottcollective.com/wp-content/uploads/2025/04/FoodTruck-Nibbles-n-Noms-scaled.jpg
END:VEVENT
BEGIN:VEVENT
DTSTART;TZID=America/New_York:20250914T160000
DTEND;TZID=America/New_York:20250914T190000
DTSTAMP:20260421T225307
CREATED:20250910T193417Z
LAST-MODIFIED:20250910T193417Z
UID:9020-1757865600-1757876400@talcottcollective.com
SUMMARY:Joshua Aciares
DESCRIPTION:Joshua Aciares enchants the audience with his soulful voice and original music
URL:https://talcottcollective.com/event/joshua-aciares-2/
CATEGORIES:Music
ATTACH;FMTTYPE=image/jpeg:https://talcottcollective.com/wp-content/uploads/2025/06/Joshua-Aciares.jpg
END:VEVENT
BEGIN:VEVENT
DTSTART;TZID=America/New_York:20250914T160000
DTEND;TZID=America/New_York:20250914T200000
DTSTAMP:20260421T225307
CREATED:20250830T173840Z
LAST-MODIFIED:20250830T173840Z
UID:8948-1757865600-1757880000@talcottcollective.com
SUMMARY:Capt 'N Jerk Food Truck
DESCRIPTION:
URL:https://talcottcollective.com/event/capt-n-jerk-food-truck-10/2025-09-14/
CATEGORIES:Food Truck
ATTACH;FMTTYPE=image/jpeg:https://talcottcollective.com/wp-content/uploads/2025/04/FoodTruck-Capt-N-Jerk-scaled.jpg
END:VEVENT
END:VCALENDAR