BEGIN:VCALENDAR
VERSION:2.0
PRODID:-//Talcott Mountain Collective - ECPv6.15.20//NONSGML v1.0//EN
CALSCALE:GREGORIAN
METHOD:PUBLISH
X-ORIGINAL-URL:https://talcottcollective.com
X-WR-CALDESC:Events for Talcott Mountain Collective
REFRESH-INTERVAL;VALUE=DURATION:PT1H
X-Robots-Tag:noindex
X-PUBLISHED-TTL:PT1H
BEGIN:VTIMEZONE
TZID:America/New_York
BEGIN:DAYLIGHT
TZOFFSETFROM:-0500
TZOFFSETTO:-0400
TZNAME:EDT
DTSTART:20240310T070000
END:DAYLIGHT
BEGIN:STANDARD
TZOFFSETFROM:-0400
TZOFFSETTO:-0500
TZNAME:EST
DTSTART:20241103T060000
END:STANDARD
BEGIN:DAYLIGHT
TZOFFSETFROM:-0500
TZOFFSETTO:-0400
TZNAME:EDT
DTSTART:20250309T070000
END:DAYLIGHT
BEGIN:STANDARD
TZOFFSETFROM:-0400
TZOFFSETTO:-0500
TZNAME:EST
DTSTART:20251102T060000
END:STANDARD
BEGIN:DAYLIGHT
TZOFFSETFROM:-0500
TZOFFSETTO:-0400
TZNAME:EDT
DTSTART:20260308T070000
END:DAYLIGHT
BEGIN:STANDARD
TZOFFSETFROM:-0400
TZOFFSETTO:-0500
TZNAME:EST
DTSTART:20261101T060000
END:STANDARD
END:VTIMEZONE
BEGIN:VEVENT
DTSTART;TZID=America/New_York:20250920T130000
DTEND;TZID=America/New_York:20250920T200000
DTSTAMP:20260421T213111
CREATED:20250830T175004Z
LAST-MODIFIED:20250830T175004Z
UID:8967-1758373200-1758398400@talcottcollective.com
SUMMARY:Pika Food Truck
DESCRIPTION:
URL:https://talcottcollective.com/event/pika-food-truck-5/2025-09-20/
CATEGORIES:Food Truck
ATTACH;FMTTYPE=image/jpeg:https://talcottcollective.com/wp-content/uploads/2025/04/FoodTruck-Pika-scaled.jpg
END:VEVENT
BEGIN:VEVENT
DTSTART;TZID=America/New_York:20250920T130000
DTEND;TZID=America/New_York:20250920T200000
DTSTAMP:20260421T213111
CREATED:20250830T180731Z
LAST-MODIFIED:20250830T181043Z
UID:8982-1758373200-1758398400@talcottcollective.com
SUMMARY:Scatz BBQ Food Truck
DESCRIPTION:
URL:https://talcottcollective.com/event/scatz-bbq-food-truck-2/2025-09-20/
CATEGORIES:Food Truck
ATTACH;FMTTYPE=image/jpeg:https://talcottcollective.com/wp-content/uploads/2025/04/FoodTruck-Scatz-scaled.jpg
END:VEVENT
BEGIN:VEVENT
DTSTART;TZID=America/New_York:20250920T140000
DTEND;TZID=America/New_York:20250920T190000
DTSTAMP:20260421T213111
CREATED:20241001T152635Z
LAST-MODIFIED:20250601T193124Z
UID:7109-1758376800-1758394800@talcottcollective.com
SUMMARY:Vinyl Days With Wolfbain
DESCRIPTION:Our most popular music feature is now a weekly treat.
URL:https://talcottcollective.com/event/vinyl-days-with-wolfbain/2025-09-20/
CATEGORIES:Music
ATTACH;FMTTYPE=image/jpeg:https://talcottcollective.com/wp-content/uploads/2023/10/DJ-Wolfbain-2.jpg
END:VEVENT
BEGIN:VEVENT
DTSTART;TZID=America/New_York:20250920T150000
DTEND;TZID=America/New_York:20250920T180000
DTSTAMP:20260421T213111
CREATED:20250916T004704Z
LAST-MODIFIED:20250920T140859Z
UID:9022-1758380400-1758391200@talcottcollective.com
SUMMARY:Jeff Pitchell and Texas Flood-$10
DESCRIPTION:Blues Hall of Fame award winning guitarist Jeff Pitchell’s style blends B.B. King and Duane Allman\, which was endorsed by Gregg Allman. His diverse songwriting catalog recalls the variety of Eric Clapton’s classics and his vocal delivery\, which ranges from smooth tenderness to Billy Gibbons ZZ Top-like power\, received high praise from J. Geils. His songwriting award winning “An Eye for an Eye” was recorded by British blues legend John Mayall. $10 cover; children 12 and under are free
URL:https://talcottcollective.com/event/jeff-pitchell-and-texas-flood-20/
CATEGORIES:Music
ATTACH;FMTTYPE=image/webp:https://talcottcollective.com/wp-content/uploads/2025/05/Jeff-Pitchell-1.webp
END:VEVENT
BEGIN:VEVENT
DTSTART;TZID=America/New_York:20250920T200000
DTEND;TZID=America/New_York:20250920T223000
DTSTAMP:20260421T213111
CREATED:20250916T012902Z
LAST-MODIFIED:20250916T013006Z
UID:9024-1758398400-1758407400@talcottcollective.com
SUMMARY:Shout-The Doobie Brothers & Steely Dan Tribute $10
DESCRIPTION:Connecticut based tribute band Shout presents a tribute to Steely Dan and The Doobie Brothers! $10 Cover : 16+(under 18 must be accompanied by adult)
URL:https://talcottcollective.com/event/shout-doobie-brothers-steely-dan-tribute/
CATEGORIES:Music
ATTACH;FMTTYPE=image/jpeg:https://talcottcollective.com/wp-content/uploads/2025/09/Shout-DoobieSteely-920.jpg
END:VEVENT
END:VCALENDAR