BEGIN:VCALENDAR
VERSION:2.0
PRODID:-//Talcott Mountain Collective - ECPv6.15.20//NONSGML v1.0//EN
CALSCALE:GREGORIAN
METHOD:PUBLISH
X-ORIGINAL-URL:https://talcottcollective.com
X-WR-CALDESC:Events for Talcott Mountain Collective
REFRESH-INTERVAL;VALUE=DURATION:PT1H
X-Robots-Tag:noindex
X-PUBLISHED-TTL:PT1H
BEGIN:VTIMEZONE
TZID:America/New_York
BEGIN:DAYLIGHT
TZOFFSETFROM:-0500
TZOFFSETTO:-0400
TZNAME:EDT
DTSTART:20240310T070000
END:DAYLIGHT
BEGIN:STANDARD
TZOFFSETFROM:-0400
TZOFFSETTO:-0500
TZNAME:EST
DTSTART:20241103T060000
END:STANDARD
BEGIN:DAYLIGHT
TZOFFSETFROM:-0500
TZOFFSETTO:-0400
TZNAME:EDT
DTSTART:20250309T070000
END:DAYLIGHT
BEGIN:STANDARD
TZOFFSETFROM:-0400
TZOFFSETTO:-0500
TZNAME:EST
DTSTART:20251102T060000
END:STANDARD
BEGIN:DAYLIGHT
TZOFFSETFROM:-0500
TZOFFSETTO:-0400
TZNAME:EDT
DTSTART:20260308T070000
END:DAYLIGHT
BEGIN:STANDARD
TZOFFSETFROM:-0400
TZOFFSETTO:-0500
TZNAME:EST
DTSTART:20261101T060000
END:STANDARD
END:VTIMEZONE
BEGIN:VEVENT
DTSTART;TZID=America/New_York:20250927T130000
DTEND;TZID=America/New_York:20250927T200000
DTSTAMP:20260421T202319
CREATED:20250609T011646Z
LAST-MODIFIED:20250609T014914Z
UID:8439-1758978000-1759003200@talcottcollective.com
SUMMARY:Samba e Favela Food Truck
DESCRIPTION:We are taking Street Food to a new level with a delicious fusion of Brazilian\, Latin and Spanish Food
URL:https://talcottcollective.com/event/samba-e-favela-food-truck/2025-09-27/
CATEGORIES:Food Truck
ATTACH;FMTTYPE=image/jpeg:https://talcottcollective.com/wp-content/uploads/2025/04/FoodTruck-Samba-scaled.jpg
END:VEVENT
BEGIN:VEVENT
DTSTART;TZID=America/New_York:20250927T130000
DTEND;TZID=America/New_York:20250927T200000
DTSTAMP:20260421T202319
CREATED:20250830T180731Z
LAST-MODIFIED:20251109T202443Z
UID:8983-1758978000-1759003200@talcottcollective.com
SUMMARY:Scatz BBQ Food Truck
DESCRIPTION:
URL:https://talcottcollective.com/event/scatz-bbq-food-truck-2-2025-09-27/2025-09-27/
CATEGORIES:Food Truck
ATTACH;FMTTYPE=image/jpeg:https://talcottcollective.com/wp-content/uploads/2025/04/FoodTruck-Scatz-scaled.jpg
END:VEVENT
BEGIN:VEVENT
DTSTART;TZID=America/New_York:20250927T140000
DTEND;TZID=America/New_York:20250927T190000
DTSTAMP:20260421T202319
CREATED:20241001T152635Z
LAST-MODIFIED:20250601T193124Z
UID:7110-1758981600-1758999600@talcottcollective.com
SUMMARY:Vinyl Days With Wolfbain
DESCRIPTION:Our most popular music feature is now a weekly treat.
URL:https://talcottcollective.com/event/vinyl-days-with-wolfbain/2025-09-27/
CATEGORIES:Music
ATTACH;FMTTYPE=image/jpeg:https://talcottcollective.com/wp-content/uploads/2023/10/DJ-Wolfbain-2.jpg
END:VEVENT
BEGIN:VEVENT
DTSTART;TZID=America/New_York:20250927T183000
DTEND;TZID=America/New_York:20250927T210000
DTSTAMP:20260421T202319
CREATED:20250922T221633Z
LAST-MODIFIED:20250922T231514Z
UID:9053-1758997800-1759006800@talcottcollective.com
SUMMARY:John Spignesi Band
DESCRIPTION:“Spignesi leads the way\, in the way a leader should.”-Rene Cobar\, New England Music Magazine\nBorn from a shared passion\, John Spignesi’s music embodies the essence of honesty. What you see is what you get.\nSpigs is joined by two musicians who have worked tirelessly over the years\, honing their craft. Joe Jeffery (Bass) and Matt Alling (Drums) complete the power trio and help bring the visions of Spignesi’s songs to life. At the heart of JSB lies a deeper relationship than just simple collaboration — it’s a brotherhood that extends beyond the stage amongst the three.\nThe band has released music consistently since their formation. With every single live show being recorded\, and numerous official studio and live releases consistently being made available to the public\, JSB has captured listeners across the USA and beyond.\nSpignesi’s ultimate goal is to create music that makes listeners forget about the chaos of the world\, if only for a brief moment. The band invites you along for the journey as they continue to grow and create.\nAll are welcome here.
URL:https://talcottcollective.com/event/john-spignesi-band/
CATEGORIES:Music
ATTACH;FMTTYPE=image/jpeg:https://talcottcollective.com/wp-content/uploads/2025/09/John-Spignesi-Band.jpg
END:VEVENT
END:VCALENDAR