BEGIN:VCALENDAR
VERSION:2.0
PRODID:-//Talcott Mountain Collective - ECPv6.15.20//NONSGML v1.0//EN
CALSCALE:GREGORIAN
METHOD:PUBLISH
X-ORIGINAL-URL:https://talcottcollective.com
X-WR-CALDESC:Events for Talcott Mountain Collective
REFRESH-INTERVAL;VALUE=DURATION:PT1H
X-Robots-Tag:noindex
X-PUBLISHED-TTL:PT1H
BEGIN:VTIMEZONE
TZID:America/New_York
BEGIN:DAYLIGHT
TZOFFSETFROM:-0500
TZOFFSETTO:-0400
TZNAME:EDT
DTSTART:20240310T070000
END:DAYLIGHT
BEGIN:STANDARD
TZOFFSETFROM:-0400
TZOFFSETTO:-0500
TZNAME:EST
DTSTART:20241103T060000
END:STANDARD
BEGIN:DAYLIGHT
TZOFFSETFROM:-0500
TZOFFSETTO:-0400
TZNAME:EDT
DTSTART:20250309T070000
END:DAYLIGHT
BEGIN:STANDARD
TZOFFSETFROM:-0400
TZOFFSETTO:-0500
TZNAME:EST
DTSTART:20251102T060000
END:STANDARD
BEGIN:DAYLIGHT
TZOFFSETFROM:-0500
TZOFFSETTO:-0400
TZNAME:EDT
DTSTART:20260308T070000
END:DAYLIGHT
BEGIN:STANDARD
TZOFFSETFROM:-0400
TZOFFSETTO:-0500
TZNAME:EST
DTSTART:20261101T060000
END:STANDARD
END:VTIMEZONE
BEGIN:VEVENT
DTSTART;TZID=America/New_York:20251101T130000
DTEND;TZID=America/New_York:20251101T200000
DTSTAMP:20260421T210251
CREATED:20250930T022419Z
LAST-MODIFIED:20250930T022419Z
UID:9148-1762002000-1762027200@talcottcollective.com
SUMMARY:Pika Food Truck
DESCRIPTION:
URL:https://talcottcollective.com/event/pika-food-truck-7/
CATEGORIES:Food Truck
ATTACH;FMTTYPE=image/jpeg:https://talcottcollective.com/wp-content/uploads/2025/04/FoodTruck-Pika-scaled.jpg
END:VEVENT
BEGIN:VEVENT
DTSTART;TZID=America/New_York:20251101T140000
DTEND;TZID=America/New_York:20251101T190000
DTSTAMP:20260421T210251
CREATED:20241001T152635Z
LAST-MODIFIED:20250601T193129Z
UID:7115-1762005600-1762023600@talcottcollective.com
SUMMARY:Vinyl Days With Wolfbain
DESCRIPTION:Our most popular music feature is now a weekly treat.
URL:https://talcottcollective.com/event/vinyl-days-with-wolfbain/2025-11-01/
CATEGORIES:Music
ATTACH;FMTTYPE=image/jpeg:https://talcottcollective.com/wp-content/uploads/2023/10/DJ-Wolfbain-2.jpg
END:VEVENT
BEGIN:VEVENT
DTSTART;TZID=America/New_York:20251101T190000
DTEND;TZID=America/New_York:20251101T220000
DTSTAMP:20260421T210251
CREATED:20250929T030822Z
LAST-MODIFIED:20250929T030822Z
UID:9137-1762023600-1762034400@talcottcollective.com
SUMMARY:Rob Glassman Band
DESCRIPTION:ROB GLASSMAN BAND is a well-known\, high-energy classic rock jam band\, whose songs often flow from one song into the next\, mixing standard jams with lots of free-flowing\, improvisational jams.
URL:https://talcottcollective.com/event/rob-glassman-band-2/
CATEGORIES:Music
ATTACH;FMTTYPE=image/jpeg:https://talcottcollective.com/wp-content/uploads/2025/09/LOGO2025.jpg
END:VEVENT
END:VCALENDAR