BEGIN:VCALENDAR
VERSION:2.0
PRODID:-//Talcott Mountain Collective - ECPv6.15.20//NONSGML v1.0//EN
CALSCALE:GREGORIAN
METHOD:PUBLISH
X-WR-CALNAME:Talcott Mountain Collective
X-ORIGINAL-URL:https://talcottcollective.com
X-WR-CALDESC:Events for Talcott Mountain Collective
REFRESH-INTERVAL;VALUE=DURATION:PT1H
X-Robots-Tag:noindex
X-PUBLISHED-TTL:PT1H
BEGIN:VTIMEZONE
TZID:America/New_York
BEGIN:DAYLIGHT
TZOFFSETFROM:-0500
TZOFFSETTO:-0400
TZNAME:EDT
DTSTART:20240310T070000
END:DAYLIGHT
BEGIN:STANDARD
TZOFFSETFROM:-0400
TZOFFSETTO:-0500
TZNAME:EST
DTSTART:20241103T060000
END:STANDARD
BEGIN:DAYLIGHT
TZOFFSETFROM:-0500
TZOFFSETTO:-0400
TZNAME:EDT
DTSTART:20250309T070000
END:DAYLIGHT
BEGIN:STANDARD
TZOFFSETFROM:-0400
TZOFFSETTO:-0500
TZNAME:EST
DTSTART:20251102T060000
END:STANDARD
BEGIN:DAYLIGHT
TZOFFSETFROM:-0500
TZOFFSETTO:-0400
TZNAME:EDT
DTSTART:20260308T070000
END:DAYLIGHT
BEGIN:STANDARD
TZOFFSETFROM:-0400
TZOFFSETTO:-0500
TZNAME:EST
DTSTART:20261101T060000
END:STANDARD
END:VTIMEZONE
BEGIN:VEVENT
DTSTART;TZID=America/New_York:20251207T130000
DTEND;TZID=America/New_York:20251207T200000
DTSTAMP:20260419T140730
CREATED:20251109T201607Z
LAST-MODIFIED:20251112T222013Z
UID:9283-1765112400-1765137600@talcottcollective.com
SUMMARY:Mama Nena Food Truck
DESCRIPTION:
URL:https://talcottcollective.com/event/mama-nena-food-truck-8-2025-11-23/2025-12-07/
ATTACH;FMTTYPE=image/png:https://talcottcollective.com/wp-content/uploads/2025/04/Mama-Nena-FoodTruck25.png
END:VEVENT
BEGIN:VEVENT
DTSTART;TZID=America/New_York:20251207T150000
DTEND;TZID=America/New_York:20251207T180000
DTSTAMP:20260419T140730
CREATED:20251116T205955Z
LAST-MODIFIED:20251116T205955Z
UID:9336-1765119600-1765130400@talcottcollective.com
SUMMARY:Michael Sasportas Solo
DESCRIPTION:Live Music with Michael Sasportas
URL:https://talcottcollective.com/event/michael-sasportas-solo-6/2025-12-07/
CATEGORIES:Music
ATTACH;FMTTYPE=image/jpeg:https://talcottcollective.com/wp-content/uploads/2022/04/Sasportas-e1650576952684.jpg
END:VEVENT
END:VCALENDAR