BEGIN:VCALENDAR
VERSION:2.0
PRODID:-//Talcott Mountain Collective - ECPv6.15.20//NONSGML v1.0//EN
CALSCALE:GREGORIAN
METHOD:PUBLISH
X-ORIGINAL-URL:https://talcottcollective.com
X-WR-CALDESC:Events for Talcott Mountain Collective
REFRESH-INTERVAL;VALUE=DURATION:PT1H
X-Robots-Tag:noindex
X-PUBLISHED-TTL:PT1H
BEGIN:VTIMEZONE
TZID:America/New_York
BEGIN:DAYLIGHT
TZOFFSETFROM:-0500
TZOFFSETTO:-0400
TZNAME:EDT
DTSTART:20210314T070000
END:DAYLIGHT
BEGIN:STANDARD
TZOFFSETFROM:-0400
TZOFFSETTO:-0500
TZNAME:EST
DTSTART:20211107T060000
END:STANDARD
BEGIN:DAYLIGHT
TZOFFSETFROM:-0500
TZOFFSETTO:-0400
TZNAME:EDT
DTSTART:20220313T070000
END:DAYLIGHT
BEGIN:STANDARD
TZOFFSETFROM:-0400
TZOFFSETTO:-0500
TZNAME:EST
DTSTART:20221106T060000
END:STANDARD
BEGIN:DAYLIGHT
TZOFFSETFROM:-0500
TZOFFSETTO:-0400
TZNAME:EDT
DTSTART:20230312T070000
END:DAYLIGHT
BEGIN:STANDARD
TZOFFSETFROM:-0400
TZOFFSETTO:-0500
TZNAME:EST
DTSTART:20231105T060000
END:STANDARD
END:VTIMEZONE
BEGIN:VEVENT
DTSTART;TZID=America/New_York:20220714T170000
DTEND;TZID=America/New_York:20220714T210000
DTSTAMP:20260424T092706
CREATED:20220712T134903Z
LAST-MODIFIED:20220712T134903Z
UID:2569-1657818000-1657832400@talcottcollective.com
SUMMARY:Tower Power - An evening of live music and support for Heublein Tower
DESCRIPTION:Special Thursday Event: Tower Power\nFeaturing:\n\nOur weekly Oyster Bar hosted by Deepwater Seafood (5-8)\nFree Live Music w 7 Below – A Tribute to Phish (acoustic duo 6-9)\nLunch Hours Promo 12-3\nHappy Hour 12-6\nAdditional onsite promos and events to benefit Friends of Heublein Tower
URL:https://talcottcollective.com/event/tower-power-an-evening-of-live-music-and-support-for-heublein-tower/
CATEGORIES:Food Truck,Fundraiser,Music,Promotion Night
ATTACH;FMTTYPE=image/jpeg:https://talcottcollective.com/wp-content/uploads/2022/07/Tower-Power.jpg
END:VEVENT
BEGIN:VEVENT
DTSTART;TZID=America/New_York:20220519T183000
DTEND;TZID=America/New_York:20220519T210000
DTSTAMP:20260424T092706
CREATED:20220510T142717Z
LAST-MODIFIED:20220510T142717Z
UID:2152-1652985000-1652994000@talcottcollective.com
SUMMARY:Home Is Where The Heart Is Fundraiser
DESCRIPTION:Journey Home is a team of innovative problem solvers who are passionate about ending homelessness in our community. Founded in 2007\, Journey Home has grown to become a strategic leader and valued partner for homeless service providers throughout the region. \nThis is a ticketed event and the Collective will be closed to the public during the event. Tickets and more information available here:
URL:https://talcottcollective.com/event/home-is-where-the-heart-is-fundraiser/
CATEGORIES:Fundraiser,Private Event
ATTACH;FMTTYPE=image/jpeg:https://talcottcollective.com/wp-content/uploads/2022/05/sitebanner.jpg
END:VEVENT
END:VCALENDAR