BEGIN:VCALENDAR
VERSION:2.0
PRODID:-//Talcott Mountain Collective - ECPv6.15.20//NONSGML v1.0//EN
CALSCALE:GREGORIAN
METHOD:PUBLISH
X-ORIGINAL-URL:https://talcottcollective.com
X-WR-CALDESC:Events for Talcott Mountain Collective
REFRESH-INTERVAL;VALUE=DURATION:PT1H
X-Robots-Tag:noindex
X-PUBLISHED-TTL:PT1H
BEGIN:VTIMEZONE
TZID:America/New_York
BEGIN:DAYLIGHT
TZOFFSETFROM:-0500
TZOFFSETTO:-0400
TZNAME:EDT
DTSTART:20250309T070000
END:DAYLIGHT
BEGIN:STANDARD
TZOFFSETFROM:-0400
TZOFFSETTO:-0500
TZNAME:EST
DTSTART:20251102T060000
END:STANDARD
BEGIN:DAYLIGHT
TZOFFSETFROM:-0500
TZOFFSETTO:-0400
TZNAME:EDT
DTSTART:20260308T070000
END:DAYLIGHT
BEGIN:STANDARD
TZOFFSETFROM:-0400
TZOFFSETTO:-0500
TZNAME:EST
DTSTART:20261101T060000
END:STANDARD
BEGIN:DAYLIGHT
TZOFFSETFROM:-0500
TZOFFSETTO:-0400
TZNAME:EDT
DTSTART:20270314T070000
END:DAYLIGHT
BEGIN:STANDARD
TZOFFSETFROM:-0400
TZOFFSETTO:-0500
TZNAME:EST
DTSTART:20271107T060000
END:STANDARD
END:VTIMEZONE
BEGIN:VEVENT
DTSTART;TZID=America/New_York:20260825T183000
DTEND;TZID=America/New_York:20260825T210000
DTSTAMP:20260424T230724
CREATED:20260113T151928Z
LAST-MODIFIED:20260113T151928Z
UID:10965-1787682600-1787691600@talcottcollective.com
SUMMARY:Open Mic Night! Hosted by Michael Sasportas
DESCRIPTION:Weekly Open Mic: Hosted By Michael Sasportas \nText: 860-480-7300 to sign up!
URL:https://talcottcollective.com/event/open-mic-night-hosted-by-michael-sasportas-2-2026-04-09/2026-08-25/
CATEGORIES:Music,Open Mic
ATTACH;FMTTYPE=image/jpeg:https://talcottcollective.com/wp-content/uploads/2025/03/OpenMic.jpg
END:VEVENT
BEGIN:VEVENT
DTSTART;TZID=America/New_York:20260901T183000
DTEND;TZID=America/New_York:20260901T210000
DTSTAMP:20260424T230724
CREATED:20260113T151928Z
LAST-MODIFIED:20260113T151928Z
UID:10966-1788287400-1788296400@talcottcollective.com
SUMMARY:Open Mic Night! Hosted by Michael Sasportas
DESCRIPTION:Weekly Open Mic: Hosted By Michael Sasportas \nText: 860-480-7300 to sign up!
URL:https://talcottcollective.com/event/open-mic-night-hosted-by-michael-sasportas-2-2026-04-09/2026-09-01/
CATEGORIES:Music,Open Mic
ATTACH;FMTTYPE=image/jpeg:https://talcottcollective.com/wp-content/uploads/2025/03/OpenMic.jpg
END:VEVENT
BEGIN:VEVENT
DTSTART;TZID=America/New_York:20260908T183000
DTEND;TZID=America/New_York:20260908T210000
DTSTAMP:20260424T230724
CREATED:20260113T151928Z
LAST-MODIFIED:20260113T151928Z
UID:10967-1788892200-1788901200@talcottcollective.com
SUMMARY:Open Mic Night! Hosted by Michael Sasportas
DESCRIPTION:Weekly Open Mic: Hosted By Michael Sasportas \nText: 860-480-7300 to sign up!
URL:https://talcottcollective.com/event/open-mic-night-hosted-by-michael-sasportas-2-2026-04-09/2026-09-08/
CATEGORIES:Music,Open Mic
ATTACH;FMTTYPE=image/jpeg:https://talcottcollective.com/wp-content/uploads/2025/03/OpenMic.jpg
END:VEVENT
BEGIN:VEVENT
DTSTART;TZID=America/New_York:20260915T183000
DTEND;TZID=America/New_York:20260915T210000
DTSTAMP:20260424T230724
CREATED:20260113T151928Z
LAST-MODIFIED:20260113T151928Z
UID:10968-1789497000-1789506000@talcottcollective.com
SUMMARY:Open Mic Night! Hosted by Michael Sasportas
DESCRIPTION:Weekly Open Mic: Hosted By Michael Sasportas \nText: 860-480-7300 to sign up!
URL:https://talcottcollective.com/event/open-mic-night-hosted-by-michael-sasportas-2-2026-04-09/2026-09-15/
CATEGORIES:Music,Open Mic
ATTACH;FMTTYPE=image/jpeg:https://talcottcollective.com/wp-content/uploads/2025/03/OpenMic.jpg
END:VEVENT
BEGIN:VEVENT
DTSTART;TZID=America/New_York:20260922T183000
DTEND;TZID=America/New_York:20260922T210000
DTSTAMP:20260424T230724
CREATED:20260113T151928Z
LAST-MODIFIED:20260113T151928Z
UID:10969-1790101800-1790110800@talcottcollective.com
SUMMARY:Open Mic Night! Hosted by Michael Sasportas
DESCRIPTION:Weekly Open Mic: Hosted By Michael Sasportas \nText: 860-480-7300 to sign up!
URL:https://talcottcollective.com/event/open-mic-night-hosted-by-michael-sasportas-2-2026-04-09/2026-09-22/
CATEGORIES:Music,Open Mic
ATTACH;FMTTYPE=image/jpeg:https://talcottcollective.com/wp-content/uploads/2025/03/OpenMic.jpg
END:VEVENT
BEGIN:VEVENT
DTSTART;TZID=America/New_York:20260929T183000
DTEND;TZID=America/New_York:20260929T210000
DTSTAMP:20260424T230724
CREATED:20260113T151928Z
LAST-MODIFIED:20260113T151928Z
UID:10970-1790706600-1790715600@talcottcollective.com
SUMMARY:Open Mic Night! Hosted by Michael Sasportas
DESCRIPTION:Weekly Open Mic: Hosted By Michael Sasportas \nText: 860-480-7300 to sign up!
URL:https://talcottcollective.com/event/open-mic-night-hosted-by-michael-sasportas-2-2026-04-09/2026-09-29/
CATEGORIES:Music,Open Mic
ATTACH;FMTTYPE=image/jpeg:https://talcottcollective.com/wp-content/uploads/2025/03/OpenMic.jpg
END:VEVENT
BEGIN:VEVENT
DTSTART;TZID=America/New_York:20261006T183000
DTEND;TZID=America/New_York:20261006T210000
DTSTAMP:20260424T230724
CREATED:20260113T151928Z
LAST-MODIFIED:20260113T151928Z
UID:10971-1791311400-1791320400@talcottcollective.com
SUMMARY:Open Mic Night! Hosted by Michael Sasportas
DESCRIPTION:Weekly Open Mic: Hosted By Michael Sasportas \nText: 860-480-7300 to sign up!
URL:https://talcottcollective.com/event/open-mic-night-hosted-by-michael-sasportas-2-2026-04-09/2026-10-06/
CATEGORIES:Music,Open Mic
ATTACH;FMTTYPE=image/jpeg:https://talcottcollective.com/wp-content/uploads/2025/03/OpenMic.jpg
END:VEVENT
BEGIN:VEVENT
DTSTART;TZID=America/New_York:20261013T183000
DTEND;TZID=America/New_York:20261013T210000
DTSTAMP:20260424T230724
CREATED:20260113T151928Z
LAST-MODIFIED:20260113T151928Z
UID:10972-1791916200-1791925200@talcottcollective.com
SUMMARY:Open Mic Night! Hosted by Michael Sasportas
DESCRIPTION:Weekly Open Mic: Hosted By Michael Sasportas \nText: 860-480-7300 to sign up!
URL:https://talcottcollective.com/event/open-mic-night-hosted-by-michael-sasportas-2-2026-04-09/2026-10-13/
CATEGORIES:Music,Open Mic
ATTACH;FMTTYPE=image/jpeg:https://talcottcollective.com/wp-content/uploads/2025/03/OpenMic.jpg
END:VEVENT
BEGIN:VEVENT
DTSTART;TZID=America/New_York:20261020T183000
DTEND;TZID=America/New_York:20261020T210000
DTSTAMP:20260424T230724
CREATED:20260113T151928Z
LAST-MODIFIED:20260113T151928Z
UID:10973-1792521000-1792530000@talcottcollective.com
SUMMARY:Open Mic Night! Hosted by Michael Sasportas
DESCRIPTION:Weekly Open Mic: Hosted By Michael Sasportas \nText: 860-480-7300 to sign up!
URL:https://talcottcollective.com/event/open-mic-night-hosted-by-michael-sasportas-2-2026-04-09/2026-10-20/
CATEGORIES:Music,Open Mic
ATTACH;FMTTYPE=image/jpeg:https://talcottcollective.com/wp-content/uploads/2025/03/OpenMic.jpg
END:VEVENT
BEGIN:VEVENT
DTSTART;TZID=America/New_York:20261027T183000
DTEND;TZID=America/New_York:20261027T210000
DTSTAMP:20260424T230724
CREATED:20260113T151928Z
LAST-MODIFIED:20260113T151928Z
UID:10974-1793125800-1793134800@talcottcollective.com
SUMMARY:Open Mic Night! Hosted by Michael Sasportas
DESCRIPTION:Weekly Open Mic: Hosted By Michael Sasportas \nText: 860-480-7300 to sign up!
URL:https://talcottcollective.com/event/open-mic-night-hosted-by-michael-sasportas-2-2026-04-09/2026-10-27/
CATEGORIES:Music,Open Mic
ATTACH;FMTTYPE=image/jpeg:https://talcottcollective.com/wp-content/uploads/2025/03/OpenMic.jpg
END:VEVENT
END:VCALENDAR