BEGIN:VCALENDAR
VERSION:2.0
PRODID:-//Talcott Mountain Collective - ECPv6.15.20//NONSGML v1.0//EN
CALSCALE:GREGORIAN
METHOD:PUBLISH
X-WR-CALNAME:Talcott Mountain Collective
X-ORIGINAL-URL:https://talcottcollective.com
X-WR-CALDESC:Events for Talcott Mountain Collective
REFRESH-INTERVAL;VALUE=DURATION:PT1H
X-Robots-Tag:noindex
X-PUBLISHED-TTL:PT1H
BEGIN:VTIMEZONE
TZID:America/New_York
BEGIN:DAYLIGHT
TZOFFSETFROM:-0500
TZOFFSETTO:-0400
TZNAME:EDT
DTSTART:20240310T070000
END:DAYLIGHT
BEGIN:STANDARD
TZOFFSETFROM:-0400
TZOFFSETTO:-0500
TZNAME:EST
DTSTART:20241103T060000
END:STANDARD
BEGIN:DAYLIGHT
TZOFFSETFROM:-0500
TZOFFSETTO:-0400
TZNAME:EDT
DTSTART:20250309T070000
END:DAYLIGHT
BEGIN:STANDARD
TZOFFSETFROM:-0400
TZOFFSETTO:-0500
TZNAME:EST
DTSTART:20251102T060000
END:STANDARD
BEGIN:DAYLIGHT
TZOFFSETFROM:-0500
TZOFFSETTO:-0400
TZNAME:EDT
DTSTART:20260308T070000
END:DAYLIGHT
BEGIN:STANDARD
TZOFFSETFROM:-0400
TZOFFSETTO:-0500
TZNAME:EST
DTSTART:20261101T060000
END:STANDARD
END:VTIMEZONE
BEGIN:VEVENT
DTSTART;TZID=America/New_York:20251121T190000
DTEND;TZID=America/New_York:20251121T220000
DTSTAMP:20260419T174005
CREATED:20251112T222633Z
LAST-MODIFIED:20251112T222633Z
UID:9293-1763751600-1763762400@talcottcollective.com
SUMMARY:Righteous Continental
DESCRIPTION:
URL:https://talcottcollective.com/event/righteous-continental-3/
CATEGORIES:Music
ATTACH;FMTTYPE=image/png:https://talcottcollective.com/wp-content/uploads/2023/05/Righteous.png
END:VEVENT
BEGIN:VEVENT
DTSTART;TZID=America/New_York:20251120T183000
DTEND;TZID=America/New_York:20251120T213000
DTSTAMP:20260419T174005
CREATED:20251109T201049Z
LAST-MODIFIED:20251109T201215Z
UID:9262-1763663400-1763674200@talcottcollective.com
SUMMARY:Open Mic Night! Hosted By Michael Sasportas
DESCRIPTION:Weekly Open Mic: Hosted By Michael Sasportas \nText: 860-480-7300 to sign up!
URL:https://talcottcollective.com/event/open-mic-night-hosted-by-michael-sasportas/2025-11-20/
CATEGORIES:Music,Open Mic
ATTACH;FMTTYPE=image/jpeg:https://talcottcollective.com/wp-content/uploads/2025/03/OpenMic.jpg
END:VEVENT
BEGIN:VEVENT
DTSTART;TZID=America/New_York:20251120T160000
DTEND;TZID=America/New_York:20251120T200000
DTSTAMP:20260419T174005
CREATED:20250830T173840Z
LAST-MODIFIED:20250830T173840Z
UID:8960-1763654400-1763668800@talcottcollective.com
SUMMARY:Capt 'N Jerk Food Truck
DESCRIPTION:
URL:https://talcottcollective.com/event/capt-n-jerk-food-truck-10/2025-11-20/
CATEGORIES:Food Truck
ATTACH;FMTTYPE=image/jpeg:https://talcottcollective.com/wp-content/uploads/2025/04/FoodTruck-Capt-N-Jerk-scaled.jpg
END:VEVENT
BEGIN:VEVENT
DTSTART;TZID=America/New_York:20251119T180000
DTEND;TZID=America/New_York:20251119T210000
DTSTAMP:20260419T174005
CREATED:20251113T173531Z
LAST-MODIFIED:20251113T173531Z
UID:9306-1763575200-1763586000@talcottcollective.com
SUMMARY:Next Half Mile
DESCRIPTION:
URL:https://talcottcollective.com/event/next-half-mile/
CATEGORIES:Music
ATTACH;FMTTYPE=image/jpeg:https://talcottcollective.com/wp-content/uploads/2025/11/Next-Half-Mile-1.jpg
END:VEVENT
BEGIN:VEVENT
DTSTART;TZID=America/New_York:20251116T150000
DTEND;TZID=America/New_York:20251116T180000
DTSTAMP:20260419T174005
CREATED:20250930T031850Z
LAST-MODIFIED:20251112T222457Z
UID:9170-1763305200-1763316000@talcottcollective.com
SUMMARY:John Mayock & Dennis Francher
DESCRIPTION:John Mayock is a singer\, song stylist\, and writer with deep roots in Folk\, Rock\, and Country music. An accomplished guitarist who also plays harmonica\, mandolin\, and piano\, John has shared the stage with  diverse artists including Greg Allman\, NRBQ\, Dar Williams\, and Jonathan Edwards. His live performances reflect his love of music\, and his repertoire is extensive and unique.
URL:https://talcottcollective.com/event/john-mayock-16/
CATEGORIES:Music
ATTACH;FMTTYPE=image/jpeg:https://talcottcollective.com/wp-content/uploads/2024/10/John-mayock.jpg
END:VEVENT
BEGIN:VEVENT
DTSTART;TZID=America/New_York:20251115T200000
DTEND;TZID=America/New_York:20251115T223000
DTSTAMP:20260419T174005
CREATED:20250930T031723Z
LAST-MODIFIED:20251112T222328Z
UID:9168-1763236800-1763245800@talcottcollective.com
SUMMARY:Ulysses and the Leftys/21+
DESCRIPTION:Bring a friend\, grab a drink and get groovy with us!
URL:https://talcottcollective.com/event/ulysses-and-the-leftys-2/
CATEGORIES:21+ Event,Music
ATTACH;FMTTYPE=image/jpeg:https://talcottcollective.com/wp-content/uploads/2025/08/Ulysses-TMC-e1759202005556.jpg
END:VEVENT
BEGIN:VEVENT
DTSTART;TZID=America/New_York:20251115T140000
DTEND;TZID=America/New_York:20251115T190000
DTSTAMP:20260419T174005
CREATED:20241001T152635Z
LAST-MODIFIED:20250601T193130Z
UID:7117-1763215200-1763233200@talcottcollective.com
SUMMARY:Vinyl Days With Wolfbain
DESCRIPTION:Our most popular music feature is now a weekly treat.
URL:https://talcottcollective.com/event/vinyl-days-with-wolfbain/2025-11-15/
CATEGORIES:Music
ATTACH;FMTTYPE=image/jpeg:https://talcottcollective.com/wp-content/uploads/2023/10/DJ-Wolfbain-2.jpg
END:VEVENT
BEGIN:VEVENT
DTSTART;TZID=America/New_York:20251114T180000
DTEND;TZID=America/New_York:20251114T210000
DTSTAMP:20260419T174005
CREATED:20250930T031145Z
LAST-MODIFIED:20251112T222136Z
UID:9166-1763143200-1763154000@talcottcollective.com
SUMMARY:Ava Grom
DESCRIPTION:
URL:https://talcottcollective.com/event/7-below-acoustic/
CATEGORIES:Music
ATTACH;FMTTYPE=image/png:https://talcottcollective.com/wp-content/uploads/2024/08/Screenshot-2024-08-20-11.14.15-AM.png
END:VEVENT
BEGIN:VEVENT
DTSTART;TZID=America/New_York:20251114T160000
DTEND;TZID=America/New_York:20251114T200000
DTSTAMP:20260419T174005
CREATED:20250609T004941Z
LAST-MODIFIED:20250609T010500Z
UID:8408-1763136000-1763150400@talcottcollective.com
SUMMARY:Mama Nena Food Truck
DESCRIPTION:Serving fresh\, hand made tapas from across Spain
URL:https://talcottcollective.com/event/8389/2025-11-14/
CATEGORIES:Food Truck
ATTACH;FMTTYPE=image/png:https://talcottcollective.com/wp-content/uploads/2025/04/Mama-Nena-FoodTruck25.png
END:VEVENT
BEGIN:VEVENT
DTSTART;TZID=America/New_York:20251113T180000
DTEND;TZID=America/New_York:20251113T210000
DTSTAMP:20260419T174005
CREATED:20250930T031003Z
LAST-MODIFIED:20251112T221845Z
UID:9162-1763056800-1763067600@talcottcollective.com
SUMMARY:Camden Fuller
DESCRIPTION:
URL:https://talcottcollective.com/event/corey-gabel-2/
CATEGORIES:Music
ATTACH;FMTTYPE=image/jpeg:https://talcottcollective.com/wp-content/uploads/2025/01/Camden-Fuller-1.jpg
END:VEVENT
BEGIN:VEVENT
DTSTART;TZID=America/New_York:20251113T160000
DTEND;TZID=America/New_York:20251113T200000
DTSTAMP:20260419T174005
CREATED:20250830T173840Z
LAST-MODIFIED:20250830T173840Z
UID:8959-1763049600-1763064000@talcottcollective.com
SUMMARY:Capt 'N Jerk Food Truck
DESCRIPTION:
URL:https://talcottcollective.com/event/capt-n-jerk-food-truck-10/2025-11-13/
CATEGORIES:Food Truck
ATTACH;FMTTYPE=image/jpeg:https://talcottcollective.com/wp-content/uploads/2025/04/FoodTruck-Capt-N-Jerk-scaled.jpg
END:VEVENT
BEGIN:VEVENT
DTSTART;TZID=America/New_York:20251111T183000
DTEND;TZID=America/New_York:20251111T210000
DTSTAMP:20260419T174005
CREATED:20250329T194125Z
LAST-MODIFIED:20251109T200703Z
UID:7346-1762885800-1762894800@talcottcollective.com
SUMMARY:Open Mic Night - Hosted by Michael Sasportas Music
DESCRIPTION:Weekly Open Mic: Hosted By Michael Sasportas \nText: 860-480-7300 to sign up!
URL:https://talcottcollective.com/event/open-mic-night-hosted-by-michael-sasportas-music/2025-11-11/
CATEGORIES:Music,Open Mic
ATTACH;FMTTYPE=image/jpeg:https://talcottcollective.com/wp-content/uploads/2025/03/OpenMic.jpg
END:VEVENT
BEGIN:VEVENT
DTSTART;TZID=America/New_York:20251109T153000
DTEND;TZID=America/New_York:20251109T183000
DTSTAMP:20260419T174005
CREATED:20250930T030326Z
LAST-MODIFIED:20250930T030326Z
UID:9160-1762702200-1762713000@talcottcollective.com
SUMMARY:Jeff Przech
DESCRIPTION:Free Live Music with Collective favorite\, Jeff Przech
URL:https://talcottcollective.com/event/jeff-przech-17/
CATEGORIES:Music
ATTACH;FMTTYPE=image/jpeg:https://talcottcollective.com/wp-content/uploads/2022/03/Jeff-Przech-e1647529264734.jpg
END:VEVENT
BEGIN:VEVENT
DTSTART;TZID=America/New_York:20251109T130000
DTEND;TZID=America/New_York:20251109T200000
DTSTAMP:20260419T174005
CREATED:20250830T180731Z
LAST-MODIFIED:20250830T180731Z
UID:9286-1762693200-1762718400@talcottcollective.com
SUMMARY:Scatz BBQ Food Truck
DESCRIPTION:
URL:https://talcottcollective.com/event/scatz-bbq-food-truck-2-2025-09-27/2025-11-09/
CATEGORIES:Food Truck
ATTACH;FMTTYPE=image/jpeg:https://talcottcollective.com/wp-content/uploads/2025/04/FoodTruck-Scatz-scaled.jpg
END:VEVENT
BEGIN:VEVENT
DTSTART;TZID=America/New_York:20251108T193000
DTEND;TZID=America/New_York:20251108T230000
DTSTAMP:20260419T174005
CREATED:20250930T024058Z
LAST-MODIFIED:20250930T024058Z
UID:9152-1762630200-1762642800@talcottcollective.com
SUMMARY:Corey Rieman's 30th Birthday Bash!
DESCRIPTION:We’re celebrating Corey Rieman with the biggest bash yet! And YOU’RE invited! Featuring killer music from Corey Rieman and The Dilemma Band PLUS other amazing special guest musicians! More details to come! Come on through and ROCK with us!
URL:https://talcottcollective.com/event/corey-riemans-30th-birthday-bash/
CATEGORIES:Music
ATTACH;FMTTYPE=image/jpeg:https://talcottcollective.com/wp-content/uploads/2025/09/Corey-Reiman-e1767725059184.jpg
END:VEVENT
BEGIN:VEVENT
DTSTART;TZID=America/New_York:20251108T140000
DTEND;TZID=America/New_York:20251108T190000
DTSTAMP:20260419T174005
CREATED:20250609T005507Z
LAST-MODIFIED:20250609T005507Z
UID:8399-1762610400-1762628400@talcottcollective.com
SUMMARY:Smoke N' Fire BBQ Food Truck
DESCRIPTION:Smoked Spanish American BBQ
URL:https://talcottcollective.com/event/smoke-n-fire-bbq-food-truck/2025-11-08/
CATEGORIES:Food Truck
ATTACH;FMTTYPE=image/jpeg:https://talcottcollective.com/wp-content/uploads/2025/05/Smoke-n-Fire-scaled.jpg
END:VEVENT
BEGIN:VEVENT
DTSTART;TZID=America/New_York:20251108T140000
DTEND;TZID=America/New_York:20251108T190000
DTSTAMP:20260419T174005
CREATED:20241001T152635Z
LAST-MODIFIED:20250601T193130Z
UID:7116-1762610400-1762628400@talcottcollective.com
SUMMARY:Vinyl Days With Wolfbain
DESCRIPTION:Our most popular music feature is now a weekly treat.
URL:https://talcottcollective.com/event/vinyl-days-with-wolfbain/2025-11-08/
CATEGORIES:Music
ATTACH;FMTTYPE=image/jpeg:https://talcottcollective.com/wp-content/uploads/2023/10/DJ-Wolfbain-2.jpg
END:VEVENT
BEGIN:VEVENT
DTSTART;TZID=America/New_York:20251107T190000
DTEND;TZID=America/New_York:20251107T220000
DTSTAMP:20260419T174005
CREATED:20250930T024414Z
LAST-MODIFIED:20250930T024414Z
UID:9155-1762542000-1762552800@talcottcollective.com
SUMMARY:CT Groove
DESCRIPTION:Hottest new R&B band in the area! Classic Rock\, Motown\, R&B and more!
URL:https://talcottcollective.com/event/ct-groove-2/
CATEGORIES:Music
ATTACH;FMTTYPE=image/jpeg:https://talcottcollective.com/wp-content/uploads/2025/04/CT-Groove.jpg
END:VEVENT
BEGIN:VEVENT
DTSTART;TZID=America/New_York:20251106T180000
DTEND;TZID=America/New_York:20251106T210000
DTSTAMP:20260419T174005
CREATED:20250930T030125Z
LAST-MODIFIED:20250930T030125Z
UID:9157-1762452000-1762462800@talcottcollective.com
SUMMARY:Nathan Day Duo
DESCRIPTION:
URL:https://talcottcollective.com/event/nathan-day-duo/
CATEGORIES:Music
ATTACH;FMTTYPE=image/jpeg:https://talcottcollective.com/wp-content/uploads/2025/09/Nathan-Day.jpg
END:VEVENT
BEGIN:VEVENT
DTSTART;TZID=America/New_York:20251106T160000
DTEND;TZID=America/New_York:20251106T200000
DTSTAMP:20260419T174005
CREATED:20250830T173840Z
LAST-MODIFIED:20250830T173840Z
UID:8958-1762444800-1762459200@talcottcollective.com
SUMMARY:Capt 'N Jerk Food Truck
DESCRIPTION:
URL:https://talcottcollective.com/event/capt-n-jerk-food-truck-10/2025-11-06/
CATEGORIES:Food Truck
ATTACH;FMTTYPE=image/jpeg:https://talcottcollective.com/wp-content/uploads/2025/04/FoodTruck-Capt-N-Jerk-scaled.jpg
END:VEVENT
BEGIN:VEVENT
DTSTART;TZID=America/New_York:20251104T183000
DTEND;TZID=America/New_York:20251104T210000
DTSTAMP:20260419T174005
CREATED:20250329T194125Z
LAST-MODIFIED:20251109T200702Z
UID:7345-1762281000-1762290000@talcottcollective.com
SUMMARY:Open Mic Night - Hosted by Michael Sasportas Music
DESCRIPTION:Weekly Open Mic: Hosted By Michael Sasportas \nText: 860-480-7300 to sign up!
URL:https://talcottcollective.com/event/open-mic-night-hosted-by-michael-sasportas-music/2025-11-04/
CATEGORIES:Music,Open Mic
ATTACH;FMTTYPE=image/jpeg:https://talcottcollective.com/wp-content/uploads/2025/03/OpenMic.jpg
END:VEVENT
BEGIN:VEVENT
DTSTART;TZID=America/New_York:20251102T150000
DTEND;TZID=America/New_York:20251102T180000
DTSTAMP:20260419T174005
CREATED:20250929T030234Z
LAST-MODIFIED:20250929T030234Z
UID:9135-1762095600-1762106400@talcottcollective.com
SUMMARY:Erin & Cazz
DESCRIPTION:This acoustic duo combines the powers of Erin’s storytelling & folk guitar with Cazz’s New Orleans inspired piano for a unique sound with groovy harmonies on originals and covers.
URL:https://talcottcollective.com/event/erin-cazz-3/
CATEGORIES:Music
ATTACH;FMTTYPE=image/png:https://talcottcollective.com/wp-content/uploads/2024/07/Screenshot-2024-07-23-11.10.01-AM.png
END:VEVENT
BEGIN:VEVENT
DTSTART;TZID=America/New_York:20251102T130000
DTEND;TZID=America/New_York:20251102T190000
DTSTAMP:20260419T174005
CREATED:20250930T022543Z
LAST-MODIFIED:20250930T022543Z
UID:9150-1762088400-1762110000@talcottcollective.com
SUMMARY:Nibbles n' Noms
DESCRIPTION:
URL:https://talcottcollective.com/event/nibbles-n-noms/
CATEGORIES:Food Truck
ATTACH;FMTTYPE=image/jpeg:https://talcottcollective.com/wp-content/uploads/2025/04/FoodTruck-Nibbles-n-Noms-scaled.jpg
END:VEVENT
BEGIN:VEVENT
DTSTART;TZID=America/New_York:20251101T190000
DTEND;TZID=America/New_York:20251101T220000
DTSTAMP:20260419T174005
CREATED:20250929T030822Z
LAST-MODIFIED:20250929T030822Z
UID:9137-1762023600-1762034400@talcottcollective.com
SUMMARY:Rob Glassman Band
DESCRIPTION:ROB GLASSMAN BAND is a well-known\, high-energy classic rock jam band\, whose songs often flow from one song into the next\, mixing standard jams with lots of free-flowing\, improvisational jams.
URL:https://talcottcollective.com/event/rob-glassman-band-2/
CATEGORIES:Music
ATTACH;FMTTYPE=image/jpeg:https://talcottcollective.com/wp-content/uploads/2025/09/LOGO2025.jpg
END:VEVENT
BEGIN:VEVENT
DTSTART;TZID=America/New_York:20251101T140000
DTEND;TZID=America/New_York:20251101T190000
DTSTAMP:20260419T174005
CREATED:20241001T152635Z
LAST-MODIFIED:20250601T193129Z
UID:7115-1762005600-1762023600@talcottcollective.com
SUMMARY:Vinyl Days With Wolfbain
DESCRIPTION:Our most popular music feature is now a weekly treat.
URL:https://talcottcollective.com/event/vinyl-days-with-wolfbain/2025-11-01/
CATEGORIES:Music
ATTACH;FMTTYPE=image/jpeg:https://talcottcollective.com/wp-content/uploads/2023/10/DJ-Wolfbain-2.jpg
END:VEVENT
BEGIN:VEVENT
DTSTART;TZID=America/New_York:20251101T130000
DTEND;TZID=America/New_York:20251101T200000
DTSTAMP:20260419T174005
CREATED:20250930T022419Z
LAST-MODIFIED:20250930T022419Z
UID:9148-1762002000-1762027200@talcottcollective.com
SUMMARY:Pika Food Truck
DESCRIPTION:
URL:https://talcottcollective.com/event/pika-food-truck-7/
CATEGORIES:Food Truck
ATTACH;FMTTYPE=image/jpeg:https://talcottcollective.com/wp-content/uploads/2025/04/FoodTruck-Pika-scaled.jpg
END:VEVENT
BEGIN:VEVENT
DTSTART;TZID=America/New_York:20251031T190000
DTEND;TZID=America/New_York:20251031T220000
DTSTAMP:20260419T174005
CREATED:20250929T031054Z
LAST-MODIFIED:20250929T031054Z
UID:9140-1761937200-1761948000@talcottcollective.com
SUMMARY:The 860 Band
DESCRIPTION:A collective of Hartford-based musicians performing funky + soulful takes on classic tunes.
URL:https://talcottcollective.com/event/the-860-band-2/
CATEGORIES:Music
ATTACH;FMTTYPE=image/jpeg:https://talcottcollective.com/wp-content/uploads/2024/10/The-860-1.jpg
END:VEVENT
BEGIN:VEVENT
DTSTART;TZID=America/New_York:20251031T160000
DTEND;TZID=America/New_York:20251031T200000
DTSTAMP:20260419T174005
CREATED:20250609T004941Z
LAST-MODIFIED:20250609T010452Z
UID:8392-1761926400-1761940800@talcottcollective.com
SUMMARY:Mama Nena Food Truck
DESCRIPTION:Serving fresh\, hand made tapas from across Spain
URL:https://talcottcollective.com/event/8389/2025-10-31/
CATEGORIES:Food Truck
ATTACH;FMTTYPE=image/png:https://talcottcollective.com/wp-content/uploads/2025/04/Mama-Nena-FoodTruck25.png
END:VEVENT
BEGIN:VEVENT
DTSTART;TZID=America/New_York:20251030T160000
DTEND;TZID=America/New_York:20251030T200000
DTSTAMP:20260419T174005
CREATED:20250830T173840Z
LAST-MODIFIED:20250830T173840Z
UID:8957-1761840000-1761854400@talcottcollective.com
SUMMARY:Capt 'N Jerk Food Truck
DESCRIPTION:
URL:https://talcottcollective.com/event/capt-n-jerk-food-truck-10/2025-10-30/
CATEGORIES:Food Truck
ATTACH;FMTTYPE=image/jpeg:https://talcottcollective.com/wp-content/uploads/2025/04/FoodTruck-Capt-N-Jerk-scaled.jpg
END:VEVENT
BEGIN:VEVENT
DTSTART;TZID=America/New_York:20251028T183000
DTEND;TZID=America/New_York:20251028T210000
DTSTAMP:20260419T174005
CREATED:20250329T194125Z
LAST-MODIFIED:20251109T200701Z
UID:7344-1761676200-1761685200@talcottcollective.com
SUMMARY:Open Mic Night - Hosted by Michael Sasportas Music
DESCRIPTION:Weekly Open Mic: Hosted By Michael Sasportas \nText: 860-480-7300 to sign up!
URL:https://talcottcollective.com/event/open-mic-night-hosted-by-michael-sasportas-music/2025-10-28/
CATEGORIES:Music,Open Mic
ATTACH;FMTTYPE=image/jpeg:https://talcottcollective.com/wp-content/uploads/2025/03/OpenMic.jpg
END:VEVENT
END:VCALENDAR