BEGIN:VCALENDAR
VERSION:2.0
PRODID:-//Talcott Mountain Collective - ECPv6.15.20//NONSGML v1.0//EN
CALSCALE:GREGORIAN
METHOD:PUBLISH
X-ORIGINAL-URL:https://talcottcollective.com
X-WR-CALDESC:Events for Talcott Mountain Collective
REFRESH-INTERVAL;VALUE=DURATION:PT1H
X-Robots-Tag:noindex
X-PUBLISHED-TTL:PT1H
BEGIN:VTIMEZONE
TZID:America/New_York
BEGIN:DAYLIGHT
TZOFFSETFROM:-0500
TZOFFSETTO:-0400
TZNAME:EDT
DTSTART:20220313T070000
END:DAYLIGHT
BEGIN:STANDARD
TZOFFSETFROM:-0400
TZOFFSETTO:-0500
TZNAME:EST
DTSTART:20221106T060000
END:STANDARD
BEGIN:DAYLIGHT
TZOFFSETFROM:-0500
TZOFFSETTO:-0400
TZNAME:EDT
DTSTART:20230312T070000
END:DAYLIGHT
BEGIN:STANDARD
TZOFFSETFROM:-0400
TZOFFSETTO:-0500
TZNAME:EST
DTSTART:20231105T060000
END:STANDARD
BEGIN:DAYLIGHT
TZOFFSETFROM:-0500
TZOFFSETTO:-0400
TZNAME:EDT
DTSTART:20240310T070000
END:DAYLIGHT
BEGIN:STANDARD
TZOFFSETFROM:-0400
TZOFFSETTO:-0500
TZNAME:EST
DTSTART:20241103T060000
END:STANDARD
END:VTIMEZONE
BEGIN:VEVENT
DTSTART;TZID=America/New_York:20230805T180000
DTEND;TZID=America/New_York:20230805T210000
DTSTAMP:20260421T003213
CREATED:20230628T175744Z
LAST-MODIFIED:20230628T175744Z
UID:4432-1691258400-1691269200@talcottcollective.com
SUMMARY:Benny Mikula - The Lone Gnome
DESCRIPTION:The lead singer and chief songwriter of The Alpaca Gnomes.
URL:https://talcottcollective.com/event/benny-mikula-the-lone-gnome-4/
LOCATION:CT
CATEGORIES:Music
ATTACH;FMTTYPE=image/jpeg:https://talcottcollective.com/wp-content/uploads/2022/10/Lone-Gnome.jpg
END:VEVENT
BEGIN:VEVENT
DTSTART;TZID=America/New_York:20230806T150000
DTEND;TZID=America/New_York:20230806T180000
DTSTAMP:20260421T003213
CREATED:20230628T180200Z
LAST-MODIFIED:20230628T180200Z
UID:4434-1691334000-1691344800@talcottcollective.com
SUMMARY:RGB Band
DESCRIPTION:RGB-ROB GLASSMAN BAND\nRob Glassman – guitar/vocals\nChris Gilbransen – guitar/vocals\nJoe Scialla – drums\nJan Goldstein – bass
URL:https://talcottcollective.com/event/rgb-band-2/
LOCATION:CT
CATEGORIES:Food Truck,Music
ATTACH;FMTTYPE=image/jpeg:https://talcottcollective.com/wp-content/uploads/2023/06/rgb-band.jpg
END:VEVENT
BEGIN:VEVENT
DTSTART;TZID=America/New_York:20230811T180000
DTEND;TZID=America/New_York:20230811T210000
DTSTAMP:20260421T003213
CREATED:20230628T203744Z
LAST-MODIFIED:20230628T203744Z
UID:4437-1691776800-1691787600@talcottcollective.com
SUMMARY:The Hooch
DESCRIPTION:Dynamic duo specializing in Pop\, Hip-Hop\, R&B and Soul
URL:https://talcottcollective.com/event/the-hooch-7/
LOCATION:CT
CATEGORIES:Music
ATTACH;FMTTYPE=image/jpeg:https://talcottcollective.com/wp-content/uploads/2022/05/thehooch-e1652454792897.jpg
END:VEVENT
BEGIN:VEVENT
DTSTART;TZID=America/New_York:20230812T183000
DTEND;TZID=America/New_York:20230812T213000
DTSTAMP:20260421T003213
CREATED:20230807T145731Z
LAST-MODIFIED:20230807T151114Z
UID:4674-1691865000-1691875800@talcottcollective.com
SUMMARY:Tino & Malone
DESCRIPTION:Christopher Tino & Brian Thomas Malone is an acoustic duo from Connecticut.
URL:https://talcottcollective.com/event/tino-malone/
LOCATION:CT
CATEGORIES:Music
ATTACH;FMTTYPE=image/jpeg:https://talcottcollective.com/wp-content/uploads/2023/08/tino-and-malone.jpg
END:VEVENT
BEGIN:VEVENT
DTSTART;TZID=America/New_York:20230813T150000
DTEND;TZID=America/New_York:20230813T180000
DTSTAMP:20260421T003213
CREATED:20230628T211730Z
LAST-MODIFIED:20230628T211730Z
UID:4441-1691938800-1691949600@talcottcollective.com
SUMMARY:John Mayock
DESCRIPTION:Free live music.
URL:https://talcottcollective.com/event/john-mayock-7/
LOCATION:CT
CATEGORIES:Music
ATTACH;FMTTYPE=image/jpeg:https://talcottcollective.com/wp-content/uploads/2022/01/johnmay.jpg
END:VEVENT
BEGIN:VEVENT
DTSTART;TZID=America/New_York:20230818T180000
DTEND;TZID=America/New_York:20230818T210000
DTSTAMP:20260421T003213
CREATED:20230628T212509Z
LAST-MODIFIED:20230628T212509Z
UID:4443-1692381600-1692392400@talcottcollective.com
SUMMARY:Jeff Przech
DESCRIPTION:Singer\, Songwriter\, & Guitar Player from Connecticut
URL:https://talcottcollective.com/event/jeff-przech-8/
LOCATION:CT
CATEGORIES:Music
ATTACH;FMTTYPE=image/jpeg:https://talcottcollective.com/wp-content/uploads/2022/03/Jeff-Przech-e1647529264734.jpg
END:VEVENT
BEGIN:VEVENT
DTSTART;TZID=America/New_York:20230820T150000
DTEND;TZID=America/New_York:20230820T180000
DTSTAMP:20260421T003213
CREATED:20230628T213000Z
LAST-MODIFIED:20230628T213000Z
UID:4445-1692543600-1692554400@talcottcollective.com
SUMMARY:Shakedown
DESCRIPTION:“Shakedown is New England’s Grateful Dead Tribute Band since 1987.\nDave Frankel: Guitar\, vocals\nMike Kinghorn Bass and vocals\nDan O’Connor: Drums”\n\nLive from the outdoor stage.\nAll ages show\, $5 cover
URL:https://talcottcollective.com/event/shakedown-2/
LOCATION:CT
CATEGORIES:Food Truck,Music
ATTACH;FMTTYPE=image/jpeg:https://talcottcollective.com/wp-content/uploads/2023/05/shakedown.jpg
END:VEVENT
BEGIN:VEVENT
DTSTART;TZID=America/New_York:20230826T140000
DTEND;TZID=America/New_York:20230826T170000
DTSTAMP:20260421T003213
CREATED:20230807T152130Z
LAST-MODIFIED:20230807T152130Z
UID:4678-1693058400-1693069200@talcottcollective.com
SUMMARY:String Theory
DESCRIPTION:Bluegrass-infused acoustic music.
URL:https://talcottcollective.com/event/string-theory-3/
LOCATION:CT
CATEGORIES:Music
ATTACH;FMTTYPE=image/jpeg:https://talcottcollective.com/wp-content/uploads/2022/10/Untitled-design-26.jpg
END:VEVENT
BEGIN:VEVENT
DTSTART;TZID=America/New_York:20230826T180000
DTEND;TZID=America/New_York:20230826T210000
DTSTAMP:20260421T003213
CREATED:20230807T152635Z
LAST-MODIFIED:20230807T152635Z
UID:4680-1693072800-1693083600@talcottcollective.com
SUMMARY:Audio Jane
DESCRIPTION:​Audio Jane is a female fronted atmospheric rock band from Connecticut.
URL:https://talcottcollective.com/event/audio-jane-3/
LOCATION:CT
CATEGORIES:Music
ATTACH;FMTTYPE=image/jpeg:https://talcottcollective.com/wp-content/uploads/2022/09/audiojane.jpg
END:VEVENT
BEGIN:VEVENT
DTSTART;TZID=America/New_York:20230827T150000
DTEND;TZID=America/New_York:20230827T180000
DTSTAMP:20260421T003213
CREATED:20230628T213800Z
LAST-MODIFIED:20230628T213800Z
UID:4449-1693148400-1693159200@talcottcollective.com
SUMMARY:Michael Sasportas and Friends
DESCRIPTION:Live Music w/ Michael Sasportas
URL:https://talcottcollective.com/event/michael-sasportas-and-friends-3/
LOCATION:CT
CATEGORIES:Music
ATTACH;FMTTYPE=image/jpeg:https://talcottcollective.com/wp-content/uploads/2022/04/Sasportas-e1650576952684.jpg
END:VEVENT
BEGIN:VEVENT
DTSTART;TZID=America/New_York:20230902T190000
DTEND;TZID=America/New_York:20230902T220000
DTSTAMP:20260421T003213
CREATED:20230628T214859Z
LAST-MODIFIED:20230628T214859Z
UID:4451-1693681200-1693692000@talcottcollective.com
SUMMARY:Jelly
DESCRIPTION:Bombastic funk fusion from the northeast US!\n\n\n\n\nAll ages welcome\, cover for 18+ ($10)
URL:https://talcottcollective.com/event/jelly-3/
LOCATION:CT
CATEGORIES:Food Truck,Music
ATTACH;FMTTYPE=image/jpeg:https://talcottcollective.com/wp-content/uploads/2023/04/Jelly-Logo.jpg
END:VEVENT
BEGIN:VEVENT
DTSTART;TZID=America/New_York:20230903T160000
DTEND;TZID=America/New_York:20230903T200000
DTSTAMP:20260421T003213
CREATED:20230628T215938Z
LAST-MODIFIED:20230902T221055Z
UID:4453-1693756800-1693771200@talcottcollective.com
SUMMARY:Yacht Lobsters
DESCRIPTION:Soft Rock at its Tastiest!\nNew York’s Premiere Source of All Things Yachty! \nFood Trucks: Pika and Present Company \nNo Cover!
URL:https://talcottcollective.com/event/yacht-lobsters/
LOCATION:CT
CATEGORIES:Food Truck,Music
ATTACH;FMTTYPE=image/jpeg:https://talcottcollective.com/wp-content/uploads/2023/06/yacht-lobster-e1687989544623.jpg
END:VEVENT
BEGIN:VEVENT
DTSTART;TZID=America/New_York:20230915T190000
DTEND;TZID=America/New_York:20230915T220000
DTSTAMP:20260421T003213
CREATED:20230915T035123Z
LAST-MODIFIED:20230915T035123Z
UID:4735-1694804400-1694815200@talcottcollective.com
SUMMARY:Righteous Continental
DESCRIPTION:Righteous Continental is Ryan Newman\, Tim Leffingwell\, and Mitch Igneri. Twisted\, fiery blues rock!
URL:https://talcottcollective.com/event/righteous-continental-2/
LOCATION:CT
CATEGORIES:Food Truck,Music
ATTACH;FMTTYPE=image/png:https://talcottcollective.com/wp-content/uploads/2023/05/Righteous.png
END:VEVENT
BEGIN:VEVENT
DTSTART;TZID=America/New_York:20230916T180000
DTEND;TZID=America/New_York:20230916T210000
DTSTAMP:20260421T003213
CREATED:20230915T035908Z
LAST-MODIFIED:20230915T040114Z
UID:4737-1694887200-1694898000@talcottcollective.com
SUMMARY:JLamm and Finn
DESCRIPTION:
URL:https://talcottcollective.com/event/jlamm-and-finn-2/
LOCATION:CT
CATEGORIES:Music
ATTACH;FMTTYPE=image/jpeg:https://talcottcollective.com/wp-content/uploads/2022/04/Jlamm-and-Finn.jpg
END:VEVENT
BEGIN:VEVENT
DTSTART;TZID=America/New_York:20230917T150000
DTEND;TZID=America/New_York:20230917T180000
DTSTAMP:20260421T003213
CREATED:20230807T160100Z
LAST-MODIFIED:20230807T160100Z
UID:4683-1694962800-1694973600@talcottcollective.com
SUMMARY:Ian D'Arcangelo
DESCRIPTION:Ian is the lead singer for One Time Weekend – “the innovative shred-funk Connecticut quartet bringing driving grooves with a melodic and progressive edge to the universe.” A singer & songwriter from CT. Ian keeps a familiar sound while pushing the boundaries of his genre.
URL:https://talcottcollective.com/event/ian-darcangelo-3/
LOCATION:CT
CATEGORIES:Music
ATTACH;FMTTYPE=image/jpeg:https://talcottcollective.com/wp-content/uploads/2023/02/Darcangel.jpg
END:VEVENT
BEGIN:VEVENT
DTSTART;TZID=America/New_York:20230922T190000
DTEND;TZID=America/New_York:20230922T220000
DTSTAMP:20260421T003213
CREATED:20230920T212356Z
LAST-MODIFIED:20230920T220041Z
UID:4753-1695409200-1695420000@talcottcollective.com
SUMMARY:Shout Presents Tom Petty and The Heartbreakers
DESCRIPTION:Join Shout for a celebration of the legendary Tom Petty! \n$10 cover. \n 
URL:https://talcottcollective.com/event/shout-presents-tom-petty/
LOCATION:CT
CATEGORIES:Food Truck,Music
ATTACH;FMTTYPE=image/jpeg:https://talcottcollective.com/wp-content/uploads/2023/09/Shout-Tom-Petty.jpg
END:VEVENT
BEGIN:VEVENT
DTSTART;TZID=America/New_York:20230923T183000
DTEND;TZID=America/New_York:20230923T213000
DTSTAMP:20260421T003213
CREATED:20230920T214111Z
LAST-MODIFIED:20230920T214140Z
UID:4756-1695493800-1695504600@talcottcollective.com
SUMMARY:7 Below: An Evening of Phish at the Collective
DESCRIPTION:Pete and Josh return to the Collective for some acoustic Phish on Saturday Sept 23rd on the outdoor stage!\n$10 at door
URL:https://talcottcollective.com/event/7-below-an-evening-of-phish-at-the-collective-6/
LOCATION:CT
CATEGORIES:Music
ATTACH;FMTTYPE=image/jpeg:https://talcottcollective.com/wp-content/uploads/2022/03/phishtribute.jpg
END:VEVENT
BEGIN:VEVENT
DTSTART;TZID=America/New_York:20230924T140000
DTEND;TZID=America/New_York:20230924T180000
DTSTAMP:20260421T003213
CREATED:20230920T215904Z
LAST-MODIFIED:20230920T215904Z
UID:4758-1695564000-1695578400@talcottcollective.com
SUMMARY:Schachtelgebirger Musikanten - Live German Music!
DESCRIPTION:The Schachtelgebirger Musikanten are Freddie Meier and Ronald Kwas and they are bringing traditional German music to the hills of Simsbury! \nFamily fun for all ages!
URL:https://talcottcollective.com/event/schachtelgebirger-musikanten-live-german-music-4/
LOCATION:CT
CATEGORIES:Music,Promotion Night
ATTACH;FMTTYPE=image/jpeg:https://talcottcollective.com/wp-content/uploads/2022/07/Scha-musi-e1657737952989.jpg
END:VEVENT
BEGIN:VEVENT
DTSTART;TZID=America/New_York:20230927T170000
DTEND;TZID=America/New_York:20230927T200000
DTSTAMP:20260421T003213
CREATED:20230925T132151Z
LAST-MODIFIED:20230925T132151Z
UID:4793-1695834000-1695844800@talcottcollective.com
SUMMARY:Jeff Wieselberg
DESCRIPTION:Come enjoy the easy sounds of local icon Jeff Wieselberg as he ‘tickles the ivories’ for your Collective enjoyment \n 
URL:https://talcottcollective.com/event/jeff-wieselberg-11/
LOCATION:CT
CATEGORIES:Music
ATTACH;FMTTYPE=image/jpeg:https://talcottcollective.com/wp-content/uploads/2022/03/Jeff-Wieselberg-e1648703275804.jpg
END:VEVENT
BEGIN:VEVENT
DTSTART;TZID=America/New_York:20230929T180000
DTEND;TZID=America/New_York:20230929T210000
DTSTAMP:20260421T003213
CREATED:20230925T133051Z
LAST-MODIFIED:20230925T133051Z
UID:4795-1696010400-1696021200@talcottcollective.com
SUMMARY:The Hooch
DESCRIPTION:Dynamic duo specializing in Pop\, Hip-Hop\, R&B and Soul
URL:https://talcottcollective.com/event/the-hooch-8/
LOCATION:CT
CATEGORIES:Music
ATTACH;FMTTYPE=image/jpeg:https://talcottcollective.com/wp-content/uploads/2022/05/thehooch-e1652454792897.jpg
END:VEVENT
BEGIN:VEVENT
DTSTART;TZID=America/New_York:20230930T130000
DTEND;TZID=America/New_York:20230930T160000
DTSTAMP:20260421T003213
CREATED:20230925T133626Z
LAST-MODIFIED:20230926T160750Z
UID:4797-1696078800-1696089600@talcottcollective.com
SUMMARY:String Theory
DESCRIPTION:Bluegrass-infused acoustic music.
URL:https://talcottcollective.com/event/string-theory-4/
LOCATION:CT
CATEGORIES:Music
ATTACH;FMTTYPE=image/jpeg:https://talcottcollective.com/wp-content/uploads/2022/10/Untitled-design-26.jpg
END:VEVENT
BEGIN:VEVENT
DTSTART;TZID=America/New_York:20230930T170000
DTEND;TZID=America/New_York:20230930T200000
DTSTAMP:20260421T003213
CREATED:20230925T154405Z
LAST-MODIFIED:20230925T154405Z
UID:4799-1696093200-1696104000@talcottcollective.com
SUMMARY:KC Sisters
DESCRIPTION:The KC Sisters perform both covers and originals\, many of which are recorded and produced themselves.
URL:https://talcottcollective.com/event/kc-sisters-2/
LOCATION:CT
CATEGORIES:Music
ATTACH;FMTTYPE=image/jpeg:https://talcottcollective.com/wp-content/uploads/2023/06/KC-Sisters.jpg
END:VEVENT
BEGIN:VEVENT
DTSTART;TZID=America/New_York:20231001T150000
DTEND;TZID=America/New_York:20231001T180000
DTSTAMP:20260421T003213
CREATED:20230925T155535Z
LAST-MODIFIED:20230926T162819Z
UID:4801-1696172400-1696183200@talcottcollective.com
SUMMARY:Super Sunday: Mayock\, Mercier\, Fancher\, Lichtig\, O'Brien
DESCRIPTION:Local favorites coming together for an afternoon of great\, free live music!
URL:https://talcottcollective.com/event/john-mayock-8/
LOCATION:CT
CATEGORIES:Music
ATTACH;FMTTYPE=image/jpeg:https://talcottcollective.com/wp-content/uploads/2023/09/44D2B801-.jpg
END:VEVENT
BEGIN:VEVENT
DTSTART;TZID=America/New_York:20231004T170000
DTEND;TZID=America/New_York:20231004T200000
DTSTAMP:20260421T003213
CREATED:20231004T192406Z
LAST-MODIFIED:20231004T192406Z
UID:4924-1696438800-1696449600@talcottcollective.com
SUMMARY:DJ Wolfbain
DESCRIPTION:
URL:https://talcottcollective.com/event/dj-wolfbain/
LOCATION:CT
CATEGORIES:Music
ATTACH;FMTTYPE=image/png:https://talcottcollective.com/wp-content/uploads/2023/10/Screenshot-2023-10-04-1.31.49-PM-e1696457507323.png
END:VEVENT
BEGIN:VEVENT
DTSTART;TZID=America/New_York:20231007T200000
DTEND;TZID=America/New_York:20231007T230000
DTSTAMP:20260421T003213
CREATED:20230925T160337Z
LAST-MODIFIED:20230925T160337Z
UID:4803-1696708800-1696719600@talcottcollective.com
SUMMARY:Corey Rieman and The Dilemma Band
DESCRIPTION:Check out one of Connecticut’s Hottest Classic Rock bands!
URL:https://talcottcollective.com/event/corey-rieman-and-the-dilemma-band/
LOCATION:CT
CATEGORIES:Food Truck,Music
ATTACH;FMTTYPE=image/jpeg:https://talcottcollective.com/wp-content/uploads/2023/09/dilemma-band.jpg
END:VEVENT
BEGIN:VEVENT
DTSTART;TZID=America/New_York:20231013T190000
DTEND;TZID=America/New_York:20231013T220000
DTSTAMP:20260421T003213
CREATED:20231010T011246Z
LAST-MODIFIED:20231010T011246Z
UID:4944-1697223600-1697234400@talcottcollective.com
SUMMARY:Marks Brothers: Mercier and Paradis Duo Show
DESCRIPTION:Highly improvisational\, extremely dancable\, inspired rock-n-roll.
URL:https://talcottcollective.com/event/marks-brothers-mercier-and-paradis-duo-show/
LOCATION:CT
CATEGORIES:Music
ATTACH;FMTTYPE=image/jpeg:https://talcottcollective.com/wp-content/uploads/2023/10/Marks-Bros-e1696900354650.jpg
END:VEVENT
BEGIN:VEVENT
DTSTART;TZID=America/New_York:20231014T140000
DTEND;TZID=America/New_York:20231014T180000
DTSTAMP:20260421T003213
CREATED:20231010T012441Z
LAST-MODIFIED:20231010T013013Z
UID:4949-1697292000-1697306400@talcottcollective.com
SUMMARY:Oktoberfest with Schachtelgebirger Musikanten!
DESCRIPTION:The Schachtelgebirger Musikanten are Freddie Meier and Ronald Kwas and they are bringing traditional German music to the hills of Simsbury! Join us for Oktoberfest on October 14 and 15! \nFamily fun for all ages!
URL:https://talcottcollective.com/event/oktoberfest-with-schachtelgebirger-musikanten/2023-10-14/
LOCATION:CT
CATEGORIES:Food Truck,Music,Promotion Night
ATTACH;FMTTYPE=image/jpeg:https://talcottcollective.com/wp-content/uploads/2022/07/Scha-musi-e1657737952989.jpg
END:VEVENT
BEGIN:VEVENT
DTSTART;TZID=America/New_York:20231014T190000
DTEND;TZID=America/New_York:20231014T220000
DTSTAMP:20260421T003213
CREATED:20231010T011940Z
LAST-MODIFIED:20231010T012036Z
UID:4947-1697310000-1697320800@talcottcollective.com
SUMMARY:Oktoberfest Celebration with Booyah!
DESCRIPTION:BOOYAH! is a collective of musicians delivering prime tribute nights that will surely get your feet stomping! Join us for our Oktoberfest celebration. \nThis is an age restricted event\, 21+.
URL:https://talcottcollective.com/event/oktoberfest-celebration-with-booyah/
LOCATION:CT
CATEGORIES:21+ Event,Food Truck,Music
ATTACH;FMTTYPE=image/png:https://talcottcollective.com/wp-content/uploads/2022/09/Booyah-e1739214507696.png
END:VEVENT
BEGIN:VEVENT
DTSTART;TZID=America/New_York:20231015T140000
DTEND;TZID=America/New_York:20231015T180000
DTSTAMP:20260421T003213
CREATED:20231010T012441Z
LAST-MODIFIED:20250922T225351Z
UID:4951-1697378400-1697392800@talcottcollective.com
SUMMARY:Oktoberfest with Schachtelgebirger Musikanten!
DESCRIPTION:The Schachtelgebirger Musikanten are Freddie Meier and Ronald Kwas and they are bringing traditional German music to the hills of Simsbury! Join us for Oktoberfest on October 14 and 15! \nFamily fun for all ages!
URL:https://talcottcollective.com/event/oktoberfest-with-schachtelgebirger-musikanten-2023-10-15/
LOCATION:CT
CATEGORIES:Food Truck,Music,Promotion Night
ATTACH;FMTTYPE=image/jpeg:https://talcottcollective.com/wp-content/uploads/2022/07/Scha-musi-e1657737952989.jpg
END:VEVENT
BEGIN:VEVENT
DTSTART;TZID=America/New_York:20231020T180000
DTEND;TZID=America/New_York:20231020T210000
DTSTAMP:20260421T003213
CREATED:20231010T013757Z
LAST-MODIFIED:20231010T013757Z
UID:4955-1697824800-1697835600@talcottcollective.com
SUMMARY:DJ Wolfbain
DESCRIPTION:Vinyl from the 60s\, 70s\, 80s.\nThat Crackle you hear is LOVE
URL:https://talcottcollective.com/event/dj-wolfbain-2/
LOCATION:CT
CATEGORIES:Music
ATTACH;FMTTYPE=image/png:https://talcottcollective.com/wp-content/uploads/2023/10/Screenshot-2023-10-04-1.31.49-PM-e1696457507323.png
END:VEVENT
END:VCALENDAR