BEGIN:VCALENDAR
VERSION:2.0
PRODID:-//Talcott Mountain Collective - ECPv6.15.20//NONSGML v1.0//EN
CALSCALE:GREGORIAN
METHOD:PUBLISH
X-WR-CALNAME:Talcott Mountain Collective
X-ORIGINAL-URL:https://talcottcollective.com
X-WR-CALDESC:Events for Talcott Mountain Collective
REFRESH-INTERVAL;VALUE=DURATION:PT1H
X-Robots-Tag:noindex
X-PUBLISHED-TTL:PT1H
BEGIN:VTIMEZONE
TZID:America/New_York
BEGIN:DAYLIGHT
TZOFFSETFROM:-0500
TZOFFSETTO:-0400
TZNAME:EDT
DTSTART:20230312T070000
END:DAYLIGHT
BEGIN:STANDARD
TZOFFSETFROM:-0400
TZOFFSETTO:-0500
TZNAME:EST
DTSTART:20231105T060000
END:STANDARD
BEGIN:DAYLIGHT
TZOFFSETFROM:-0500
TZOFFSETTO:-0400
TZNAME:EDT
DTSTART:20240310T070000
END:DAYLIGHT
BEGIN:STANDARD
TZOFFSETFROM:-0400
TZOFFSETTO:-0500
TZNAME:EST
DTSTART:20241103T060000
END:STANDARD
BEGIN:DAYLIGHT
TZOFFSETFROM:-0500
TZOFFSETTO:-0400
TZNAME:EDT
DTSTART:20250309T070000
END:DAYLIGHT
BEGIN:STANDARD
TZOFFSETFROM:-0400
TZOFFSETTO:-0500
TZNAME:EST
DTSTART:20251102T060000
END:STANDARD
END:VTIMEZONE
BEGIN:VEVENT
DTSTART;TZID=America/New_York:20240504T190000
DTEND;TZID=America/New_York:20240504T220000
DTSTAMP:20260419T085542
CREATED:20240428T005331Z
LAST-MODIFIED:20240428T005331Z
UID:5679-1714849200-1714860000@talcottcollective.com
SUMMARY:Suburban Escape Plan
DESCRIPTION:Free live music!
URL:https://talcottcollective.com/event/suburban-escape-plan-4/
CATEGORIES:Music
ATTACH;FMTTYPE=image/jpeg:https://talcottcollective.com/wp-content/uploads/2023/02/suburban-escape-plan.jpg
END:VEVENT
BEGIN:VEVENT
DTSTART;TZID=America/New_York:20240504T140000
DTEND;TZID=America/New_York:20240504T190000
DTSTAMP:20260419T085542
CREATED:20240224T031737Z
LAST-MODIFIED:20240224T031737Z
UID:5638-1714831200-1714849200@talcottcollective.com
SUMMARY:Vinyl Day with Wolfbain
DESCRIPTION:Our most popular music feature is now a weekly treat
URL:https://talcottcollective.com/event/vinyl-day-with-wolfbain/2024-05-04/
CATEGORIES:Music
ATTACH;FMTTYPE=image/jpeg:https://talcottcollective.com/wp-content/uploads/2023/10/DJ-Wolfbain-2.jpg
END:VEVENT
BEGIN:VEVENT
DTSTART;TZID=America/New_York:20240503T190000
DTEND;TZID=America/New_York:20240503T220000
DTSTAMP:20260419T085542
CREATED:20240428T004754Z
LAST-MODIFIED:20240501T150748Z
UID:5677-1714762800-1714773600@talcottcollective.com
SUMMARY:Rob Glassman Band
DESCRIPTION:RGB featuring…..\nRG – guitarChris D’Amato – guitarIvan Podgwaite – bassJoe Scialla – drums
URL:https://talcottcollective.com/event/rob-glassman-band/
CATEGORIES:Music
ATTACH;FMTTYPE=image/jpeg:https://talcottcollective.com/wp-content/uploads/2023/06/rgb-band.jpg
END:VEVENT
BEGIN:VEVENT
DTSTART;TZID=America/New_York:20240502T173000
DTEND;TZID=America/New_York:20240502T203000
DTSTAMP:20260419T085542
CREATED:20240428T003133Z
LAST-MODIFIED:20240428T003133Z
UID:5675-1714671000-1714681800@talcottcollective.com
SUMMARY:Thursday Night Live: Tim McDonald
DESCRIPTION:Collective favorite Tim McDonald is back for a special Thursday night performance.
URL:https://talcottcollective.com/event/thursday-night-live-tim-mcdonald/
CATEGORIES:Music
ATTACH;FMTTYPE=image/jpeg:https://talcottcollective.com/wp-content/uploads/2022/01/TommCdonald-e1645676612434.jpg
END:VEVENT
BEGIN:VEVENT
DTSTART;TZID=America/New_York:20240502T170000
DTEND;TZID=America/New_York:20240502T190000
DTSTAMP:20260419T085542
CREATED:20220531T211628Z
LAST-MODIFIED:20241028T124317Z
UID:5452-1714669200-1714676400@talcottcollective.com
SUMMARY:Mountain Time Happy Hour
DESCRIPTION:We host a happy hour and chilled Oyster Bar on Thursday evenings!
URL:https://talcottcollective.com/event/deepwater-seafood-oyster-bar/2024-05-02/
CATEGORIES:Music,Promotion Night
ATTACH;FMTTYPE=image/png:https://talcottcollective.com/wp-content/uploads/2022/05/2.png
END:VEVENT
BEGIN:VEVENT
DTSTART;TZID=America/New_York:20240501T150000
DTEND;TZID=America/New_York:20240501T210000
DTSTAMP:20260419T085542
CREATED:20220615T211146Z
LAST-MODIFIED:20220615T211146Z
UID:5504-1714575600-1714597200@talcottcollective.com
SUMMARY:Wednesday Beer Haus!
DESCRIPTION:$5 German/European draughts\, and $5 brats/kielbasa/jumbo hot dog (in a bun with chips)
URL:https://talcottcollective.com/event/wednesday-beer-haus/2024-05-01/
CATEGORIES:Promotion Night
ATTACH;FMTTYPE=image/jpeg:https://talcottcollective.com/wp-content/uploads/2022/06/Copy-of-Announcing-Our-New-1.jpg
END:VEVENT
BEGIN:VEVENT
DTSTART;TZID=America/New_York:20240428T150000
DTEND;TZID=America/New_York:20240428T180000
DTSTAMP:20260419T085542
CREATED:20240428T001143Z
LAST-MODIFIED:20240428T001143Z
UID:5673-1714316400-1714327200@talcottcollective.com
SUMMARY:Joe Mandro
DESCRIPTION:Live music with local favorite Joe Mandro!
URL:https://talcottcollective.com/event/joe-mandro-2/
CATEGORIES:Music
ATTACH;FMTTYPE=image/jpeg:https://talcottcollective.com/wp-content/uploads/2022/02/mandro-and-rob-e1646102187534.jpg
END:VEVENT
BEGIN:VEVENT
DTSTART;TZID=America/New_York:20240427T193000
DTEND;TZID=America/New_York:20240427T223000
DTSTAMP:20260419T085542
CREATED:20240425T035209Z
LAST-MODIFIED:20240425T035209Z
UID:5666-1714246200-1714257000@talcottcollective.com
SUMMARY:Modern Refugee Band Presents Norwegian Dreams
DESCRIPTION:Join Modern Refuge @talcottcollective for a one of a kind music performance paying tribute to two legendary bands\, Fleetwood Mac and The Beatles\, who set the stage for the music you hear today. Get ready to jam to timeless\, unparalleled music. Grab your friends and immerse yourself in the magic of this experience\, brought to you by Modern Refuge from New Haven\, Connecticut consisting of powerhouse trifecta Sam Winfield (vocals)\, Vincent Amendola (guitar)\, and Brian Winfield (drums) joined on stage by bassist extraordinare @jimmy_jimmy_ya and featuring world-class violinist\, @kennethnaito and sterling baritone saxophonist\, @bamesjerlyn. See you there!
URL:https://talcottcollective.com/event/modern-refugee-band-presents-norwegian-dreams/
CATEGORIES:Music
ATTACH;FMTTYPE=image/jpeg:https://talcottcollective.com/wp-content/uploads/2024/04/modern-refugee-band.jpg
END:VEVENT
BEGIN:VEVENT
DTSTART;TZID=America/New_York:20240427T140000
DTEND;TZID=America/New_York:20240427T190000
DTSTAMP:20260419T085542
CREATED:20240224T031737Z
LAST-MODIFIED:20240224T031737Z
UID:5637-1714226400-1714244400@talcottcollective.com
SUMMARY:Vinyl Day with Wolfbain
DESCRIPTION:Our most popular music feature is now a weekly treat
URL:https://talcottcollective.com/event/vinyl-day-with-wolfbain/2024-04-27/
CATEGORIES:Music
ATTACH;FMTTYPE=image/jpeg:https://talcottcollective.com/wp-content/uploads/2023/10/DJ-Wolfbain-2.jpg
END:VEVENT
BEGIN:VEVENT
DTSTART;TZID=America/New_York:20240426T193000
DTEND;TZID=America/New_York:20240426T223000
DTSTAMP:20260419T085542
CREATED:20240425T025456Z
LAST-MODIFIED:20240425T025456Z
UID:5661-1714159800-1714170600@talcottcollective.com
SUMMARY:Just Garcia Band
DESCRIPTION:Fantastic JGB sets for your Jerry Garcia loving pleasure!\n\n\n\n\n16+\, $10 cover
URL:https://talcottcollective.com/event/just-garcia-band/
CATEGORIES:Music
ATTACH;FMTTYPE=image/jpeg:https://talcottcollective.com/wp-content/uploads/2024/04/justgar.jpg
END:VEVENT
BEGIN:VEVENT
DTSTART;TZID=America/New_York:20240425T173000
DTEND;TZID=America/New_York:20240425T203000
DTSTAMP:20260419T085542
CREATED:20240425T030648Z
LAST-MODIFIED:20240425T030648Z
UID:5664-1714066200-1714077000@talcottcollective.com
SUMMARY:Thursday Night Live: Jeff Wieselberg
DESCRIPTION:Musician/entertainer (piano & vocals)\, on-air DJ at WRTC 89.3FM\, and all-around good guy\, Jeff Wieselberg\, is back at The Collective to tickle the ivories for your pleasure!
URL:https://talcottcollective.com/event/thursday-night-live-jeff-wieselberg/
CATEGORIES:Music
ATTACH;FMTTYPE=image/jpeg:https://talcottcollective.com/wp-content/uploads/2023/12/Jeff-Wesselberg.jpg
END:VEVENT
BEGIN:VEVENT
DTSTART;TZID=America/New_York:20240425T170000
DTEND;TZID=America/New_York:20240425T190000
DTSTAMP:20260419T085542
CREATED:20220531T211628Z
LAST-MODIFIED:20241028T124317Z
UID:5451-1714064400-1714071600@talcottcollective.com
SUMMARY:Mountain Time Happy Hour
DESCRIPTION:We host a happy hour and chilled Oyster Bar on Thursday evenings!
URL:https://talcottcollective.com/event/deepwater-seafood-oyster-bar/2024-04-25/
CATEGORIES:Music,Promotion Night
ATTACH;FMTTYPE=image/png:https://talcottcollective.com/wp-content/uploads/2022/05/2.png
END:VEVENT
BEGIN:VEVENT
DTSTART;TZID=America/New_York:20240424T150000
DTEND;TZID=America/New_York:20240424T210000
DTSTAMP:20260419T085542
CREATED:20220615T211146Z
LAST-MODIFIED:20220615T211146Z
UID:5503-1713970800-1713992400@talcottcollective.com
SUMMARY:Wednesday Beer Haus!
DESCRIPTION:$5 German/European draughts\, and $5 brats/kielbasa/jumbo hot dog (in a bun with chips)
URL:https://talcottcollective.com/event/wednesday-beer-haus/2024-04-24/
CATEGORIES:Promotion Night
ATTACH;FMTTYPE=image/jpeg:https://talcottcollective.com/wp-content/uploads/2022/06/Copy-of-Announcing-Our-New-1.jpg
END:VEVENT
BEGIN:VEVENT
DTSTART;TZID=America/New_York:20240421T153000
DTEND;TZID=America/New_York:20240421T183000
DTSTAMP:20260419T085542
CREATED:20240411T221415Z
LAST-MODIFIED:20240418T225210Z
UID:5653-1713713400-1713724200@talcottcollective.com
SUMMARY:Bad Management - Acoustic Duo
DESCRIPTION:Join us for Bad Management – a locally talented band that will showcase its Acoustic Duo\, with potential sit-ins as well.
URL:https://talcottcollective.com/event/bad-management-acoustic-duo-3/
CATEGORIES:Food Truck,Music
ATTACH;FMTTYPE=image/jpeg:https://talcottcollective.com/wp-content/uploads/2024/01/Bad-Management.jpg
END:VEVENT
BEGIN:VEVENT
DTSTART;TZID=America/New_York:20240420T190000
DTEND;TZID=America/New_York:20240420T230000
DTSTAMP:20260419T085542
CREATED:20240411T215921Z
LAST-MODIFIED:20240411T215921Z
UID:5645-1713639600-1713654000@talcottcollective.com
SUMMARY:Rocco and Company
DESCRIPTION:We’re a Connecticut Band sharing our favorite music for the pure joy of entertaining and having fun
URL:https://talcottcollective.com/event/rocco-and-company/
CATEGORIES:Music
ATTACH;FMTTYPE=image/jpeg:https://talcottcollective.com/wp-content/uploads/2024/04/rocco.jpg
END:VEVENT
BEGIN:VEVENT
DTSTART;TZID=America/New_York:20240420T140000
DTEND;TZID=America/New_York:20240420T190000
DTSTAMP:20260419T085542
CREATED:20240224T031737Z
LAST-MODIFIED:20240224T031737Z
UID:5636-1713621600-1713639600@talcottcollective.com
SUMMARY:Vinyl Day with Wolfbain
DESCRIPTION:Our most popular music feature is now a weekly treat
URL:https://talcottcollective.com/event/vinyl-day-with-wolfbain/2024-04-20/
CATEGORIES:Music
ATTACH;FMTTYPE=image/jpeg:https://talcottcollective.com/wp-content/uploads/2023/10/DJ-Wolfbain-2.jpg
END:VEVENT
BEGIN:VEVENT
DTSTART;TZID=America/New_York:20240419T180000
DTEND;TZID=America/New_York:20240419T210000
DTSTAMP:20260419T085542
CREATED:20240418T232250Z
LAST-MODIFIED:20240418T232250Z
UID:5657-1713549600-1713560400@talcottcollective.com
SUMMARY:Eddie Gautier
DESCRIPTION:A Veteran and a songwriter\, with a distinct southern voice\, not of the beautiful NE area. Hailing from Texas\, sings classic and original songs about life.
URL:https://talcottcollective.com/event/eddie-gautier/
CATEGORIES:Music
ATTACH;FMTTYPE=image/jpeg:https://talcottcollective.com/wp-content/uploads/2024/04/gautier.jpg
END:VEVENT
BEGIN:VEVENT
DTSTART;TZID=America/New_York:20240418T170000
DTEND;TZID=America/New_York:20240418T190000
DTSTAMP:20260419T085542
CREATED:20220531T211628Z
LAST-MODIFIED:20241028T124316Z
UID:5450-1713459600-1713466800@talcottcollective.com
SUMMARY:Mountain Time Happy Hour
DESCRIPTION:We host a happy hour and chilled Oyster Bar on Thursday evenings!
URL:https://talcottcollective.com/event/deepwater-seafood-oyster-bar/2024-04-18/
CATEGORIES:Music,Promotion Night
ATTACH;FMTTYPE=image/png:https://talcottcollective.com/wp-content/uploads/2022/05/2.png
END:VEVENT
BEGIN:VEVENT
DTSTART;TZID=America/New_York:20240414T150000
DTEND;TZID=America/New_York:20240414T180000
DTSTAMP:20260419T085542
CREATED:20240411T215230Z
LAST-MODIFIED:20240411T215230Z
UID:5642-1713106800-1713117600@talcottcollective.com
SUMMARY:Someone You Can X-Ray
DESCRIPTION:Funky\, original\, interplanetary swamp rock fusion.
URL:https://talcottcollective.com/event/someone-you-can-x-ray/
CATEGORIES:Food Truck,Music
ATTACH;FMTTYPE=image/jpeg:https://talcottcollective.com/wp-content/uploads/2024/04/someone-you-can.jpg
END:VEVENT
BEGIN:VEVENT
DTSTART;TZID=America/New_York:20240413T200000
DTEND;TZID=America/New_York:20240413T230000
DTSTAMP:20260419T085542
CREATED:20240326T042304Z
LAST-MODIFIED:20240326T042304Z
UID:5593-1713038400-1713049200@talcottcollective.com
SUMMARY:Shout! Presents A Tribute To Fleetwood Mac And Tom Petty
DESCRIPTION:Connecticut based tribute band Shout is returning to Talcott Mountain Collective for a tribute to Fleetwood Mac and Tom Petty featuring Shannen Rae on vocals! \nAges 16+\, $10 cover
URL:https://talcottcollective.com/event/shout-presents-a-tribute-to-fleetwood-mac-and-tom-petty/
CATEGORIES:Music
ATTACH;FMTTYPE=image/jpeg:https://talcottcollective.com/wp-content/uploads/2024/03/shout-tom-petty.jpg
END:VEVENT
BEGIN:VEVENT
DTSTART;TZID=America/New_York:20240412T180000
DTEND;TZID=America/New_York:20240412T210000
DTSTAMP:20260419T085542
CREATED:20240411T214159Z
LAST-MODIFIED:20240411T214159Z
UID:5632-1712944800-1712955600@talcottcollective.com
SUMMARY:Rock Blues n Funk w Rich Badowski Duo
DESCRIPTION:Enjoy free live music as Richard Badowski and his magic harmonica find their way back to the Collective with his Rock n Blues duo.
URL:https://talcottcollective.com/event/rock-blues-n-funk-w-rich-badowski-duo-2/
CATEGORIES:Food Truck,Music
ATTACH;FMTTYPE=image/jpeg:https://talcottcollective.com/wp-content/uploads/2022/03/Rock-Blues-n-Funk-w-Rich-Badowski-Duo-e1648703023191.jpg
END:VEVENT
BEGIN:VEVENT
DTSTART;TZID=America/New_York:20240407T150000
DTEND;TZID=America/New_York:20240407T180000
DTSTAMP:20260419T085542
CREATED:20240326T041402Z
LAST-MODIFIED:20240326T041402Z
UID:5590-1712502000-1712512800@talcottcollective.com
SUMMARY:Jeff Przech
DESCRIPTION:Free Live Music w Jeff Przech
URL:https://talcottcollective.com/event/jeff-przech-10/
CATEGORIES:Food Truck,Music
ATTACH;FMTTYPE=image/jpeg:https://talcottcollective.com/wp-content/uploads/2022/03/Jeff-Przech-e1647529264734.jpg
END:VEVENT
BEGIN:VEVENT
DTSTART;TZID=America/New_York:20240406T183000
DTEND;TZID=America/New_York:20240406T230000
DTSTAMP:20260419T085542
CREATED:20240326T041227Z
LAST-MODIFIED:20240405T212624Z
UID:5443-1712428200-1712444400@talcottcollective.com
SUMMARY:Frank Viele and The Fallout/Men's Basketball
DESCRIPTION:Please note: Frank will be taking the stage early (6-8:30) so that we can broadcast the UConn Men’s basketball game Saturday night.\n\nSinger | Songwriter | Guitarist | Record Collector | New England’s 2022 “Songwriter of The Year” 
URL:https://talcottcollective.com/event/frank-viele-and-the-fallout/
CATEGORIES:Music
ATTACH;FMTTYPE=image/jpeg:https://talcottcollective.com/wp-content/uploads/2024/03/Frank-Viele-e1711425571541.jpg
END:VEVENT
BEGIN:VEVENT
DTSTART;TZID=America/New_York:20240405T180000
DTEND;TZID=America/New_York:20240405T230000
DTSTAMP:20260419T085542
CREATED:20240405T211230Z
LAST-MODIFIED:20240405T211230Z
UID:5607-1712340000-1712358000@talcottcollective.com
SUMMARY:April 5 - Two bands and Women's NCAA BBall
DESCRIPTION:Friday – @phloyd_is_dead performs an acoustic set @ 6:15 then  @righteouscontinental takes things into electric gear  around 7:30 then  we turn all audio to UCONN Women’s  – $5 music cover Friday and  @nibblenomstruck onsite afternoon into the night
URL:https://talcottcollective.com/event/april-5-two-bands-and-womens-ncaa-bball/
CATEGORIES:Music
ATTACH;FMTTYPE=image/png:https://talcottcollective.com/wp-content/uploads/2023/05/Righteous.png
END:VEVENT
BEGIN:VEVENT
DTSTART;TZID=America/New_York:20240330T190000
DTEND;TZID=America/New_York:20240330T220000
DTSTAMP:20260419T085542
CREATED:20240326T035026Z
LAST-MODIFIED:20240326T035026Z
UID:5440-1711825200-1711836000@talcottcollective.com
SUMMARY:Jason Ingriselli & The Miles North and Austin James & The Nomads
DESCRIPTION:A little bit of Country. A little bit of Soul.\nJoin us  on 3/30 for an evening of great music with Jason Ingriselli & The Miles North and Austin James + The Nomads.  $10 Cover
URL:https://talcottcollective.com/event/jason-ingriselli-the-miles-north-and-austin-james-the-nomads/
CATEGORIES:Food Truck,Music
ATTACH;FMTTYPE=image/jpeg:https://talcottcollective.com/wp-content/uploads/2024/03/march-30th-concert-e1711424971731.jpg
END:VEVENT
BEGIN:VEVENT
DTSTART;TZID=America/New_York:20240329T193000
DTEND;TZID=America/New_York:20240329T213000
DTSTAMP:20260419T085542
CREATED:20240314T000510Z
LAST-MODIFIED:20240314T000510Z
UID:5420-1711740600-1711747800@talcottcollective.com
SUMMARY:Jeff Pitchell
DESCRIPTION:Making his Talcott Mountain Collective debut! Jeff now has a #1 Album and a #1 song in the USA on the Roots Music Charts.
URL:https://talcottcollective.com/event/jeff-pitchell/
CATEGORIES:Music
ATTACH;FMTTYPE=image/jpeg:https://talcottcollective.com/wp-content/uploads/2024/03/jeff-pitchall-1.jpg
END:VEVENT
BEGIN:VEVENT
DTSTART;TZID=America/New_York:20240323T193000
DTEND;TZID=America/New_York:20240323T223000
DTSTAMP:20260419T085542
CREATED:20240313T234327Z
LAST-MODIFIED:20240313T234327Z
UID:5417-1711222200-1711233000@talcottcollective.com
SUMMARY:LB4
DESCRIPTION:Join us for the Talcott Mountain Collective debut if LB4! \nLB4 plays original and cover music including funk\, reggae\, blues\, rock and soul music.
URL:https://talcottcollective.com/event/lb4/
CATEGORIES:Music
ATTACH;FMTTYPE=image/jpeg:https://talcottcollective.com/wp-content/uploads/2024/03/LB4.jpg
END:VEVENT
BEGIN:VEVENT
DTSTART;TZID=America/New_York:20240322T180000
DTEND;TZID=America/New_York:20240322T210000
DTSTAMP:20260419T085542
CREATED:20240313T231154Z
LAST-MODIFIED:20240313T231154Z
UID:5415-1711130400-1711141200@talcottcollective.com
SUMMARY:The Hooch
DESCRIPTION:Dynamic duo specializing in Pop\, Hip-Hop\, R&B and Soul
URL:https://talcottcollective.com/event/the-hooch-10/
CATEGORIES:Music
ATTACH;FMTTYPE=image/jpeg:https://talcottcollective.com/wp-content/uploads/2022/05/thehooch-e1652454792897.jpg
END:VEVENT
BEGIN:VEVENT
DTSTART;TZID=America/New_York:20240317T110000
DTEND;TZID=America/New_York:20240317T140000
DTSTAMP:20260419T085542
CREATED:20240313T222815Z
LAST-MODIFIED:20240313T222941Z
UID:5403-1710673200-1710684000@talcottcollective.com
SUMMARY:Paddy's Day Brunch 🍀 With The Fiddling Carroll Sisters
DESCRIPTION:We are opening the doors early to offer a brunch and live music experience this Paddy’s Day. Come enjoy our full menu\, and newly featured egg sandwiches . Bloody Mary\, Irish Coffee and full lineup from our bar – alcohol and NA options. Something for all ages\nThe Fiddling Carroll Sisters Trio (2 fiddles and a cello) will perform for 2 hours starting at 11:30 – a free music experience for all.\nCome kick off St Patrick’s Day on Mountain Time
URL:https://talcottcollective.com/event/paddys-day-brunch-%f0%9f%8d%80-with-the-fiddling-carroll-sisters/
CATEGORIES:Holiday Opening,Music
ATTACH;FMTTYPE=image/jpeg:https://talcottcollective.com/wp-content/uploads/2024/03/carroll-sisters.jpg
END:VEVENT
BEGIN:VEVENT
DTSTART;TZID=America/New_York:20240316T200000
DTEND;TZID=America/New_York:20240316T230000
DTSTAMP:20260419T085542
CREATED:20240313T112036Z
LAST-MODIFIED:20240313T112036Z
UID:5399-1710619200-1710630000@talcottcollective.com
SUMMARY:Paddy's On The Mountain Saturday Night Concert: Phloyd Is Dead
DESCRIPTION:To borrow from a Pink Floyd song title and lyric “Green is the Colour…” and that’s what this weekend is…GREEN \n\n\n\nOur third annual Paddy’s On The Mountain stretches over March 16 & 17 – with a special musical feature of Phloyd Is Dead set to perform at 8:00 on Saturday\, March 16. This will be a 21+ show\, $10 door.\n\n\n\nPhloyd is Dead is a special tribute to the music of Phish\, Grateful Dead and Pink Floyd – comprised of an all-star lineup of musicians from @7below_phish \, @shout.the.band \, @mauvelloyd and @mystic__dead – they’re all students of this epic music and masters of their craft. No first time rodeos  for this group! Come see them perform together for the first time in 4 years!
URL:https://talcottcollective.com/event/paddys-on-the-mountain-saturday-night-concert-phloyd-is-dead/
CATEGORIES:21+ Event,Music
ATTACH;FMTTYPE=image/png:https://talcottcollective.com/wp-content/uploads/2024/03/Phloyd-Is-Dead.png
END:VEVENT
END:VCALENDAR