BEGIN:VCALENDAR
VERSION:2.0
PRODID:-//Talcott Mountain Collective - ECPv6.15.20//NONSGML v1.0//EN
CALSCALE:GREGORIAN
METHOD:PUBLISH
X-WR-CALNAME:Talcott Mountain Collective
X-ORIGINAL-URL:https://talcottcollective.com
X-WR-CALDESC:Events for Talcott Mountain Collective
REFRESH-INTERVAL;VALUE=DURATION:PT1H
X-Robots-Tag:noindex
X-PUBLISHED-TTL:PT1H
BEGIN:VTIMEZONE
TZID:America/New_York
BEGIN:DAYLIGHT
TZOFFSETFROM:-0500
TZOFFSETTO:-0400
TZNAME:EDT
DTSTART:20210314T070000
END:DAYLIGHT
BEGIN:STANDARD
TZOFFSETFROM:-0400
TZOFFSETTO:-0500
TZNAME:EST
DTSTART:20211107T060000
END:STANDARD
BEGIN:DAYLIGHT
TZOFFSETFROM:-0500
TZOFFSETTO:-0400
TZNAME:EDT
DTSTART:20220313T070000
END:DAYLIGHT
BEGIN:STANDARD
TZOFFSETFROM:-0400
TZOFFSETTO:-0500
TZNAME:EST
DTSTART:20221106T060000
END:STANDARD
BEGIN:DAYLIGHT
TZOFFSETFROM:-0500
TZOFFSETTO:-0400
TZNAME:EDT
DTSTART:20230312T070000
END:DAYLIGHT
BEGIN:STANDARD
TZOFFSETFROM:-0400
TZOFFSETTO:-0500
TZNAME:EST
DTSTART:20231105T060000
END:STANDARD
BEGIN:DAYLIGHT
TZOFFSETFROM:-0500
TZOFFSETTO:-0400
TZNAME:EDT
DTSTART:20240310T070000
END:DAYLIGHT
BEGIN:STANDARD
TZOFFSETFROM:-0400
TZOFFSETTO:-0500
TZNAME:EST
DTSTART:20241103T060000
END:STANDARD
END:VTIMEZONE
BEGIN:VEVENT
DTSTART;TZID=America/New_York:20230122T140000
DTEND;TZID=America/New_York:20230122T170000
DTSTAMP:20260421T123235
CREATED:20221119T153429Z
LAST-MODIFIED:20230120T225653Z
UID:3346-1674396000-1674406800@talcottcollective.com
SUMMARY:John Mayock
DESCRIPTION:John Mayock is a singer\, song stylist\, and writer with deep roots in Folk\, Rock\, and Country music. An accomplished guitarist who also plays harmonica\, mandolin\, and piano\, John has shared the stage with  diverse artists including Greg Allman\, NRBQ\, Dar Williams\, and Jonathan Edwards. His live performances reflect his love of music\, and his repertoire is extensive and unique. \n\n 
URL:https://talcottcollective.com/event/john-mayock-6/2023-01-22/
CATEGORIES:Music
ATTACH;FMTTYPE=image/jpeg:https://talcottcollective.com/wp-content/uploads/2022/01/johnmay.jpg
END:VEVENT
BEGIN:VEVENT
DTSTART;TZID=America/New_York:20230121T190000
DTEND;TZID=America/New_York:20230121T220000
DTSTAMP:20260421T123236
CREATED:20230119T174612Z
LAST-MODIFIED:20230119T174612Z
UID:3696-1674327600-1674338400@talcottcollective.com
SUMMARY:Mass-Conn-Fusion
DESCRIPTION:Join us for an encore showing of this locally celebrated 7-piece Big Band!\n21+\, $5 cover.\nA night of love music paired with Smetana Food Truck\, The Collective Kitchen and more…keep an eye out for updates.
URL:https://talcottcollective.com/event/mass-conn-fusion-2/
CATEGORIES:21+ Event,Food Truck Night,Music
ATTACH;FMTTYPE=image/jpeg:https://talcottcollective.com/wp-content/uploads/2023/01/mass-conn.jpg
END:VEVENT
BEGIN:VEVENT
DTSTART;TZID=America/New_York:20230120T180000
DTEND;TZID=America/New_York:20230120T210000
DTSTAMP:20260421T123236
CREATED:20230109T155601Z
LAST-MODIFIED:20230109T155601Z
UID:3693-1674237600-1674248400@talcottcollective.com
SUMMARY:Mollie Pop
DESCRIPTION:Mollie Pop is a Female Fronted Top 40+ Acoustic Duo bringing you a full band feel with a scaled down natural sound and energy.
URL:https://talcottcollective.com/event/mollie-pop-3/
CATEGORIES:Music
ATTACH;FMTTYPE=image/jpeg:https://talcottcollective.com/wp-content/uploads/2022/09/MolliePop-e1663349740299.jpg
END:VEVENT
BEGIN:VEVENT
DTSTART;TZID=America/New_York:20230114T190000
DTEND;TZID=America/New_York:20230114T220000
DTSTAMP:20260421T123236
CREATED:20230105T223621Z
LAST-MODIFIED:20230105T223621Z
UID:3681-1673722800-1673733600@talcottcollective.com
SUMMARY:Tim McDonald and Hally Jaeggi
DESCRIPTION:Live music with Tim McDonald and Hally Jaeggi
URL:https://talcottcollective.com/event/tim-mcdonald-and-hally-jaeggi-8/
CATEGORIES:Music
ATTACH;FMTTYPE=image/jpeg:https://talcottcollective.com/wp-content/uploads/2022/03/MCdonald-Jaeggi-e1648094528742.jpg
END:VEVENT
BEGIN:VEVENT
DTSTART;TZID=America/New_York:20230113T180000
DTEND;TZID=America/New_York:20230113T220000
DTSTAMP:20260421T123236
CREATED:20230103T151513Z
LAST-MODIFIED:20230103T151513Z
UID:3679-1673632800-1673647200@talcottcollective.com
SUMMARY:Michael Sasportas
DESCRIPTION:Live Music w/ Michael Sasportas
URL:https://talcottcollective.com/event/michael-sasportas-7/
CATEGORIES:Music
ATTACH;FMTTYPE=image/jpeg:https://talcottcollective.com/wp-content/uploads/2022/04/Sasportas-e1650576952684.jpg
END:VEVENT
BEGIN:VEVENT
DTSTART;TZID=America/New_York:20230107T190000
DTEND;TZID=America/New_York:20230107T220000
DTSTAMP:20260421T123236
CREATED:20230103T150504Z
LAST-MODIFIED:20230103T150504Z
UID:3675-1673118000-1673128800@talcottcollective.com
SUMMARY:7 Below: An Evening of Phish at the Collective
DESCRIPTION:Join us for an evening of live music with this locally celebrated 4some.\n$7 at the door\, ages 21+\nThe evening will also feature Sambas Food Truck  Collective Kitchen  and The  Roll – hard cider tasting table with Stormalong Cider 
URL:https://talcottcollective.com/event/7-below-an-evening-of-phish-at-the-collective-2/
CATEGORIES:21+ Event,Food Truck,Music
ATTACH;FMTTYPE=image/jpeg:https://talcottcollective.com/wp-content/uploads/2022/03/phishtribute.jpg
END:VEVENT
BEGIN:VEVENT
DTSTART;TZID=America/New_York:20230106T180000
DTEND;TZID=America/New_York:20230106T210000
DTSTAMP:20260421T123236
CREATED:20230103T151025Z
LAST-MODIFIED:20230103T151025Z
UID:3677-1673028000-1673038800@talcottcollective.com
SUMMARY:Jeff Przech
DESCRIPTION:Free Live Music w Jeff Przech
URL:https://talcottcollective.com/event/jeff-przech-3/
CATEGORIES:Music
ATTACH;FMTTYPE=image/jpeg:https://talcottcollective.com/wp-content/uploads/2022/03/Jeff-Przech-e1647529264734.jpg
END:VEVENT
BEGIN:VEVENT
DTSTART;TZID=America/New_York:20221231T170000
DTEND;TZID=America/New_York:20221231T200000
DTSTAMP:20260421T123236
CREATED:20221231T155031Z
LAST-MODIFIED:20221231T155031Z
UID:3538-1672506000-1672516800@talcottcollective.com
SUMMARY:Mark Paradis
DESCRIPTION:Rock your New Year’s Eve with live music with Mark Paradis.
URL:https://talcottcollective.com/event/mark-paradis-11/
CATEGORIES:Holiday Opening,Music
ATTACH;FMTTYPE=image/jpeg:https://talcottcollective.com/wp-content/uploads/2022/01/paradis-e1645676902688.jpg
END:VEVENT
BEGIN:VEVENT
DTSTART;TZID=America/New_York:20221231T130000
DTEND;TZID=America/New_York:20221231T160000
DTSTAMP:20260421T123236
CREATED:20221231T154831Z
LAST-MODIFIED:20221231T154831Z
UID:3536-1672491600-1672502400@talcottcollective.com
SUMMARY:Joe Mandro Music
DESCRIPTION:Acoustic Guitarist\, Singer and Jam Extraordinaire
URL:https://talcottcollective.com/event/joe-mandro-music-2/
CATEGORIES:Holiday Opening,Music
ATTACH;FMTTYPE=image/jpeg:https://talcottcollective.com/wp-content/uploads/2022/02/mandro-and-rob-e1646102187534.jpg
END:VEVENT
BEGIN:VEVENT
DTSTART;TZID=America/New_York:20221218T180000
DTEND;TZID=America/New_York:20221218T210000
DTSTAMP:20260421T123236
CREATED:20230208T204530Z
LAST-MODIFIED:20230208T204530Z
UID:3785-1671386400-1671397200@talcottcollective.com
SUMMARY:Benny Mikula - The Lone Gnome
DESCRIPTION:The lead singer and chief songwriter of The Alpaca Gnomes.
URL:https://talcottcollective.com/event/benny-mikula-the-lone-gnome-2/
CATEGORIES:Music
ATTACH;FMTTYPE=image/jpeg:https://talcottcollective.com/wp-content/uploads/2022/10/Lone-Gnome.jpg
END:VEVENT
BEGIN:VEVENT
DTSTART;TZID=America/New_York:20221218T140000
DTEND;TZID=America/New_York:20221218T170000
DTSTAMP:20260421T123236
CREATED:20221130T232314Z
LAST-MODIFIED:20221130T232314Z
UID:3468-1671372000-1671382800@talcottcollective.com
SUMMARY:Holiday Jams - Mountain Music Series: Jazz
DESCRIPTION:Tis the season! Join us for  festive Sundays of our featured Mountain Music Series: Holiday Jams\n\nEach Sunday will feature:\n   All Day Happy Hour\n   Live Music (playing around 2-6 – check each day)\n   Food Trucks (check schedule)\n   Collective Kitchen\n   Oyster & Soup Bar – @deepwaterseafood\n   @newenglandcoffeeguy\n   and more we haven’t thought of yet…\n\nSunday\, December 18th\n @massconnfusion The Jazz Trio – performing jazzy renditions of holiday classics
URL:https://talcottcollective.com/event/holiday-jams-mountain-music-series-jazz/
CATEGORIES:Food Truck Night,Music,Promotion Night
ATTACH;FMTTYPE=image/jpeg:https://talcottcollective.com/wp-content/uploads/2022/11/Celtic-Duo-Holiday-Show-1.jpg
END:VEVENT
BEGIN:VEVENT
DTSTART;TZID=America/New_York:20221217T180000
DTEND;TZID=America/New_York:20221217T210000
DTSTAMP:20260421T123236
CREATED:20221214T203703Z
LAST-MODIFIED:20221214T203703Z
UID:3511-1671300000-1671310800@talcottcollective.com
SUMMARY:Jeff Wieselberg
DESCRIPTION:Come enjoy the easy sounds of local icon Jeff Wieselberg as he ‘tickles the ivories’ for your Collective enjoyment \nTimes subject to change.
URL:https://talcottcollective.com/event/jeff-wieselberg-8/
CATEGORIES:Music
ATTACH;FMTTYPE=image/jpeg:https://talcottcollective.com/wp-content/uploads/2022/03/Jeff-Wieselberg-e1648703275804.jpg
END:VEVENT
BEGIN:VEVENT
DTSTART;TZID=America/New_York:20221217T140000
DTEND;TZID=America/New_York:20221217T170000
DTSTAMP:20260421T123236
CREATED:20221214T161834Z
LAST-MODIFIED:20221214T161834Z
UID:3502-1671285600-1671296400@talcottcollective.com
SUMMARY:Gabi & Whitney
DESCRIPTION:Female-fronted & CT-based acoustic cover band playing your favorite hits from the 1960s to today!
URL:https://talcottcollective.com/event/gabi-whitney-6/
CATEGORIES:Music
ATTACH;FMTTYPE=image/jpeg:https://talcottcollective.com/wp-content/uploads/2022/03/Gabi-and-Whitney.jpg
END:VEVENT
BEGIN:VEVENT
DTSTART;TZID=America/New_York:20221216T180000
DTEND;TZID=America/New_York:20221216T210000
DTSTAMP:20260421T123236
CREATED:20221213T013834Z
LAST-MODIFIED:20221213T013834Z
UID:3499-1671213600-1671224400@talcottcollective.com
SUMMARY:Jamm and Finn
DESCRIPTION:Frank Finik is a musician with a passion for bringing happiness to others through the VIBE- best described as a gentle manipulation of emotion that creates a shared common presence\, absorbs all five senses\, thusly creating a 6th sense which is simply…..the VIBE.
URL:https://talcottcollective.com/event/jamm-and-finn/
CATEGORIES:Music
ATTACH;FMTTYPE=image/jpeg:https://talcottcollective.com/wp-content/uploads/2022/04/Jlamm-and-Finn.jpg
END:VEVENT
BEGIN:VEVENT
DTSTART;TZID=America/New_York:20221211T140000
DTEND;TZID=America/New_York:20221211T170000
DTSTAMP:20260421T123236
CREATED:20221130T212252Z
LAST-MODIFIED:20221130T230625Z
UID:3430-1670767200-1670778000@talcottcollective.com
SUMMARY:Holiday Jams - Mountain Music Series: Celtic
DESCRIPTION:Tis the season! Join us for  festive Sundays of our featured Mountain Music Series: Holiday Jams\n\nEach Sunday will feature:\n   All Day Happy Hour\n   Live Music (playing around 2-6 – check each day)\n   Food Trucks (check schedule)\n   Collective Kitchen\n   Oyster & Soup Bar – @deepwaterseafood\n   @newenglandcoffeeguy\n   and more we haven’t thought of yet…\n\nThe December Sunday music series lineup is:\nSunday\, December 11th\n @heathringrose and Jeanne Freeman performing a Celtic duo of traditional and holiday pieces
URL:https://talcottcollective.com/event/holiday-jams-mountain-music-series-celtic/
CATEGORIES:Food Truck Night,Music,Promotion Night
ATTACH;FMTTYPE=image/jpeg:https://talcottcollective.com/wp-content/uploads/2022/11/Celtic-Duo-Holiday-Show.jpg
END:VEVENT
BEGIN:VEVENT
DTSTART;TZID=America/New_York:20221210T190000
DTEND;TZID=America/New_York:20221210T220000
DTSTAMP:20260421T123236
CREATED:20221206T155432Z
LAST-MODIFIED:20221206T155432Z
UID:3489-1670698800-1670709600@talcottcollective.com
SUMMARY:Tim McDonald and Hally Jaeggi
DESCRIPTION:Live music with Tim McDonald and Hally Jaeggi
URL:https://talcottcollective.com/event/tim-mcdonald-and-hally-jaeggi-7/
CATEGORIES:Music
ATTACH;FMTTYPE=image/jpeg:https://talcottcollective.com/wp-content/uploads/2022/03/MCdonald-Jaeggi-e1648094528742.jpg
END:VEVENT
BEGIN:VEVENT
DTSTART;TZID=America/New_York:20221209T180000
DTEND;TZID=America/New_York:20221209T210000
DTSTAMP:20260421T123236
CREATED:20221206T153415Z
LAST-MODIFIED:20221206T153415Z
UID:3487-1670608800-1670619600@talcottcollective.com
SUMMARY:Jeff Przech
DESCRIPTION:Free Live Music w Jeff Przech
URL:https://talcottcollective.com/event/jeff-przech-2/
CATEGORIES:Music
ATTACH;FMTTYPE=image/jpeg:https://talcottcollective.com/wp-content/uploads/2022/03/Jeff-Przech-e1647529264734.jpg
END:VEVENT
BEGIN:VEVENT
DTSTART;TZID=America/New_York:20221204T140000
DTEND;TZID=America/New_York:20221204T170000
DTSTAMP:20260421T123236
CREATED:20221130T182053Z
LAST-MODIFIED:20221130T212627Z
UID:3421-1670162400-1670173200@talcottcollective.com
SUMMARY:Holiday Jams - Mountain Music Series: Rock
DESCRIPTION:Tis the season! Join us for  festive Sundays of our featured Mountain Music Series: Holiday Jams\n\nEach Sunday will feature:\n   All Day Happy Hour\n   Live Music (playing around 2-6 – check each day)\n   Food Trucks (check schedule)\n   Collective Kitchen\n   Oyster & Soup Bar – @deepwaterseafood\n   @newenglandcoffeeguy\n   and more we haven’t thought of yet…\n\nThe December Sunday music series lineup is:\nSunday\, December 4th\n The Noel Et Als-  person band doing rocktastic takes on classic holiday songs!
URL:https://talcottcollective.com/event/holiday-jams-mountain-music-series-rock/
CATEGORIES:Food Truck Night,Music,Promotion Night
ATTACH;FMTTYPE=image/jpeg:https://talcottcollective.com/wp-content/uploads/2022/11/Noel-Et-Als.jpg
END:VEVENT
BEGIN:VEVENT
DTSTART;TZID=America/New_York:20221203T180000
DTEND;TZID=America/New_York:20221203T230000
DTSTAMP:20260421T123236
CREATED:20221130T183646Z
LAST-MODIFIED:20221130T184458Z
UID:3424-1670090400-1670108400@talcottcollective.com
SUMMARY:Collectivus featuring Mass-Conn-Fusion
DESCRIPTION:Our first annual Collectivus festival is coming this Saturday!\nJoin us as we present regional favorites. Mass-Conn-Fusion! \nThe seven-piece band features exciting vocals\, polished horns and funky rhythm section. \nThe night will include: \n\n\nFree Bourbon Tasting\n\n\nFree Hard Cider Tasting\n\n\nOyster Bar\n\n\nHot Beverage/Espresso Cart\n\n\nFood Trucks\n\n\nPlease note: This is a 21 and over event. There will be a $5 cover charge per person.
URL:https://talcottcollective.com/event/collectivus/
CATEGORIES:21+ Event,Food Truck Night,Music
ATTACH;FMTTYPE=image/jpeg:https://talcottcollective.com/wp-content/uploads/2022/11/mass-conn-fusion.jpg
END:VEVENT
BEGIN:VEVENT
DTSTART;TZID=America/New_York:20221203T140000
DTEND;TZID=America/New_York:20221203T170000
DTSTAMP:20260421T123236
CREATED:20221201T201639Z
LAST-MODIFIED:20221201T201639Z
UID:3480-1670076000-1670086800@talcottcollective.com
SUMMARY:Joe Mandro/Dennis Fancher
DESCRIPTION:Live music.
URL:https://talcottcollective.com/event/joe-mandro-dennis-fancher/
CATEGORIES:Music
ATTACH;FMTTYPE=image/jpeg:https://talcottcollective.com/wp-content/uploads/2022/12/qtq80-gMhJnY.jpeg
END:VEVENT
BEGIN:VEVENT
DTSTART;TZID=America/New_York:20221202T180000
DTEND;TZID=America/New_York:20221202T210000
DTSTAMP:20260421T123236
CREATED:20221201T201140Z
LAST-MODIFIED:20221201T201140Z
UID:3478-1670004000-1670014800@talcottcollective.com
SUMMARY:The Hooch
DESCRIPTION:Dynamic duo specializing in Pop\, Hip-Hop\, R&B and Soul
URL:https://talcottcollective.com/event/the-hooch-5/
CATEGORIES:Music
ATTACH;FMTTYPE=image/jpeg:https://talcottcollective.com/wp-content/uploads/2022/05/thehooch-e1652454792897.jpg
END:VEVENT
BEGIN:VEVENT
DTSTART;TZID=America/New_York:20221127T150000
DTEND;TZID=America/New_York:20221127T180000
DTSTAMP:20260421T123236
CREATED:20221126T180951Z
LAST-MODIFIED:20221126T180951Z
UID:3418-1669561200-1669572000@talcottcollective.com
SUMMARY:Jeff Wieselberg
DESCRIPTION:Come enjoy the easy sounds of local icon Jeff Wieselberg as he ‘tickles the ivories’ for your Collective enjoyment \nTimes subject to change.
URL:https://talcottcollective.com/event/jeff-wieselberg-7/
CATEGORIES:Music
ATTACH;FMTTYPE=image/jpeg:https://talcottcollective.com/wp-content/uploads/2022/03/Jeff-Wieselberg-e1648703275804.jpg
END:VEVENT
BEGIN:VEVENT
DTSTART;TZID=America/New_York:20221125T173000
DTEND;TZID=America/New_York:20221125T203000
DTSTAMP:20260421T123236
CREATED:20221119T155904Z
LAST-MODIFIED:20221119T155904Z
UID:3354-1669397400-1669408200@talcottcollective.com
SUMMARY:Acoustic Valhalla
DESCRIPTION:Free Live Music w Acoustic Valhalla
URL:https://talcottcollective.com/event/acoustic-valhalla-4/
CATEGORIES:Music
ATTACH;FMTTYPE=image/jpeg:https://talcottcollective.com/wp-content/uploads/2022/03/Valhalla-e1647528913243.jpg
END:VEVENT
BEGIN:VEVENT
DTSTART;TZID=America/New_York:20221124T150000
DTEND;TZID=America/New_York:20221124T210000
DTSTAMP:20260421T123236
CREATED:20221119T155626Z
LAST-MODIFIED:20221119T155626Z
UID:3351-1669302000-1669323600@talcottcollective.com
SUMMARY:Thanksgiving Night Opening!
DESCRIPTION:After the bird has been eatin\, and the whole family is asleep in front of the TV\, why not head down to your favorite spot to relax while sipping some premium local beers?
URL:https://talcottcollective.com/event/thanksgiving-night-opening/
CATEGORIES:Holiday Opening
ATTACH;FMTTYPE=image/jpeg:https://talcottcollective.com/wp-content/uploads/2022/11/qtq80-ioheuB.jpeg
END:VEVENT
BEGIN:VEVENT
DTSTART;TZID=America/New_York:20221123T120000
DTEND;TZID=America/New_York:20221123T210000
DTSTAMP:20260421T123236
CREATED:20221119T154839Z
LAST-MODIFIED:20221119T154839Z
UID:3349-1669204800-1669237200@talcottcollective.com
SUMMARY:"Drinksgiving" featuring 7 Below
DESCRIPTION:Join us for the annual Drinksgiving celebration the night before Thanksgiving! The Square Peg Pizzeria and I Know A Guy food trucks will be there providing great food while 7 Below provides great live music. And of course\, we have the greatest lineup of local beer in the state.
URL:https://talcottcollective.com/event/drinksgiving-featuring-7-below/
CATEGORIES:Food Truck Night,Music
ATTACH;FMTTYPE=image/jpeg:https://talcottcollective.com/wp-content/uploads/2022/03/phishtribute.jpg
END:VEVENT
BEGIN:VEVENT
DTSTART;TZID=America/New_York:20221120T140000
DTEND;TZID=America/New_York:20221120T180000
DTSTAMP:20260421T123236
CREATED:20221116T161727Z
LAST-MODIFIED:20221116T161727Z
UID:3342-1668952800-1668967200@talcottcollective.com
SUMMARY:Michael Sasportas
DESCRIPTION:Live Music w/ Michael Sasportas
URL:https://talcottcollective.com/event/michael-sasportas-6/
CATEGORIES:Music
ATTACH;FMTTYPE=image/jpeg:https://talcottcollective.com/wp-content/uploads/2022/04/Sasportas-e1650576952684.jpg
END:VEVENT
BEGIN:VEVENT
DTSTART;TZID=America/New_York:20221119T190000
DTEND;TZID=America/New_York:20221119T220000
DTSTAMP:20260421T123236
CREATED:20221116T161439Z
LAST-MODIFIED:20221116T161439Z
UID:3340-1668884400-1668895200@talcottcollective.com
SUMMARY:Gabi & Whitney
DESCRIPTION:Female-fronted & CT-based acoustic cover band playing your favorite hits from the 1960s to today!
URL:https://talcottcollective.com/event/gabi-whitney-5/
CATEGORIES:Music
ATTACH;FMTTYPE=image/jpeg:https://talcottcollective.com/wp-content/uploads/2022/03/Gabi-and-Whitney.jpg
END:VEVENT
BEGIN:VEVENT
DTSTART;TZID=America/New_York:20221119T150000
DTEND;TZID=America/New_York:20221119T180000
DTSTAMP:20260421T123236
CREATED:20221116T142429Z
LAST-MODIFIED:20221116T160751Z
UID:3338-1668870000-1668880800@talcottcollective.com
SUMMARY:Joe Mandro Music
DESCRIPTION:Acoustic Guitarist\, Singer and Jam Extraordinaire
URL:https://talcottcollective.com/event/joe-mandro-music/
CATEGORIES:Music
ATTACH;FMTTYPE=image/jpeg:https://talcottcollective.com/wp-content/uploads/2022/02/mandro-and-rob-e1646102187534.jpg
END:VEVENT
BEGIN:VEVENT
DTSTART;TZID=America/New_York:20221118T180000
DTEND;TZID=America/New_York:20221118T210000
DTSTAMP:20260421T123236
CREATED:20221116T141954Z
LAST-MODIFIED:20221118T180942Z
UID:3336-1668794400-1668805200@talcottcollective.com
SUMMARY:Alan Venitosh and Lee Sylvestre
DESCRIPTION:
URL:https://talcottcollective.com/event/venitosh-sylvestre/
CATEGORIES:Music
ATTACH;FMTTYPE=image/gif:https://talcottcollective.com/wp-content/uploads/2021/09/Untitled-design-5-2.gif
END:VEVENT
BEGIN:VEVENT
DTSTART;TZID=America/New_York:20221113T140000
DTEND;TZID=America/New_York:20221113T170000
DTSTAMP:20260421T123236
CREATED:20221103T161243Z
LAST-MODIFIED:20221105T235744Z
UID:3265-1668348000-1668358800@talcottcollective.com
SUMMARY:Mark Paradis Band
DESCRIPTION:Live music with Mark Paradis.
URL:https://talcottcollective.com/event/mark-paradis-band/
CATEGORIES:Music
ATTACH;FMTTYPE=image/jpeg:https://talcottcollective.com/wp-content/uploads/2022/01/paradis-e1645676902688.jpg
END:VEVENT
END:VCALENDAR