BEGIN:VCALENDAR
VERSION:2.0
PRODID:-//Talcott Mountain Collective - ECPv6.15.20//NONSGML v1.0//EN
CALSCALE:GREGORIAN
METHOD:PUBLISH
X-WR-CALNAME:Talcott Mountain Collective
X-ORIGINAL-URL:https://talcottcollective.com
X-WR-CALDESC:Events for Talcott Mountain Collective
REFRESH-INTERVAL;VALUE=DURATION:PT1H
X-Robots-Tag:noindex
X-PUBLISHED-TTL:PT1H
BEGIN:VTIMEZONE
TZID:America/New_York
BEGIN:DAYLIGHT
TZOFFSETFROM:-0500
TZOFFSETTO:-0400
TZNAME:EDT
DTSTART:20230312T070000
END:DAYLIGHT
BEGIN:STANDARD
TZOFFSETFROM:-0400
TZOFFSETTO:-0500
TZNAME:EST
DTSTART:20231105T060000
END:STANDARD
BEGIN:DAYLIGHT
TZOFFSETFROM:-0500
TZOFFSETTO:-0400
TZNAME:EDT
DTSTART:20240310T070000
END:DAYLIGHT
BEGIN:STANDARD
TZOFFSETFROM:-0400
TZOFFSETTO:-0500
TZNAME:EST
DTSTART:20241103T060000
END:STANDARD
BEGIN:DAYLIGHT
TZOFFSETFROM:-0500
TZOFFSETTO:-0400
TZNAME:EDT
DTSTART:20250309T070000
END:DAYLIGHT
BEGIN:STANDARD
TZOFFSETFROM:-0400
TZOFFSETTO:-0500
TZNAME:EST
DTSTART:20251102T060000
END:STANDARD
END:VTIMEZONE
BEGIN:VEVENT
DTSTART;TZID=America/New_York:20240120T180000
DTEND;TZID=America/New_York:20240120T220000
DTSTAMP:20260421T003334
CREATED:20240119T195744Z
LAST-MODIFIED:20240119T195744Z
UID:5276-1705773600-1705788000@talcottcollective.com
SUMMARY:Bad Management
DESCRIPTION:Bad Management – a talented local band that will showcase its Acoustic Duo\, with potential sit-ins as well.
URL:https://talcottcollective.com/event/bad-management/
CATEGORIES:Music
ATTACH;FMTTYPE=image/jpeg:https://talcottcollective.com/wp-content/uploads/2024/01/Bad-Management.jpg
END:VEVENT
BEGIN:VEVENT
DTSTART;TZID=America/New_York:20240121T140000
DTEND;TZID=America/New_York:20240121T170000
DTSTAMP:20260421T003334
CREATED:20240119T200024Z
LAST-MODIFIED:20240119T200024Z
UID:5279-1705845600-1705856400@talcottcollective.com
SUMMARY:Joe Mandro
DESCRIPTION:Live music with local favorite Joe Mandro!
URL:https://talcottcollective.com/event/joe-mandro/
CATEGORIES:Music
ATTACH;FMTTYPE=image/jpeg:https://talcottcollective.com/wp-content/uploads/2022/02/mandro-and-rob-e1646102187534.jpg
END:VEVENT
BEGIN:VEVENT
DTSTART;TZID=America/New_York:20240126T063000
DTEND;TZID=America/New_York:20240126T213000
DTSTAMP:20260421T003334
CREATED:20240119T194659Z
LAST-MODIFIED:20240125T140911Z
UID:5273-1706250600-1706304600@talcottcollective.com
SUMMARY:Erin Rocc
DESCRIPTION:Professional Human Radio Station.
URL:https://talcottcollective.com/event/eric-rocc/
CATEGORIES:Music
ATTACH;FMTTYPE=image/jpeg:https://talcottcollective.com/wp-content/uploads/2024/01/Eric-Rocc-Music-1.jpg
END:VEVENT
BEGIN:VEVENT
DTSTART;TZID=America/New_York:20240127T190000
DTEND;TZID=America/New_York:20240127T220000
DTSTAMP:20260421T003334
CREATED:20240117T165234Z
LAST-MODIFIED:20240117T165308Z
UID:5269-1706382000-1706392800@talcottcollective.com
SUMMARY:Shakedown Citi
DESCRIPTION:Shakedown Citi was formed in the heart of NYC by a group of passionate musicians who share a love for the Grateful Dead and their timeless music. Our goal is to keep the spirit of the Dead alive and bring joy to our fans through our music.
URL:https://talcottcollective.com/event/shakedown-citi/
CATEGORIES:Music
ATTACH;FMTTYPE=image/jpeg:https://talcottcollective.com/wp-content/uploads/2024/01/shakedown-citi-e1709577086578.jpg
END:VEVENT
BEGIN:VEVENT
DTSTART;TZID=America/New_York:20240202T190000
DTEND;TZID=America/New_York:20240202T220000
DTSTAMP:20260421T003334
CREATED:20240130T222438Z
LAST-MODIFIED:20240130T222438Z
UID:5288-1706900400-1706911200@talcottcollective.com
SUMMARY:Mollie Pop
DESCRIPTION:Mollie Pop is a Female Fronted Top 40+ Acoustic Duo bringing you a full band feel with a scaled down natural sound and energy.
URL:https://talcottcollective.com/event/mollie-pop-5/
CATEGORIES:Music
ATTACH;FMTTYPE=image/jpeg:https://talcottcollective.com/wp-content/uploads/2022/09/MolliePop-e1663349740299.jpg
END:VEVENT
BEGIN:VEVENT
DTSTART;TZID=America/New_York:20240204T150000
DTEND;TZID=America/New_York:20240204T180000
DTSTAMP:20260421T003334
CREATED:20240130T222924Z
LAST-MODIFIED:20240130T222924Z
UID:5290-1707058800-1707069600@talcottcollective.com
SUMMARY:Jeff Przech
DESCRIPTION:Singer\, Songwriter\, & Guitar Player from Connecticut
URL:https://talcottcollective.com/event/jeff-przech-9/
CATEGORIES:Music
ATTACH;FMTTYPE=image/jpeg:https://talcottcollective.com/wp-content/uploads/2022/03/Jeff-Przech-e1647529264734.jpg
END:VEVENT
BEGIN:VEVENT
DTSTART;TZID=America/New_York:20240209T180000
DTEND;TZID=America/New_York:20240209T210000
DTSTAMP:20260421T003334
CREATED:20240207T115929Z
LAST-MODIFIED:20240207T115929Z
UID:5296-1707501600-1707512400@talcottcollective.com
SUMMARY:Kent Besocke Solo Accoustic
DESCRIPTION:Making his Collective debut! \nKent Besocke is a singer-songwriter who plays guitar\, banjo\, mandolin\, bouzouki\, and tenor guitar.
URL:https://talcottcollective.com/event/kent-besocke-solo-accoustic/
CATEGORIES:Music
ATTACH;FMTTYPE=image/jpeg:https://talcottcollective.com/wp-content/uploads/2024/02/Kent-Besocke.jpg
END:VEVENT
BEGIN:VEVENT
DTSTART;TZID=America/New_York:20240210T140000
DTEND;TZID=America/New_York:20240210T190000
DTSTAMP:20260421T003334
CREATED:20240207T115024Z
LAST-MODIFIED:20240207T115024Z
UID:5294-1707573600-1707591600@talcottcollective.com
SUMMARY:Vinyl Day with DJ Wolfbain
DESCRIPTION:Our resident maestro of all things Classic Rock\, from 60s\, 70s & 80s – playing requests and making the old new again. A nice way to spend a winter afternoon
URL:https://talcottcollective.com/event/vinyl-day-with-dj-wolfbain/
CATEGORIES:Music
ATTACH;FMTTYPE=image/jpeg:https://talcottcollective.com/wp-content/uploads/2023/10/DJ-Wolfbain-2.jpg
END:VEVENT
BEGIN:VEVENT
DTSTART;TZID=America/New_York:20240210T190000
DTEND;TZID=America/New_York:20240210T220000
DTSTAMP:20260421T003334
CREATED:20240207T120610Z
LAST-MODIFIED:20240207T120610Z
UID:5301-1707591600-1707602400@talcottcollective.com
SUMMARY:Slim and St. George
DESCRIPTION:Making their Collective’ debut!\n\nSlim & St George deliver a lively set of Blues and Americana with fiery guitar and soaring harmonica.
URL:https://talcottcollective.com/event/slim-and-st-george/
CATEGORIES:Music
ATTACH;FMTTYPE=image/jpeg:https://talcottcollective.com/wp-content/uploads/2024/02/slim-and-st-george.jpg
END:VEVENT
BEGIN:VEVENT
DTSTART;TZID=America/New_York:20240211T150000
DTEND;TZID=America/New_York:20240211T180000
DTSTAMP:20260421T003334
CREATED:20240207T120146Z
LAST-MODIFIED:20240207T120146Z
UID:5299-1707663600-1707674400@talcottcollective.com
SUMMARY:Ian D'Arcangelo
DESCRIPTION:Ian is the lead singer for One Time Weekend – “the innovative shred-funk Connecticut quartet bringing driving grooves with a melodic and progressive edge to the universe.” A singer & songwriter from CT. Ian keeps a familiar sound while pushing the boundaries of his genre.
URL:https://talcottcollective.com/event/ian-darcangelo-6/
CATEGORIES:Music
ATTACH;FMTTYPE=image/jpeg:https://talcottcollective.com/wp-content/uploads/2023/02/Darcangel.jpg
END:VEVENT
BEGIN:VEVENT
DTSTART;TZID=America/New_York:20240211T170000
DTEND;TZID=America/New_York:20240211T220000
DTSTAMP:20260421T003334
CREATED:20240207T122256Z
LAST-MODIFIED:20240207T122256Z
UID:5304-1707670800-1707688800@talcottcollective.com
SUMMARY:Superb Football Championship Party!
DESCRIPTION:Join us this Sunday\, Feb 11 for a Super Promo:\n– free live music  3:00-6:00\n– 50% off all food and beverage  starting at 5:00\n– The Super Bowl  will be televised in full surround sound\n\nThe promo will end when we close. The crowd will dictate how long we stay open\, but at a minimum we will keep serving through the halftime show – and longer if there’s a crowd. Cheers
URL:https://talcottcollective.com/event/superb-football-championship-party/
CATEGORIES:Promotion Night,Sports
ATTACH;FMTTYPE=image/jpeg:https://talcottcollective.com/wp-content/uploads/2024/02/FOotball-Championship-Game.jpg
END:VEVENT
BEGIN:VEVENT
DTSTART;TZID=America/New_York:20240217T140000
DTEND;TZID=America/New_York:20240217T190000
DTSTAMP:20260421T003334
CREATED:20240207T154743Z
LAST-MODIFIED:20240215T160530Z
UID:5321-1708178400-1708196400@talcottcollective.com
SUMMARY:Good Vibes Only: Bob Marley Tribute
DESCRIPTION:This is a big month for the memory of Bob Marley – his birthday and release of the much anticipated biopic movie on Feb 14.\nNo musician on his own has come to define a genre like Bob Marley. He graced this world with unbridled enthusiasm and musicianship – influencing legions of other musicians\, many carrying the Marley name. His impact extended beyond bringing reggae to a global stage\, and even extended beyond music – he was a champion of peace\, love and good vibrations…and so we host another GVO session in honor of the late great Bob Marley. This won’t be an exclusive Bob Marley afternoon\, but rather a celebration of music\, a man\, and the power of his voice/reach – certainly with a “bent” towards his own works.\nPer standard format\, vinyl archivists Tim Torrential and WolfBain will alternate 20-30 minute segments across reggae and classic rock – taking requests when possible and serving up the Good Vibrations Only. Join us!
URL:https://talcottcollective.com/event/good-vibes-only-bob-marley-tribute/
CATEGORIES:Music
ATTACH;FMTTYPE=image/jpeg:https://talcottcollective.com/wp-content/uploads/2024/02/Bob-Marley.jpg
END:VEVENT
BEGIN:VEVENT
DTSTART;TZID=America/New_York:20240217T190000
DTEND;TZID=America/New_York:20240217T220000
DTSTAMP:20260421T003334
CREATED:20240217T233922Z
LAST-MODIFIED:20240217T233922Z
UID:5333-1708196400-1708207200@talcottcollective.com
SUMMARY:The Marks Bros
DESCRIPTION:The Marks Bros (full band) play the always fun and friendly Talcott Mountain Collective on Saturday evening\,\nAdmission in $5.00 and food and great beverages on available!\nThis will be a 21+ age event beginning around 7.
URL:https://talcottcollective.com/event/the-marks-bros-5/
CATEGORIES:21+ Event,Food Truck Night,Music
ATTACH;FMTTYPE=image/jpeg:https://talcottcollective.com/wp-content/uploads/2023/01/MArks-Bros.jpg
END:VEVENT
BEGIN:VEVENT
DTSTART;TZID=America/New_York:20240218T150000
DTEND;TZID=America/New_York:20240218T180000
DTSTAMP:20260421T003334
CREATED:20240207T152711Z
LAST-MODIFIED:20240207T152711Z
UID:5315-1708268400-1708279200@talcottcollective.com
SUMMARY:Zoe Berman
DESCRIPTION:Making her Collective’ debut! \nZoe Berman is a singer-songwriter currently based in Denver\, Colorado. Frequently performing as a one-woman band\, she accompanies her sultry vocals on the piano and guitar\, sometimes complemented by a hand-built suitcase drum played with her feet. \nZoe “combines musicality and lyrical poeticism into a hypnotizing mélange of soul\, jazz\, and Americana music” to create a unique sonic experience that defies traditional genre classifications. 
URL:https://talcottcollective.com/event/zoe-berman/
CATEGORIES:Music
ATTACH;FMTTYPE=image/jpeg:https://talcottcollective.com/wp-content/uploads/2024/02/zoe-berman.jpg
END:VEVENT
BEGIN:VEVENT
DTSTART;TZID=America/New_York:20240223T193000
DTEND;TZID=America/New_York:20240223T220000
DTSTAMP:20260421T003334
CREATED:20240207T151725Z
LAST-MODIFIED:20240207T151725Z
UID:5309-1708716600-1708725600@talcottcollective.com
SUMMARY:Mass-Conn-Fusion - Full Band!
DESCRIPTION:Join the full band for loads of fun at the Talcott Mountain Collective!
URL:https://talcottcollective.com/event/mass-conn-fusion-full-band/
CATEGORIES:21+ Event,Food Truck,Music
ATTACH;FMTTYPE=image/jpeg:https://talcottcollective.com/wp-content/uploads/2024/02/MassConn-Feb-24.jpg
END:VEVENT
BEGIN:VEVENT
DTSTART;TZID=America/New_York:20240224T140000
DTEND;TZID=America/New_York:20240224T190000
DTSTAMP:20260421T003334
CREATED:20240224T031737Z
LAST-MODIFIED:20240411T214539Z
UID:5345-1708783200-1708801200@talcottcollective.com
SUMMARY:Vinyl Day with Wolfbain
DESCRIPTION:Our most popular music feature is now a weekly treat
URL:https://talcottcollective.com/event/vinyl-day-with-wolfbain/2024-02-24/
CATEGORIES:Music
ATTACH;FMTTYPE=image/jpeg:https://talcottcollective.com/wp-content/uploads/2023/10/DJ-Wolfbain-2.jpg
END:VEVENT
BEGIN:VEVENT
DTSTART;TZID=America/New_York:20240224T190000
DTEND;TZID=America/New_York:20240224T220000
DTSTAMP:20260421T003334
CREATED:20240207T153154Z
LAST-MODIFIED:20240207T153154Z
UID:5318-1708801200-1708812000@talcottcollective.com
SUMMARY:Ken Serio Trio
DESCRIPTION:This talented trio will help set the mood of medicine that we all deserve – a healthy dose of chillax.
URL:https://talcottcollective.com/event/ken-serio-trio/
CATEGORIES:Music
ATTACH;FMTTYPE=image/jpeg:https://talcottcollective.com/wp-content/uploads/2024/02/ken-serio-trio.jpg
END:VEVENT
BEGIN:VEVENT
DTSTART;TZID=America/New_York:20240225T150000
DTEND;TZID=America/New_York:20240225T180000
DTSTAMP:20260421T003334
CREATED:20240224T025618Z
LAST-MODIFIED:20240224T025618Z
UID:5342-1708873200-1708884000@talcottcollective.com
SUMMARY:Sunday Session w/Jeffrey John
DESCRIPTION:Jeff Boratko is a singer/songwriter\, composer\, and multi-instrumentalist currently based in Connecticut. He is the principal songwriter\, lead singer\, and frontman of the award-winning piano based power trio\, Streetlight Shakers (voted Connecticut’s Best New Band of 2019 by CTNOW).
URL:https://talcottcollective.com/event/sunday-session-w-jeffrey-john/
CATEGORIES:Music
ATTACH;FMTTYPE=image/jpeg:https://talcottcollective.com/wp-content/uploads/2024/02/jeffreyjohnband-e1708743450177.jpg
END:VEVENT
BEGIN:VEVENT
DTSTART;TZID=America/New_York:20240229T173000
DTEND;TZID=America/New_York:20240229T203000
DTSTAMP:20260421T003334
CREATED:20240224T033115Z
LAST-MODIFIED:20240224T033115Z
UID:5352-1709227800-1709238600@talcottcollective.com
SUMMARY:The Leap Year Jam w/ Mike Luciuk
DESCRIPTION:What better way to celebrate the extra day of ‘24 than by adding an extra night of live music? Join us for the Collective solo debut of Mike Luciuk – food and drink specials all day too
URL:https://talcottcollective.com/event/the-leap-year-jam-w-mike-luciuk/
CATEGORIES:Music
ATTACH;FMTTYPE=image/jpeg:https://talcottcollective.com/wp-content/uploads/2024/02/mike-luciek-e1708745389339.jpg
END:VEVENT
BEGIN:VEVENT
DTSTART;TZID=America/New_York:20240301T203000
DTEND;TZID=America/New_York:20240301T220000
DTSTAMP:20260421T003334
CREATED:20240207T152112Z
LAST-MODIFIED:20240207T152112Z
UID:5312-1709325000-1709330400@talcottcollective.com
SUMMARY:Shout! - Tribute to the Talking Heads
DESCRIPTION:Connecticut based tribute band Shout presents a tribute to the Talking Heads at Talcott Mountain Collective in Simsbury\, CT! Special guests include Jon Synder of Mauve Lloyd \n.\n8:30\n$10 at door\n21+
URL:https://talcottcollective.com/event/shout-tribute-to-the-talking-heads/
CATEGORIES:21+ Event,Food Truck,Music
ATTACH;FMTTYPE=image/jpeg:https://talcottcollective.com/wp-content/uploads/2024/02/SHout-Talking-Heads.jpg
END:VEVENT
BEGIN:VEVENT
DTSTART;TZID=America/New_York:20240302T190000
DTEND;TZID=America/New_York:20240302T220000
DTSTAMP:20260421T003334
CREATED:20240228T172511Z
LAST-MODIFIED:20240228T172511Z
UID:5356-1709406000-1709416800@talcottcollective.com
SUMMARY:Saturday Night with The Duketones!
DESCRIPTION:Take classics by Chuck Berry\, Fats Domino\, Buddy Holly\, add some red meat country\, blues & Dylan\, shake it all up & you’ve got yourself The Duketones!
URL:https://talcottcollective.com/event/saturday-night-with-the-duketones/
CATEGORIES:Music
ATTACH;FMTTYPE=image/jpeg:https://talcottcollective.com/wp-content/uploads/2024/02/duketones.jpg
END:VEVENT
BEGIN:VEVENT
DTSTART;TZID=America/New_York:20240303T150000
DTEND;TZID=America/New_York:20240303T180000
DTSTAMP:20260421T003334
CREATED:20240228T174744Z
LAST-MODIFIED:20240228T174744Z
UID:5359-1709478000-1709488800@talcottcollective.com
SUMMARY:Samith Music
DESCRIPTION:
URL:https://talcottcollective.com/event/samith-music/
CATEGORIES:Music
ATTACH;FMTTYPE=image/jpeg:https://talcottcollective.com/wp-content/uploads/2024/02/samith.jpg
END:VEVENT
BEGIN:VEVENT
DTSTART;TZID=America/New_York:20240307T183000
DTEND;TZID=America/New_York:20240307T203000
DTSTAMP:20260421T003334
CREATED:20240304T182042Z
LAST-MODIFIED:20240304T182042Z
UID:5388-1709836200-1709843400@talcottcollective.com
SUMMARY:Erin Earth & Cazz Piano Events
DESCRIPTION:
URL:https://talcottcollective.com/event/erin-earth-cazz-piano-events-4/
CATEGORIES:Music
ATTACH;FMTTYPE=image/jpeg:https://talcottcollective.com/wp-content/uploads/2022/02/ErinEarthCazzPiano-e1646103453191.jpg
END:VEVENT
BEGIN:VEVENT
DTSTART;TZID=America/New_York:20240308T190000
DTEND;TZID=America/New_York:20240308T220000
DTSTAMP:20260421T003334
CREATED:20240305T150006Z
LAST-MODIFIED:20240305T150006Z
UID:5395-1709924400-1709935200@talcottcollective.com
SUMMARY:The Auburn Mode
DESCRIPTION:The Auburn Mode is an original fusion of progressive and energetic folk pop!
URL:https://talcottcollective.com/event/the-auburn-mode-3/
CATEGORIES:Music
ATTACH;FMTTYPE=image/jpeg:https://talcottcollective.com/wp-content/uploads/2022/08/The-Auburn-Mode-e1661396729927.jpg
END:VEVENT
BEGIN:VEVENT
DTSTART;TZID=America/New_York:20240309T190000
DTEND;TZID=America/New_York:20240309T220000
DTSTAMP:20260421T003334
CREATED:20240304T183219Z
LAST-MODIFIED:20240304T183219Z
UID:5390-1710010800-1710021600@talcottcollective.com
SUMMARY:Shakedown Citi
DESCRIPTION:Shakedown Citi was formed in the heart of NYC by a group of passionate musicians who share a love for the Grateful Dead and their timeless music. Our goal is to keep the spirit of the Dead alive and bring joy to our fans through our music. \n 
URL:https://talcottcollective.com/event/shakedown-citi-2/
CATEGORIES:Music
ATTACH;FMTTYPE=image/jpeg:https://talcottcollective.com/wp-content/uploads/2024/01/shakedown-citi-e1709577086578.jpg
END:VEVENT
BEGIN:VEVENT
DTSTART;TZID=America/New_York:20240310T150000
DTEND;TZID=America/New_York:20240310T180000
DTSTAMP:20260421T003334
CREATED:20240304T183546Z
LAST-MODIFIED:20240304T183546Z
UID:5392-1710082800-1710093600@talcottcollective.com
SUMMARY:Earth Passenger
DESCRIPTION:The CT based Earth Passenger is a mix of steel handpans\, bass and guitar driven by electronic beats. The eclectic original music also delivers a unique and obscure take on cover tunes.
URL:https://talcottcollective.com/event/earth-passenger/
ATTACH;FMTTYPE=image/jpeg:https://talcottcollective.com/wp-content/uploads/2024/03/Earth-Passenger.jpg
END:VEVENT
BEGIN:VEVENT
DTSTART;TZID=America/New_York:20240315T173000
DTEND;TZID=America/New_York:20240315T203000
DTSTAMP:20260421T003334
CREATED:20240313T230922Z
LAST-MODIFIED:20240313T230922Z
UID:5413-1710523800-1710534600@talcottcollective.com
SUMMARY:Bad Management - Acoustic Duo
DESCRIPTION:Join us for Bad Management – a locally talented band that will showcase its Acoustic Duo\, with potential sit-ins as well.
URL:https://talcottcollective.com/event/bad-management-acoustic-duo-2/
CATEGORIES:Food Truck,Music
ATTACH;FMTTYPE=image/jpeg:https://talcottcollective.com/wp-content/uploads/2024/01/Bad-Management.jpg
END:VEVENT
BEGIN:VEVENT
DTSTART;TZID=America/New_York:20240316T120000
DTEND;TZID=America/New_York:20240316T180000
DTSTAMP:20260421T003334
CREATED:20240313T224841Z
LAST-MODIFIED:20240313T224943Z
UID:5410-1710590400-1710612000@talcottcollective.com
SUMMARY:☘️☘️Paddy's On The Mountain Saturday Kickoff☘️☘️
DESCRIPTION:Special Paddy’s Edition of Vinyl Day w WolfBain  1:00 – 4:00 (free/all ages)\n The Fiddling Carroll Sisters – 4:00 – 6:30 (free/all ages)
URL:https://talcottcollective.com/event/%e2%98%98%ef%b8%8f%e2%98%98%ef%b8%8fpaddys-on-the-mountain-saturday-kickoff%e2%98%98%ef%b8%8f%e2%98%98%ef%b8%8f/
CATEGORIES:Music
ATTACH;FMTTYPE=image/jpeg:https://talcottcollective.com/wp-content/uploads/2024/03/Paddys-On-The-Mountain.jpg
END:VEVENT
BEGIN:VEVENT
DTSTART;TZID=America/New_York:20240316T200000
DTEND;TZID=America/New_York:20240316T230000
DTSTAMP:20260421T003334
CREATED:20240313T112036Z
LAST-MODIFIED:20240313T112036Z
UID:5399-1710619200-1710630000@talcottcollective.com
SUMMARY:Paddy's On The Mountain Saturday Night Concert: Phloyd Is Dead
DESCRIPTION:To borrow from a Pink Floyd song title and lyric “Green is the Colour…” and that’s what this weekend is…GREEN \n\n\n\nOur third annual Paddy’s On The Mountain stretches over March 16 & 17 – with a special musical feature of Phloyd Is Dead set to perform at 8:00 on Saturday\, March 16. This will be a 21+ show\, $10 door.\n\n\n\nPhloyd is Dead is a special tribute to the music of Phish\, Grateful Dead and Pink Floyd – comprised of an all-star lineup of musicians from @7below_phish \, @shout.the.band \, @mauvelloyd and @mystic__dead – they’re all students of this epic music and masters of their craft. No first time rodeos  for this group! Come see them perform together for the first time in 4 years!
URL:https://talcottcollective.com/event/paddys-on-the-mountain-saturday-night-concert-phloyd-is-dead/
CATEGORIES:21+ Event,Music
ATTACH;FMTTYPE=image/png:https://talcottcollective.com/wp-content/uploads/2024/03/Phloyd-Is-Dead.png
END:VEVENT
BEGIN:VEVENT
DTSTART;TZID=America/New_York:20240317T110000
DTEND;TZID=America/New_York:20240317T140000
DTSTAMP:20260421T003334
CREATED:20240313T222815Z
LAST-MODIFIED:20240313T222941Z
UID:5403-1710673200-1710684000@talcottcollective.com
SUMMARY:Paddy's Day Brunch 🍀 With The Fiddling Carroll Sisters
DESCRIPTION:We are opening the doors early to offer a brunch and live music experience this Paddy’s Day. Come enjoy our full menu\, and newly featured egg sandwiches . Bloody Mary\, Irish Coffee and full lineup from our bar – alcohol and NA options. Something for all ages\nThe Fiddling Carroll Sisters Trio (2 fiddles and a cello) will perform for 2 hours starting at 11:30 – a free music experience for all.\nCome kick off St Patrick’s Day on Mountain Time
URL:https://talcottcollective.com/event/paddys-day-brunch-%f0%9f%8d%80-with-the-fiddling-carroll-sisters/
CATEGORIES:Holiday Opening,Music
ATTACH;FMTTYPE=image/jpeg:https://talcottcollective.com/wp-content/uploads/2024/03/carroll-sisters.jpg
END:VEVENT
END:VCALENDAR