BEGIN:VCALENDAR
VERSION:2.0
PRODID:-//Talcott Mountain Collective - ECPv6.15.20//NONSGML v1.0//EN
CALSCALE:GREGORIAN
METHOD:PUBLISH
X-ORIGINAL-URL:https://talcottcollective.com
X-WR-CALDESC:Events for Talcott Mountain Collective
REFRESH-INTERVAL;VALUE=DURATION:PT1H
X-Robots-Tag:noindex
X-PUBLISHED-TTL:PT1H
BEGIN:VTIMEZONE
TZID:America/New_York
BEGIN:DAYLIGHT
TZOFFSETFROM:-0500
TZOFFSETTO:-0400
TZNAME:EDT
DTSTART:20210314T070000
END:DAYLIGHT
BEGIN:STANDARD
TZOFFSETFROM:-0400
TZOFFSETTO:-0500
TZNAME:EST
DTSTART:20211107T060000
END:STANDARD
BEGIN:DAYLIGHT
TZOFFSETFROM:-0500
TZOFFSETTO:-0400
TZNAME:EDT
DTSTART:20220313T070000
END:DAYLIGHT
BEGIN:STANDARD
TZOFFSETFROM:-0400
TZOFFSETTO:-0500
TZNAME:EST
DTSTART:20221106T060000
END:STANDARD
BEGIN:DAYLIGHT
TZOFFSETFROM:-0500
TZOFFSETTO:-0400
TZNAME:EDT
DTSTART:20230312T070000
END:DAYLIGHT
BEGIN:STANDARD
TZOFFSETFROM:-0400
TZOFFSETTO:-0500
TZNAME:EST
DTSTART:20231105T060000
END:STANDARD
END:VTIMEZONE
BEGIN:VEVENT
DTSTART;TZID=America/New_York:20220821T150000
DTEND;TZID=America/New_York:20220821T180000
DTSTAMP:20260421T183759
CREATED:20220817T124622Z
LAST-MODIFIED:20220817T124622Z
UID:2717-1661094000-1661104800@talcottcollective.com
SUMMARY:Jeff Mainville Duo
DESCRIPTION:Times subject to change.
URL:https://talcottcollective.com/event/jeff-mainville-duo-3/
CATEGORIES:Music
ATTACH;FMTTYPE=image/jpeg:https://talcottcollective.com/wp-content/uploads/2022/04/jeff-mainville-accoustic-duo.jpg
END:VEVENT
BEGIN:VEVENT
DTSTART;TZID=America/New_York:20220820T190000
DTEND;TZID=America/New_York:20220820T220000
DTSTAMP:20260421T183759
CREATED:20220817T124330Z
LAST-MODIFIED:20220817T124330Z
UID:2715-1661022000-1661032800@talcottcollective.com
SUMMARY:Tim McDonald and Hally Jaeggi
DESCRIPTION:Live music with Tim McDonald and Hally Jaeggi
URL:https://talcottcollective.com/event/tim-mcdonald-and-hally-jaeggi-4/
CATEGORIES:Music
ATTACH;FMTTYPE=image/jpeg:https://talcottcollective.com/wp-content/uploads/2022/03/MCdonald-Jaeggi-e1648094528742.jpg
END:VEVENT
BEGIN:VEVENT
DTSTART;TZID=America/New_York:20220819T183000
DTEND;TZID=America/New_York:20220819T210000
DTSTAMP:20260421T183759
CREATED:20220817T124139Z
LAST-MODIFIED:20220824T183105Z
UID:2713-1660933800-1660942800@talcottcollective.com
SUMMARY:The Substitutes
DESCRIPTION:The Substitutes’ style of music ranges from the 60’s British Invasion to today’s modern rock.
URL:https://talcottcollective.com/event/the-substitutes-4/
CATEGORIES:Music
ATTACH;FMTTYPE=image/jpeg:https://talcottcollective.com/wp-content/uploads/2022/02/substitutes.jpg
END:VEVENT
BEGIN:VEVENT
DTSTART;TZID=America/New_York:20220818T170000
DTEND;TZID=America/New_York:20220818T200000
DTSTAMP:20260421T183759
CREATED:20220817T123649Z
LAST-MODIFIED:20220817T123649Z
UID:2711-1660842000-1660852800@talcottcollective.com
SUMMARY:Jeff Wieselberg
DESCRIPTION:Come enjoy the easy sounds of local icon Jeff Wieselberg as he ‘tickles the ivories’ for your Collective enjoyment \nTimes subject to change.
URL:https://talcottcollective.com/event/jeff-wieselberg-3/
CATEGORIES:Music
ATTACH;FMTTYPE=image/jpeg:https://talcottcollective.com/wp-content/uploads/2022/03/Jeff-Wieselberg-e1648703275804.jpg
END:VEVENT
BEGIN:VEVENT
DTSTART;TZID=America/New_York:20220814T150000
DTEND;TZID=America/New_York:20220814T180000
DTSTAMP:20260421T183759
CREATED:20220812T141700Z
LAST-MODIFIED:20220812T141700Z
UID:2701-1660489200-1660500000@talcottcollective.com
SUMMARY:Jeff Blaney
DESCRIPTION:
URL:https://talcottcollective.com/event/jeff-blaney-7/
CATEGORIES:Music
ATTACH;FMTTYPE=image/jpeg:https://talcottcollective.com/wp-content/uploads/2022/01/blaney-e1645677127414.jpg
END:VEVENT
BEGIN:VEVENT
DTSTART;TZID=America/New_York:20220813T190000
DTEND;TZID=America/New_York:20220813T220000
DTSTAMP:20260421T183759
CREATED:20220812T143604Z
LAST-MODIFIED:20220812T144831Z
UID:2703-1660417200-1660428000@talcottcollective.com
SUMMARY:Kala Farnham
DESCRIPTION:
URL:https://talcottcollective.com/event/kala-farnham/
CATEGORIES:Music
ATTACH;FMTTYPE=image/jpeg:https://talcottcollective.com/wp-content/uploads/2022/08/Kalafarnham-1.jpg
END:VEVENT
BEGIN:VEVENT
DTSTART;TZID=America/New_York:20220813T150000
DTEND;TZID=America/New_York:20220813T180000
DTSTAMP:20260421T183759
CREATED:20230609T192745Z
LAST-MODIFIED:20230609T192745Z
UID:4265-1660402800-1660413600@talcottcollective.com
SUMMARY:Kala Farnham
DESCRIPTION:Armed with a voice and an entourage of instruments\, Farnham set out with one vision: To inspire through the power of musical storytelling. Drawing from a classical and theatrical background\, she presents a hallmark reinvention of the folk tradition\, drawing audiences into imaginative vantagescapes of the familiar world.
URL:https://talcottcollective.com/event/kala-farnham-2/
CATEGORIES:Music
ATTACH;FMTTYPE=image/jpeg:https://talcottcollective.com/wp-content/uploads/2022/08/Kalafarnham-1.jpg
END:VEVENT
BEGIN:VEVENT
DTSTART;TZID=America/New_York:20220812T183000
DTEND;TZID=America/New_York:20220812T213000
DTSTAMP:20260421T183759
CREATED:20220812T141543Z
LAST-MODIFIED:20220812T141543Z
UID:2699-1660329000-1660339800@talcottcollective.com
SUMMARY:Mark Paradis
DESCRIPTION:Live music with Mark Paradis.
URL:https://talcottcollective.com/event/mark-paradis-7/
CATEGORIES:Music
ATTACH;FMTTYPE=image/jpeg:https://talcottcollective.com/wp-content/uploads/2022/01/paradis-e1645676902688.jpg
END:VEVENT
BEGIN:VEVENT
DTSTART;TZID=America/New_York:20220812T170000
DTEND;TZID=America/New_York:20220812T200000
DTSTAMP:20260421T183759
CREATED:20220812T144704Z
LAST-MODIFIED:20220812T144704Z
UID:2708-1660323600-1660334400@talcottcollective.com
SUMMARY:Food Truck: PIKA
DESCRIPTION:Times subject to change.
URL:https://talcottcollective.com/event/food-truck-pika-7/
CATEGORIES:Food Truck
ATTACH;FMTTYPE=image/png:https://talcottcollective.com/wp-content/uploads/2022/03/PIKA-Food-Truck.png
END:VEVENT
BEGIN:VEVENT
DTSTART;TZID=America/New_York:20220812T170000
DTEND;TZID=America/New_York:20220812T200000
DTSTAMP:20260421T183759
CREATED:20220812T144503Z
LAST-MODIFIED:20220812T144503Z
UID:2706-1660323600-1660334400@talcottcollective.com
SUMMARY:Food Truck: Mama Nena
DESCRIPTION:
URL:https://talcottcollective.com/event/food-truck-mama-nena-15/
CATEGORIES:Food Truck
ATTACH;FMTTYPE=image/png:https://talcottcollective.com/wp-content/uploads/2022/03/Mama-Nena-Food-Truck.png
END:VEVENT
BEGIN:VEVENT
DTSTART;TZID=America/New_York:20220811T180000
DTEND;TZID=America/New_York:20220811T210000
DTSTAMP:20260421T183759
CREATED:20220812T141403Z
LAST-MODIFIED:20220812T141403Z
UID:2697-1660240800-1660251600@talcottcollective.com
SUMMARY:Soul Tsunami
DESCRIPTION:Join us for free live music featuring Rob the Drummer and Ray Morant.
URL:https://talcottcollective.com/event/soul-tsunami-5/
CATEGORIES:Music
ATTACH;FMTTYPE=image/jpeg:https://talcottcollective.com/wp-content/uploads/2022/03/soultsunami.jpg
END:VEVENT
BEGIN:VEVENT
DTSTART;TZID=America/New_York:20220807T140000
DTEND;TZID=America/New_York:20220807T180000
DTSTAMP:20260421T183759
CREATED:20220805T130822Z
LAST-MODIFIED:20220805T130822Z
UID:2675-1659880800-1659895200@talcottcollective.com
SUMMARY:Michael Sasportas
DESCRIPTION:Live Music w/ Michael Sasportas
URL:https://talcottcollective.com/event/michael-sasportas-5/
CATEGORIES:Music
ATTACH;FMTTYPE=image/jpeg:https://talcottcollective.com/wp-content/uploads/2022/04/Sasportas-e1650576952684.jpg
END:VEVENT
BEGIN:VEVENT
DTSTART;TZID=America/New_York:20220807T130000
DTEND;TZID=America/New_York:20220807T170000
DTSTAMP:20260421T183759
CREATED:20220805T134124Z
LAST-MODIFIED:20220805T134124Z
UID:2686-1659877200-1659891600@talcottcollective.com
SUMMARY:Food Truck: Mama Nena
DESCRIPTION:
URL:https://talcottcollective.com/event/food-truck-mama-nena-14/
CATEGORIES:Food Truck
ATTACH;FMTTYPE=image/png:https://talcottcollective.com/wp-content/uploads/2022/03/Mama-Nena-Food-Truck.png
END:VEVENT
BEGIN:VEVENT
DTSTART;TZID=America/New_York:20220806T190000
DTEND;TZID=America/New_York:20220806T220000
DTSTAMP:20260421T183759
CREATED:20220805T130655Z
LAST-MODIFIED:20220805T130655Z
UID:2674-1659812400-1659823200@talcottcollective.com
SUMMARY:Gabi & Whitney
DESCRIPTION:
URL:https://talcottcollective.com/event/gabi-whitney-4/
CATEGORIES:Music
ATTACH;FMTTYPE=image/jpeg:https://talcottcollective.com/wp-content/uploads/2022/03/Gabi-and-Whitney.jpg
END:VEVENT
BEGIN:VEVENT
DTSTART;TZID=America/New_York:20220806T130000
DTEND;TZID=America/New_York:20220806T200000
DTSTAMP:20260421T183759
CREATED:20220805T134004Z
LAST-MODIFIED:20220805T134004Z
UID:2684-1659790800-1659816000@talcottcollective.com
SUMMARY:Food Truck: Samba's Cuisine
DESCRIPTION:Taking Street Food to a new level with a delicious variety of Brazilian and Spanish Food.
URL:https://talcottcollective.com/event/food-truck-sambas-cuisine-2/
CATEGORIES:Food Truck
ATTACH;FMTTYPE=image/png:https://talcottcollective.com/wp-content/uploads/2022/07/Copy-of-Taco-Shack.png
END:VEVENT
BEGIN:VEVENT
DTSTART;TZID=America/New_York:20220805T183000
DTEND;TZID=America/New_York:20220805T213000
DTSTAMP:20260421T183759
CREATED:20220805T130208Z
LAST-MODIFIED:20220805T130208Z
UID:2676-1659724200-1659735000@talcottcollective.com
SUMMARY:Mark Paradis
DESCRIPTION:Live music with Mark Paradis.
URL:https://talcottcollective.com/event/mark-paradis-6/
CATEGORIES:Music
ATTACH;FMTTYPE=image/jpeg:https://talcottcollective.com/wp-content/uploads/2022/01/paradis-e1645676902688.jpg
END:VEVENT
BEGIN:VEVENT
DTSTART;TZID=America/New_York:20220805T170000
DTEND;TZID=America/New_York:20220805T200000
DTSTAMP:20260421T183759
CREATED:20220805T133301Z
LAST-MODIFIED:20220805T133301Z
UID:2680-1659718800-1659729600@talcottcollective.com
SUMMARY:Food Truck: Lobster Tails
DESCRIPTION:Grab a hot buttery CT lobster roll\, a lobster grilled cheese or some lobster poutine.
URL:https://talcottcollective.com/event/food-truck-lobster-tails-5/
CATEGORIES:Food Truck
ATTACH;FMTTYPE=image/png:https://talcottcollective.com/wp-content/uploads/2022/04/Copy-of-Food-Truck-Canceled.png
END:VEVENT
BEGIN:VEVENT
DTSTART;TZID=America/New_York:20220805T170000
DTEND;TZID=America/New_York:20220805T200000
DTSTAMP:20260421T183759
CREATED:20220805T133046Z
LAST-MODIFIED:20220805T133046Z
UID:2681-1659718800-1659729600@talcottcollective.com
SUMMARY:Food Truck: PIKA
DESCRIPTION:Times subject to change.
URL:https://talcottcollective.com/event/food-truck-pika-6/
CATEGORIES:Food Truck
ATTACH;FMTTYPE=image/png:https://talcottcollective.com/wp-content/uploads/2022/03/PIKA-Food-Truck.png
END:VEVENT
BEGIN:VEVENT
DTSTART;TZID=America/New_York:20220731T150000
DTEND;TZID=America/New_York:20220731T180000
DTSTAMP:20260421T183759
CREATED:20220728T152606Z
LAST-MODIFIED:20220728T152606Z
UID:2636-1659279600-1659290400@talcottcollective.com
SUMMARY:Jeff Blaney
DESCRIPTION:
URL:https://talcottcollective.com/event/jeff-blaney-6/
CATEGORIES:Music
ATTACH;FMTTYPE=image/jpeg:https://talcottcollective.com/wp-content/uploads/2022/01/blaney-e1645677127414.jpg
END:VEVENT
BEGIN:VEVENT
DTSTART;TZID=America/New_York:20220730T190000
DTEND;TZID=America/New_York:20220730T220000
DTSTAMP:20260421T183759
CREATED:20220728T151722Z
LAST-MODIFIED:20220728T151722Z
UID:2634-1659207600-1659218400@talcottcollective.com
SUMMARY:Firetown Road
DESCRIPTION:Firetown Road performs original alt country music.
URL:https://talcottcollective.com/event/firetown-road-2/
CATEGORIES:Music
ATTACH;FMTTYPE=image/jpeg:https://talcottcollective.com/wp-content/uploads/2022/07/firetown-road-e1657738262606.jpg
END:VEVENT
BEGIN:VEVENT
DTSTART;TZID=America/New_York:20220730T140000
DTEND;TZID=America/New_York:20220730T200000
DTSTAMP:20260421T183759
CREATED:20220722T161251Z
LAST-MODIFIED:20220728T155011Z
UID:2605-1659189600-1659211200@talcottcollective.com
SUMMARY:Food Truck: Square Peg Pizzeria
DESCRIPTION:Featuring delicious wood-fired pizzas\, our Amer~Italian menu is filled with favorites that are prepared with a Peg twist. \nTimes subject to change.
URL:https://talcottcollective.com/event/food-truck-square-peg-pizzeria-7/
CATEGORIES:Food Truck
ATTACH;FMTTYPE=image/png:https://talcottcollective.com/wp-content/uploads/2022/01/Copy-of-Food-Truck-Template-e1645197751123.png
END:VEVENT
BEGIN:VEVENT
DTSTART;TZID=America/New_York:20220729T180000
DTEND;TZID=America/New_York:20220729T210000
DTSTAMP:20260421T183759
CREATED:20220728T131829Z
LAST-MODIFIED:20220728T131829Z
UID:2632-1659117600-1659128400@talcottcollective.com
SUMMARY:Jeff Przech & Dennis Fancher
DESCRIPTION:
URL:https://talcottcollective.com/event/jeff-przech-dennis-fancher-2/
CATEGORIES:Music
ATTACH;FMTTYPE=image/jpeg:https://talcottcollective.com/wp-content/uploads/2022/06/Przech-and-Fancher-e1654874230370.jpg
END:VEVENT
BEGIN:VEVENT
DTSTART;TZID=America/New_York:20220728T180000
DTEND;TZID=America/New_York:20220728T210000
DTSTAMP:20260421T183759
CREATED:20220623T135029Z
LAST-MODIFIED:20220702T132306Z
UID:2500-1659031200-1659042000@talcottcollective.com
SUMMARY:John Mayock
DESCRIPTION:Live music! \nTimes subject to change.
URL:https://talcottcollective.com/event/john-mayock-3-2022-07-28/2022-07-28/
CATEGORIES:Music
ATTACH;FMTTYPE=image/jpeg:https://talcottcollective.com/wp-content/uploads/2022/01/johnmay.jpg
END:VEVENT
BEGIN:VEVENT
DTSTART;TZID=America/New_York:20220728T170000
DTEND;TZID=America/New_York:20220728T200000
DTSTAMP:20260421T183759
CREATED:20220728T154221Z
LAST-MODIFIED:20220728T154221Z
UID:2639-1659027600-1659038400@talcottcollective.com
SUMMARY:Food Truck: Mama Nena
DESCRIPTION:
URL:https://talcottcollective.com/event/food-truck-mama-nena-13/2022-07-28/
CATEGORIES:Food Truck
ATTACH;FMTTYPE=image/png:https://talcottcollective.com/wp-content/uploads/2022/03/Mama-Nena-Food-Truck.png
END:VEVENT
BEGIN:VEVENT
DTSTART;TZID=America/New_York:20220724T150000
DTEND;TZID=America/New_York:20220724T180000
DTSTAMP:20260421T183759
CREATED:20220722T153919Z
LAST-MODIFIED:20220722T154051Z
UID:2603-1658674800-1658685600@talcottcollective.com
SUMMARY:The Hooch
DESCRIPTION:Dynamic duo specializing in Pop\, Hip-Hop\, R&B and Soul
URL:https://talcottcollective.com/event/the-hooch-2/
CATEGORIES:Music
ATTACH;FMTTYPE=image/jpeg:https://talcottcollective.com/wp-content/uploads/2022/05/thehooch-e1652454792897.jpg
END:VEVENT
BEGIN:VEVENT
DTSTART;TZID=America/New_York:20220723T180000
DTEND;TZID=America/New_York:20220723T210000
DTSTAMP:20260421T183759
CREATED:20220722T153450Z
LAST-MODIFIED:20220722T153450Z
UID:2601-1658599200-1658610000@talcottcollective.com
SUMMARY:Michael Sasportas
DESCRIPTION:Live Music w/ Michael Sasportas
URL:https://talcottcollective.com/event/michael-sasportas-4/
CATEGORIES:Music
ATTACH;FMTTYPE=image/jpeg:https://talcottcollective.com/wp-content/uploads/2022/04/Sasportas-e1650576952684.jpg
END:VEVENT
BEGIN:VEVENT
DTSTART;TZID=America/New_York:20220722T183000
DTEND;TZID=America/New_York:20220722T213000
DTSTAMP:20260421T183759
CREATED:20220722T152724Z
LAST-MODIFIED:20220722T152724Z
UID:2599-1658514600-1658525400@talcottcollective.com
SUMMARY:Soul Tsunami
DESCRIPTION:Join us for free live music featuring Rob the Drummer and Ray Morant.
URL:https://talcottcollective.com/event/soul-tsunami-4/
CATEGORIES:Music
ATTACH;FMTTYPE=image/jpeg:https://talcottcollective.com/wp-content/uploads/2022/03/soultsunami.jpg
END:VEVENT
BEGIN:VEVENT
DTSTART;TZID=America/New_York:20220721T170000
DTEND;TZID=America/New_York:20220721T200000
DTSTAMP:20260421T183759
CREATED:20220602T141531Z
LAST-MODIFIED:20220722T150434Z
UID:2311-1658422800-1658433600@talcottcollective.com
SUMMARY:Dan Ringrose
DESCRIPTION:Live music!
URL:https://talcottcollective.com/event/dan-rosing/
CATEGORIES:Music
ATTACH;FMTTYPE=image/jpeg:https://talcottcollective.com/wp-content/uploads/2022/02/Ringrose-e1646101707274.jpg
END:VEVENT
BEGIN:VEVENT
DTSTART;TZID=America/New_York:20220717T150000
DTEND;TZID=America/New_York:20220717T180000
DTSTAMP:20260421T183759
CREATED:20220623T134158Z
LAST-MODIFIED:20220623T134158Z
UID:2494-1658070000-1658080800@talcottcollective.com
SUMMARY:Jeff Mainville Duo
DESCRIPTION:Times subject to change.
URL:https://talcottcollective.com/event/jeff-mainville-duo-2/
CATEGORIES:Music
ATTACH;FMTTYPE=image/jpeg:https://talcottcollective.com/wp-content/uploads/2022/04/jeff-mainville-accoustic-duo.jpg
END:VEVENT
BEGIN:VEVENT
DTSTART;TZID=America/New_York:20220715T180000
DTEND;TZID=America/New_York:20220715T210000
DTSTAMP:20260421T183759
CREATED:20220713T185238Z
LAST-MODIFIED:20220713T185238Z
UID:2584-1657908000-1657918800@talcottcollective.com
SUMMARY:Firetown Road
DESCRIPTION:Making their Talcott Mountain Collective debut! Firetown Road performs original alt country music.
URL:https://talcottcollective.com/event/firetown-road/
CATEGORIES:Music
ATTACH;FMTTYPE=image/jpeg:https://talcottcollective.com/wp-content/uploads/2022/07/firetown-road-e1657738262606.jpg
END:VEVENT
END:VCALENDAR