BEGIN:VCALENDAR
VERSION:2.0
PRODID:-//Talcott Mountain Collective - ECPv6.15.20//NONSGML v1.0//EN
CALSCALE:GREGORIAN
METHOD:PUBLISH
X-ORIGINAL-URL:https://talcottcollective.com
X-WR-CALDESC:Events for Talcott Mountain Collective
REFRESH-INTERVAL;VALUE=DURATION:PT1H
X-Robots-Tag:noindex
X-PUBLISHED-TTL:PT1H
BEGIN:VTIMEZONE
TZID:America/New_York
BEGIN:DAYLIGHT
TZOFFSETFROM:-0500
TZOFFSETTO:-0400
TZNAME:EDT
DTSTART:20210314T070000
END:DAYLIGHT
BEGIN:STANDARD
TZOFFSETFROM:-0400
TZOFFSETTO:-0500
TZNAME:EST
DTSTART:20211107T060000
END:STANDARD
BEGIN:DAYLIGHT
TZOFFSETFROM:-0500
TZOFFSETTO:-0400
TZNAME:EDT
DTSTART:20220313T070000
END:DAYLIGHT
BEGIN:STANDARD
TZOFFSETFROM:-0400
TZOFFSETTO:-0500
TZNAME:EST
DTSTART:20221106T060000
END:STANDARD
BEGIN:DAYLIGHT
TZOFFSETFROM:-0500
TZOFFSETTO:-0400
TZNAME:EDT
DTSTART:20230312T070000
END:DAYLIGHT
BEGIN:STANDARD
TZOFFSETFROM:-0400
TZOFFSETTO:-0500
TZNAME:EST
DTSTART:20231105T060000
END:STANDARD
END:VTIMEZONE
BEGIN:VEVENT
DTSTART;TZID=America/New_York:20220521T150000
DTEND;TZID=America/New_York:20220521T180000
DTSTAMP:20260424T120026
CREATED:20220521T052940Z
LAST-MODIFIED:20220521T052940Z
UID:2208-1653145200-1653156000@talcottcollective.com
SUMMARY:Jeff Blaney
DESCRIPTION:
URL:https://talcottcollective.com/event/jeff-blaney-4/
CATEGORIES:Music
ATTACH;FMTTYPE=image/jpeg:https://talcottcollective.com/wp-content/uploads/2022/01/blaney-e1645677127414.jpg
END:VEVENT
BEGIN:VEVENT
DTSTART;TZID=America/New_York:20220521T120000
DTEND;TZID=America/New_York:20220521T190000
DTSTAMP:20260424T120026
CREATED:20220520T193703Z
LAST-MODIFIED:20220520T193703Z
UID:2202-1653134400-1653159600@talcottcollective.com
SUMMARY:Food Truck: Scatz Holey Smokes BBQ
DESCRIPTION:
URL:https://talcottcollective.com/event/food-truck-scatz-holey-smokes-bbq/
CATEGORIES:Food Truck
ATTACH;FMTTYPE=image/png:https://talcottcollective.com/wp-content/uploads/2022/05/Scatz.png
END:VEVENT
BEGIN:VEVENT
DTSTART;TZID=America/New_York:20220520T150000
DTEND;TZID=America/New_York:20220520T210000
DTSTAMP:20260424T120026
CREATED:20220520T193342Z
LAST-MODIFIED:20220520T193342Z
UID:2200-1653058800-1653080400@talcottcollective.com
SUMMARY:Food Truck: Lobster Tails
DESCRIPTION:
URL:https://talcottcollective.com/event/food-truck-lobster-tails/
CATEGORIES:Food Truck
ATTACH;FMTTYPE=image/png:https://talcottcollective.com/wp-content/uploads/2022/04/Copy-of-Food-Truck-Canceled-1.png
END:VEVENT
BEGIN:VEVENT
DTSTART;TZID=America/New_York:20220519T183000
DTEND;TZID=America/New_York:20220519T210000
DTSTAMP:20260424T120026
CREATED:20220510T142717Z
LAST-MODIFIED:20220510T142717Z
UID:2152-1652985000-1652994000@talcottcollective.com
SUMMARY:Home Is Where The Heart Is Fundraiser
DESCRIPTION:Journey Home is a team of innovative problem solvers who are passionate about ending homelessness in our community. Founded in 2007\, Journey Home has grown to become a strategic leader and valued partner for homeless service providers throughout the region. \nThis is a ticketed event and the Collective will be closed to the public during the event. Tickets and more information available here:
URL:https://talcottcollective.com/event/home-is-where-the-heart-is-fundraiser/
CATEGORIES:Fundraiser,Private Event
ATTACH;FMTTYPE=image/jpeg:https://talcottcollective.com/wp-content/uploads/2022/05/sitebanner.jpg
END:VEVENT
BEGIN:VEVENT
DTSTART;TZID=America/New_York:20220515T120000
DTEND;TZID=America/New_York:20220515T180000
DTSTAMP:20260424T120026
CREATED:20220513T150033Z
LAST-MODIFIED:20220513T150033Z
UID:2177-1652616000-1652637600@talcottcollective.com
SUMMARY:Food Truck: Craftbird
DESCRIPTION:
URL:https://talcottcollective.com/event/food-truck-craftbird/
CATEGORIES:Food Truck
ATTACH;FMTTYPE=image/png:https://talcottcollective.com/wp-content/uploads/2022/02/Craftbird-e1645197570826.png
END:VEVENT
BEGIN:VEVENT
DTSTART;TZID=America/New_York:20220514T190000
DTEND;TZID=America/New_York:20220514T213000
DTSTAMP:20260424T120026
CREATED:20220513T153913Z
LAST-MODIFIED:20220513T153913Z
UID:2184-1652554800-1652563800@talcottcollective.com
SUMMARY:The Substitutes
DESCRIPTION:
URL:https://talcottcollective.com/event/the-substitutes-3/
CATEGORIES:Music
ATTACH;FMTTYPE=image/jpeg:https://talcottcollective.com/wp-content/uploads/2022/02/substitutes.jpg
END:VEVENT
BEGIN:VEVENT
DTSTART;TZID=America/New_York:20220514T143000
DTEND;TZID=America/New_York:20220514T173000
DTSTAMP:20260424T120026
CREATED:20220513T153728Z
LAST-MODIFIED:20220513T153728Z
UID:2182-1652538600-1652549400@talcottcollective.com
SUMMARY:Rob the Drummer and Brian McDonald
DESCRIPTION:
URL:https://talcottcollective.com/event/rob-the-drummer-and-brian-mcdonald/
CATEGORIES:Music
ATTACH;FMTTYPE=image/jpeg:https://talcottcollective.com/wp-content/uploads/2022/04/brian-mcdonald.jpg
END:VEVENT
BEGIN:VEVENT
DTSTART;TZID=America/New_York:20220514T120000
DTEND;TZID=America/New_York:20220514T190000
DTSTAMP:20260424T120026
CREATED:20220513T145850Z
LAST-MODIFIED:20220513T145850Z
UID:2175-1652529600-1652554800@talcottcollective.com
SUMMARY:Food Truck: Hot Taco
DESCRIPTION:
URL:https://talcottcollective.com/event/food-truck-hot-taco-2/
CATEGORIES:Food Truck
ATTACH;FMTTYPE=image/png:https://talcottcollective.com/wp-content/uploads/2022/02/Hot-Taco-e1645197611427.png
END:VEVENT
BEGIN:VEVENT
DTSTART;TZID=America/New_York:20220514T120000
DTEND;TZID=America/New_York:20220514T190000
DTSTAMP:20260424T120026
CREATED:20220513T145711Z
LAST-MODIFIED:20220513T145711Z
UID:2173-1652529600-1652554800@talcottcollective.com
SUMMARY:Food Truck: Square Peg Pizzeria
DESCRIPTION:
URL:https://talcottcollective.com/event/food-truck-square-peg-pizzeria-4/
CATEGORIES:Food Truck
ATTACH;FMTTYPE=image/png:https://talcottcollective.com/wp-content/uploads/2022/01/Copy-of-Food-Truck-Template-e1645197751123.png
END:VEVENT
BEGIN:VEVENT
DTSTART;TZID=America/New_York:20220513T183000
DTEND;TZID=America/New_York:20220513T213000
DTSTAMP:20260424T120026
CREATED:20220513T153311Z
LAST-MODIFIED:20220513T153311Z
UID:2179-1652466600-1652477400@talcottcollective.com
SUMMARY:The Hooch
DESCRIPTION:Dynamic duo specializing in Pop\, Hip-Hop\, R&B and Soul
URL:https://talcottcollective.com/event/the-hooch/
CATEGORIES:Music
ATTACH;FMTTYPE=image/jpeg:https://talcottcollective.com/wp-content/uploads/2022/05/thehooch-e1652454792897.jpg
END:VEVENT
BEGIN:VEVENT
DTSTART;TZID=America/New_York:20220513T150000
DTEND;TZID=America/New_York:20220513T210000
DTSTAMP:20260424T120026
CREATED:20220513T145424Z
LAST-MODIFIED:20220513T145424Z
UID:2171-1652454000-1652475600@talcottcollective.com
SUMMARY:Food Truck: Mama Nena
DESCRIPTION:
URL:https://talcottcollective.com/event/food-truck-mama-nena-5/
CATEGORIES:Food Truck
ATTACH;FMTTYPE=image/png:https://talcottcollective.com/wp-content/uploads/2022/03/Mama-Nena-Food-Truck.png
END:VEVENT
BEGIN:VEVENT
DTSTART;TZID=America/New_York:20220508T150000
DTEND;TZID=America/New_York:20220508T180000
DTSTAMP:20260424T120026
CREATED:20220504T161033Z
LAST-MODIFIED:20220504T161033Z
UID:2138-1652022000-1652032800@talcottcollective.com
SUMMARY:Jackie's Woodshed
DESCRIPTION:Live jazz with the Hart School Jazz Project!
URL:https://talcottcollective.com/event/jackies-woodshed-3/
CATEGORIES:Music
ATTACH;FMTTYPE=image/jpeg:https://talcottcollective.com/wp-content/uploads/2022/02/Jazz-Event-Cover.jpg
END:VEVENT
BEGIN:VEVENT
DTSTART;TZID=America/New_York:20220508T120000
DTEND;TZID=America/New_York:20220508T180000
DTSTAMP:20260424T120026
CREATED:20220504T155320Z
LAST-MODIFIED:20220504T155320Z
UID:2131-1652011200-1652032800@talcottcollective.com
SUMMARY:Food Truck: I Know A Guy
DESCRIPTION:
URL:https://talcottcollective.com/event/food-truck-i-know-a-guy-2/
CATEGORIES:Food Truck
ATTACH;FMTTYPE=image/png:https://talcottcollective.com/wp-content/uploads/2022/01/IKAG-Food-Truck-e1646931533216.png
END:VEVENT
BEGIN:VEVENT
DTSTART;TZID=America/New_York:20220507T190000
DTEND;TZID=America/New_York:20220507T220000
DTSTAMP:20260424T120026
CREATED:20220324T042739Z
LAST-MODIFIED:20220505T110549Z
UID:1925-1651950000-1651960800@talcottcollective.com
SUMMARY:An Evening of Phish at the Collective
DESCRIPTION:Josh and Pete from 7 Below will be performing two sets of acoustic Phish\, Trey and Page style. Incredible setting\, people and beers!
URL:https://talcottcollective.com/event/an-evening-of-phish-at-the-collective/
CATEGORIES:Music
ATTACH;FMTTYPE=image/jpeg:https://talcottcollective.com/wp-content/uploads/2022/03/phishtribute.jpg
END:VEVENT
BEGIN:VEVENT
DTSTART;TZID=America/New_York:20220507T130000
DTEND;TZID=America/New_York:20220507T190000
DTSTAMP:20260424T120026
CREATED:20220504T154421Z
LAST-MODIFIED:20220504T154421Z
UID:2129-1651928400-1651950000@talcottcollective.com
SUMMARY:Food Truck: Square Peg Pizzeria
DESCRIPTION:
URL:https://talcottcollective.com/event/food-truck-square-peg-pizzeria-3/
CATEGORIES:Food Truck
ATTACH;FMTTYPE=image/png:https://talcottcollective.com/wp-content/uploads/2022/01/Copy-of-Food-Truck-Template-e1645197751123.png
END:VEVENT
BEGIN:VEVENT
DTSTART;TZID=America/New_York:20220507T130000
DTEND;TZID=America/New_York:20220507T190000
DTSTAMP:20260424T120026
CREATED:20220504T153806Z
LAST-MODIFIED:20220504T153806Z
UID:2127-1651928400-1651950000@talcottcollective.com
SUMMARY:Food Truck: Hot Taco
DESCRIPTION:
URL:https://talcottcollective.com/event/food-truck-hot-taco/
CATEGORIES:Food Truck
ATTACH;FMTTYPE=image/png:https://talcottcollective.com/wp-content/uploads/2022/02/Hot-Taco-e1645197611427.png
END:VEVENT
BEGIN:VEVENT
DTSTART;TZID=America/New_York:20220506T183000
DTEND;TZID=America/New_York:20220506T213000
DTSTAMP:20260424T120026
CREATED:20220504T160818Z
LAST-MODIFIED:20220504T160818Z
UID:2135-1651861800-1651872600@talcottcollective.com
SUMMARY:Ray Morant and Rob the Drummer
DESCRIPTION:Live music with Ray Morant and Rob the Drummer.
URL:https://talcottcollective.com/event/ray-morant-and-rob-the-drummer/
CATEGORIES:Music
ATTACH;FMTTYPE=image/jpeg:https://talcottcollective.com/wp-content/uploads/2022/05/Drummer.jpg
END:VEVENT
BEGIN:VEVENT
DTSTART;TZID=America/New_York:20220506T160000
DTEND;TZID=America/New_York:20220506T210000
DTSTAMP:20260424T120026
CREATED:20220504T153001Z
LAST-MODIFIED:20220504T153001Z
UID:2125-1651852800-1651870800@talcottcollective.com
SUMMARY:Food Truck: Pika
DESCRIPTION:
URL:https://talcottcollective.com/event/food-truck-pika/
CATEGORIES:Food Truck
ATTACH;FMTTYPE=image/png:https://talcottcollective.com/wp-content/uploads/2022/03/PIKA-Food-Truck.png
END:VEVENT
BEGIN:VEVENT
DTSTART;TZID=America/New_York:20220506T160000
DTEND;TZID=America/New_York:20220506T210000
DTSTAMP:20260424T120026
CREATED:20220504T151720Z
LAST-MODIFIED:20220504T151720Z
UID:2123-1651852800-1651870800@talcottcollective.com
SUMMARY:Food Truck: Sultan Kebab
DESCRIPTION:
URL:https://talcottcollective.com/event/food-truck-sultan-kebab-2/
CATEGORIES:Food Truck
ATTACH;FMTTYPE=image/png:https://talcottcollective.com/wp-content/uploads/2022/01/Copy-of-Square-Peg-Pizza-e1645678218414.png
END:VEVENT
BEGIN:VEVENT
DTSTART;TZID=America/New_York:20220505T180000
DTEND;TZID=America/New_York:20220505T213000
DTSTAMP:20260424T120026
CREATED:20220504T155555Z
LAST-MODIFIED:20220504T155555Z
UID:2133-1651773600-1651786200@talcottcollective.com
SUMMARY:Mark Paradis
DESCRIPTION:Live music with Mark Paradis
URL:https://talcottcollective.com/event/mark-paradis-3/
CATEGORIES:Music
ATTACH;FMTTYPE=image/jpeg:https://talcottcollective.com/wp-content/uploads/2022/01/paradis-e1645676902688.jpg
END:VEVENT
BEGIN:VEVENT
DTSTART;TZID=America/New_York:20220505T160000
DTEND;TZID=America/New_York:20220505T210000
DTSTAMP:20260424T120026
CREATED:20220504T151119Z
LAST-MODIFIED:20220504T151402Z
UID:2121-1651766400-1651784400@talcottcollective.com
SUMMARY:Food Truck: Sultan Kebab
DESCRIPTION:
URL:https://talcottcollective.com/event/food-truck-sultan-kebab/
CATEGORIES:Food Truck
ATTACH;FMTTYPE=image/png:https://talcottcollective.com/wp-content/uploads/2022/01/Copy-of-Square-Peg-Pizza-e1645678218414.png
END:VEVENT
BEGIN:VEVENT
DTSTART;TZID=America/New_York:20220501T140000
DTEND;TZID=America/New_York:20220501T170000
DTSTAMP:20260424T120026
CREATED:20220429T004112Z
LAST-MODIFIED:20220429T004112Z
UID:2092-1651413600-1651424400@talcottcollective.com
SUMMARY:Jeff Mainville Accoustic Duo
DESCRIPTION:
URL:https://talcottcollective.com/event/jeff-mainville-accoustic-duo/
CATEGORIES:Music
ATTACH;FMTTYPE=image/jpeg:https://talcottcollective.com/wp-content/uploads/2022/04/jeff-mainville-accoustic-duo.jpg
END:VEVENT
BEGIN:VEVENT
DTSTART;TZID=America/New_York:20220501T130000
DTEND;TZID=America/New_York:20220501T200000
DTSTAMP:20260424T120026
CREATED:20220429T003018Z
LAST-MODIFIED:20220429T003018Z
UID:2088-1651410000-1651435200@talcottcollective.com
SUMMARY:Food Truck: Mama Nena
DESCRIPTION:
URL:https://talcottcollective.com/event/food-truck-mama-nena-4/
CATEGORIES:Food Truck
ATTACH;FMTTYPE=image/png:https://talcottcollective.com/wp-content/uploads/2022/03/Mama-Nena-Food-Truck.png
END:VEVENT
BEGIN:VEVENT
DTSTART;TZID=America/New_York:20220430T190000
DTEND;TZID=America/New_York:20220430T220000
DTSTAMP:20260424T120026
CREATED:20220427T040748Z
LAST-MODIFIED:20220427T040748Z
UID:2064-1651345200-1651356000@talcottcollective.com
SUMMARY:Modern Refugee
DESCRIPTION:Modern Refuge Acoustic with Sam and Vin.
URL:https://talcottcollective.com/event/modern-refugee/
CATEGORIES:Music
ATTACH;FMTTYPE=image/jpeg:https://talcottcollective.com/wp-content/uploads/2022/04/modern-refugee-e1651032424920.jpg
END:VEVENT
BEGIN:VEVENT
DTSTART;TZID=America/New_York:20220430T133000
DTEND;TZID=America/New_York:20220430T163000
DTSTAMP:20260424T120026
CREATED:20220429T004735Z
LAST-MODIFIED:20220429T004735Z
UID:2095-1651325400-1651336200@talcottcollective.com
SUMMARY:Brian MacDonald w/Rob the Drummer
DESCRIPTION:
URL:https://talcottcollective.com/event/brian-macdonald-w-rob-the-drummer/
CATEGORIES:Music
ATTACH;FMTTYPE=image/jpeg:https://talcottcollective.com/wp-content/uploads/2022/04/brian-mcdonald.jpg
END:VEVENT
BEGIN:VEVENT
DTSTART;TZID=America/New_York:20220430T130000
DTEND;TZID=America/New_York:20220430T200000
DTSTAMP:20260424T120026
CREATED:20220429T002712Z
LAST-MODIFIED:20220429T002712Z
UID:2086-1651323600-1651348800@talcottcollective.com
SUMMARY:Food Truck: Square Peg Pizzeria
DESCRIPTION:
URL:https://talcottcollective.com/event/food-truck-square-peg-pizzeria-2/
CATEGORIES:Food Truck
ATTACH;FMTTYPE=image/png:https://talcottcollective.com/wp-content/uploads/2022/01/Copy-of-Food-Truck-Template-e1645197751123.png
END:VEVENT
BEGIN:VEVENT
DTSTART;TZID=America/New_York:20220430T120000
DTEND;TZID=America/New_York:20220430T180000
DTSTAMP:20260424T120026
CREATED:20220429T002410Z
LAST-MODIFIED:20220429T002410Z
UID:2084-1651320000-1651341600@talcottcollective.com
SUMMARY:Food Truck: Hot Taco Street Kitchen
DESCRIPTION:
URL:https://talcottcollective.com/event/food-truck-hot-taco-street-kitchen/
CATEGORIES:Food Truck
ATTACH;FMTTYPE=image/png:https://talcottcollective.com/wp-content/uploads/2022/02/Hot-Taco-e1645197611427.png
END:VEVENT
BEGIN:VEVENT
DTSTART;TZID=America/New_York:20220429T183000
DTEND;TZID=America/New_York:20220429T213000
DTSTAMP:20260424T120026
CREATED:20220429T003342Z
LAST-MODIFIED:20220429T003342Z
UID:2090-1651257000-1651267800@talcottcollective.com
SUMMARY:Tim McDonald and Hally Jaeggi
DESCRIPTION:Live music with Tim McDonald and Hally Jaeggi
URL:https://talcottcollective.com/event/tim-mcdonald-and-hally-jaeggi-2/
CATEGORIES:Music
ATTACH;FMTTYPE=image/jpeg:https://talcottcollective.com/wp-content/uploads/2022/03/MCdonald-Jaeggi-e1648094528742.jpg
END:VEVENT
BEGIN:VEVENT
DTSTART;TZID=America/New_York:20220429T160000
DTEND;TZID=America/New_York:20220429T210000
DTSTAMP:20260424T120026
CREATED:20220429T002022Z
LAST-MODIFIED:20220429T002022Z
UID:2082-1651248000-1651266000@talcottcollective.com
SUMMARY:Food Truck: I Know A Guy
DESCRIPTION:
URL:https://talcottcollective.com/event/food-truck-i-know-a-guy/
CATEGORIES:Food Truck
ATTACH;FMTTYPE=image/png:https://talcottcollective.com/wp-content/uploads/2022/01/IKAG-Food-Truck-e1646931533216.png
END:VEVENT
BEGIN:VEVENT
DTSTART;TZID=America/New_York:20220429T150000
DTEND;TZID=America/New_York:20220429T220000
DTSTAMP:20260424T120026
CREATED:20220429T001036Z
LAST-MODIFIED:20220429T001329Z
UID:2080-1651244400-1651269600@talcottcollective.com
SUMMARY:Food Truck: Mama Nena
DESCRIPTION:
URL:https://talcottcollective.com/event/food-truck-mama-nena-3/
CATEGORIES:Food Truck
ATTACH;FMTTYPE=image/png:https://talcottcollective.com/wp-content/uploads/2022/03/Mama-Nena-Food-Truck.png
END:VEVENT
END:VCALENDAR