BEGIN:VCALENDAR
VERSION:2.0
PRODID:-//Talcott Mountain Collective - ECPv6.15.20//NONSGML v1.0//EN
CALSCALE:GREGORIAN
METHOD:PUBLISH
X-ORIGINAL-URL:https://talcottcollective.com
X-WR-CALDESC:Events for Talcott Mountain Collective
REFRESH-INTERVAL;VALUE=DURATION:PT1H
X-Robots-Tag:noindex
X-PUBLISHED-TTL:PT1H
BEGIN:VTIMEZONE
TZID:America/New_York
BEGIN:DAYLIGHT
TZOFFSETFROM:-0500
TZOFFSETTO:-0400
TZNAME:EDT
DTSTART:20250309T070000
END:DAYLIGHT
BEGIN:STANDARD
TZOFFSETFROM:-0400
TZOFFSETTO:-0500
TZNAME:EST
DTSTART:20251102T060000
END:STANDARD
BEGIN:DAYLIGHT
TZOFFSETFROM:-0500
TZOFFSETTO:-0400
TZNAME:EDT
DTSTART:20260308T070000
END:DAYLIGHT
BEGIN:STANDARD
TZOFFSETFROM:-0400
TZOFFSETTO:-0500
TZNAME:EST
DTSTART:20261101T060000
END:STANDARD
BEGIN:DAYLIGHT
TZOFFSETFROM:-0500
TZOFFSETTO:-0400
TZNAME:EDT
DTSTART:20270314T070000
END:DAYLIGHT
BEGIN:STANDARD
TZOFFSETFROM:-0400
TZOFFSETTO:-0500
TZNAME:EST
DTSTART:20271107T060000
END:STANDARD
END:VTIMEZONE
BEGIN:VEVENT
DTSTART;VALUE=DATE:20260524
DTEND;VALUE=DATE:20260525
DTSTAMP:20260420T201728
CREATED:20260114T142027Z
LAST-MODIFIED:20260114T142027Z
UID:9644-1779580800-1779667199@talcottcollective.com
SUMMARY:East-West Grill Food Truck
DESCRIPTION:
URL:https://talcottcollective.com/event/east-west-grill-food-truck-3/2026-05-24/
CATEGORIES:Food Truck
ATTACH;FMTTYPE=image/jpeg:https://talcottcollective.com/wp-content/uploads/2025/04/FoodTruck-East-West-Grill-scaled.jpg
END:VEVENT
BEGIN:VEVENT
DTSTART;TZID=America/New_York:20260524T150000
DTEND;TZID=America/New_York:20260524T180000
DTSTAMP:20260420T201728
CREATED:20260408T221204Z
LAST-MODIFIED:20260408T221204Z
UID:11001-1779634800-1779645600@talcottcollective.com
SUMMARY:Man Hands
DESCRIPTION:We are Man Hands\, a cover band based out of central CT!\n4 dudes who like to make noise.
URL:https://talcottcollective.com/event/man-hands-2/
CATEGORIES:Music
ATTACH;FMTTYPE=image/jpeg:https://talcottcollective.com/wp-content/uploads/2025/11/Man-Hands.jpg
END:VEVENT
BEGIN:VEVENT
DTSTART;TZID=America/New_York:20260526T183000
DTEND;TZID=America/New_York:20260526T210000
DTSTAMP:20260420T201728
CREATED:20260113T151928Z
LAST-MODIFIED:20260113T151928Z
UID:10952-1779820200-1779829200@talcottcollective.com
SUMMARY:Open Mic Night! Hosted by Michael Sasportas
DESCRIPTION:Weekly Open Mic: Hosted By Michael Sasportas \nText: 860-480-7300 to sign up!
URL:https://talcottcollective.com/event/open-mic-night-hosted-by-michael-sasportas-2-2026-04-09/2026-05-26/
CATEGORIES:Music,Open Mic
ATTACH;FMTTYPE=image/jpeg:https://talcottcollective.com/wp-content/uploads/2025/03/OpenMic.jpg
END:VEVENT
BEGIN:VEVENT
DTSTART;TZID=America/New_York:20260527T180000
DTEND;TZID=America/New_York:20260527T200000
DTSTAMP:20260420T201728
CREATED:20260420T171127Z
LAST-MODIFIED:20260420T185941Z
UID:11054-1779904800-1779912000@talcottcollective.com
SUMMARY:Candle Making Workshop with Summit Scent Co.
DESCRIPTION:Come and make a custom candle with Summit Scent Co! Scan the QR code or go to https://summitscentco.com/event-list to sign up. Hurry\, registration is limited!!
URL:https://talcottcollective.com/event/candle-making-workshop-by-summit-scent-co/
ATTACH;FMTTYPE=image/png:https://talcottcollective.com/wp-content/uploads/2026/04/Summit-ScentAida-Babic-May.png
END:VEVENT
BEGIN:VEVENT
DTSTART;VALUE=DATE:20260530
DTEND;VALUE=DATE:20260531
DTSTAMP:20260420T201728
CREATED:20260114T141541Z
LAST-MODIFIED:20260114T141541Z
UID:9635-1780099200-1780185599@talcottcollective.com
SUMMARY:Pika Food Truck
DESCRIPTION:
URL:https://talcottcollective.com/event/pika-food-truck-8/2026-05-30/
CATEGORIES:Food Truck
ATTACH;FMTTYPE=image/jpeg:https://talcottcollective.com/wp-content/uploads/2025/04/FoodTruck-Pika-scaled.jpg
END:VEVENT
BEGIN:VEVENT
DTSTART;TZID=America/New_York:20260530T190000
DTEND;TZID=America/New_York:20260530T220000
DTSTAMP:20260420T201728
CREATED:20260408T220259Z
LAST-MODIFIED:20260420T195103Z
UID:10994-1780167600-1780178400@talcottcollective.com
SUMMARY:Iron Horse Band
DESCRIPTION:Just some talented friends sharing their love for music!!
URL:https://talcottcollective.com/event/iron-horse-band-5/
CATEGORIES:Music
ATTACH;FMTTYPE=image/webp:https://talcottcollective.com/wp-content/uploads/2024/07/iron-horse.webp
END:VEVENT
BEGIN:VEVENT
DTSTART;TZID=America/New_York:20260602T183000
DTEND;TZID=America/New_York:20260602T210000
DTSTAMP:20260420T201728
CREATED:20260113T151928Z
LAST-MODIFIED:20260113T151928Z
UID:10953-1780425000-1780434000@talcottcollective.com
SUMMARY:Open Mic Night! Hosted by Michael Sasportas
DESCRIPTION:Weekly Open Mic: Hosted By Michael Sasportas \nText: 860-480-7300 to sign up!
URL:https://talcottcollective.com/event/open-mic-night-hosted-by-michael-sasportas-2-2026-04-09/2026-06-02/
CATEGORIES:Music,Open Mic
ATTACH;FMTTYPE=image/jpeg:https://talcottcollective.com/wp-content/uploads/2025/03/OpenMic.jpg
END:VEVENT
BEGIN:VEVENT
DTSTART;TZID=America/New_York:20260605T190000
DTEND;TZID=America/New_York:20260605T220000
DTSTAMP:20260420T201728
CREATED:20260420T200445Z
LAST-MODIFIED:20260420T200445Z
UID:11065-1780686000-1780696800@talcottcollective.com
SUMMARY:Nick Bredice
DESCRIPTION:Nick grew up in Simsbury and his first public gig was here in 2009\, when he was 12. It was a duo with Ryan Riley on keys. Riley was a drummer in the band Nick played with while he was growing up called “Harmonic Rewalk”. They played in the Hartford\, CT area and summers on the Cape until 2014 when they went off to college. Nick’s musical influences include The Dead\, Phish and Billy Strings but his biggest influence is Mihali Savoulidis\, formerly of Twiddle\, and now out on his own.
URL:https://talcottcollective.com/event/nick-bredice/
CATEGORIES:Music
ATTACH;FMTTYPE=image/jpeg:https://talcottcollective.com/wp-content/uploads/2026/04/Nick-Bredice.jpg
END:VEVENT
BEGIN:VEVENT
DTSTART;VALUE=DATE:20260607
DTEND;VALUE=DATE:20260608
DTSTAMP:20260420T201728
CREATED:20260121T223318Z
LAST-MODIFIED:20260228T220116Z
UID:9618-1780790400-1780876799@talcottcollective.com
SUMMARY:Feeling Saucy Food Truck
DESCRIPTION:
URL:https://talcottcollective.com/event/feeling-saucy-food-truck-2026-05-08/2026-06-07/
CATEGORIES:Food Truck
ATTACH;FMTTYPE=image/png:https://talcottcollective.com/wp-content/uploads/2023/10/Feeling-Saucy-Food-truck-1.png
END:VEVENT
BEGIN:VEVENT
DTSTART;TZID=America/New_York:20260609T183000
DTEND;TZID=America/New_York:20260609T210000
DTSTAMP:20260420T201728
CREATED:20260113T151928Z
LAST-MODIFIED:20260113T151928Z
UID:10954-1781029800-1781038800@talcottcollective.com
SUMMARY:Open Mic Night! Hosted by Michael Sasportas
DESCRIPTION:Weekly Open Mic: Hosted By Michael Sasportas \nText: 860-480-7300 to sign up!
URL:https://talcottcollective.com/event/open-mic-night-hosted-by-michael-sasportas-2-2026-04-09/2026-06-09/
CATEGORIES:Music,Open Mic
ATTACH;FMTTYPE=image/jpeg:https://talcottcollective.com/wp-content/uploads/2025/03/OpenMic.jpg
END:VEVENT
BEGIN:VEVENT
DTSTART;VALUE=DATE:20260612
DTEND;VALUE=DATE:20260613
DTSTAMP:20260420T201728
CREATED:20260123T154643Z
LAST-MODIFIED:20260123T154643Z
UID:9655-1781222400-1781308799@talcottcollective.com
SUMMARY:Samba's Food Truck
DESCRIPTION:
URL:https://talcottcollective.com/event/sambas-food-truck-6/2026-06-12/
CATEGORIES:Food Truck
ATTACH;FMTTYPE=image/jpeg:https://talcottcollective.com/wp-content/uploads/2025/04/FoodTruck-Samba-scaled.jpg
END:VEVENT
BEGIN:VEVENT
DTSTART;VALUE=DATE:20260614
DTEND;VALUE=DATE:20260615
DTSTAMP:20260420T201728
CREATED:20260114T142027Z
LAST-MODIFIED:20260114T142027Z
UID:9645-1781395200-1781481599@talcottcollective.com
SUMMARY:East-West Grill Food Truck
DESCRIPTION:
URL:https://talcottcollective.com/event/east-west-grill-food-truck-3/2026-06-14/
CATEGORIES:Food Truck
ATTACH;FMTTYPE=image/jpeg:https://talcottcollective.com/wp-content/uploads/2025/04/FoodTruck-East-West-Grill-scaled.jpg
END:VEVENT
BEGIN:VEVENT
DTSTART;TZID=America/New_York:20260616T183000
DTEND;TZID=America/New_York:20260616T210000
DTSTAMP:20260420T201728
CREATED:20260113T151928Z
LAST-MODIFIED:20260113T151928Z
UID:10955-1781634600-1781643600@talcottcollective.com
SUMMARY:Open Mic Night! Hosted by Michael Sasportas
DESCRIPTION:Weekly Open Mic: Hosted By Michael Sasportas \nText: 860-480-7300 to sign up!
URL:https://talcottcollective.com/event/open-mic-night-hosted-by-michael-sasportas-2-2026-04-09/2026-06-16/
CATEGORIES:Music,Open Mic
ATTACH;FMTTYPE=image/jpeg:https://talcottcollective.com/wp-content/uploads/2025/03/OpenMic.jpg
END:VEVENT
BEGIN:VEVENT
DTSTART;VALUE=DATE:20260620
DTEND;VALUE=DATE:20260621
DTSTAMP:20260420T201728
CREATED:20260113T182106Z
LAST-MODIFIED:20260113T182106Z
UID:9630-1781913600-1781999999@talcottcollective.com
SUMMARY:Mama Nena Food Truck
DESCRIPTION:Serving fresh\, hand made tapas from across Spain
URL:https://talcottcollective.com/event/mama-nena-food-truck-8/2026-06-20/
CATEGORIES:Food Truck
ATTACH;FMTTYPE=image/png:https://talcottcollective.com/wp-content/uploads/2025/04/Mama-Nena-FoodTruck25.png
END:VEVENT
BEGIN:VEVENT
DTSTART;TZID=America/New_York:20260623T183000
DTEND;TZID=America/New_York:20260623T210000
DTSTAMP:20260420T201728
CREATED:20260113T151928Z
LAST-MODIFIED:20260113T151928Z
UID:10956-1782239400-1782248400@talcottcollective.com
SUMMARY:Open Mic Night! Hosted by Michael Sasportas
DESCRIPTION:Weekly Open Mic: Hosted By Michael Sasportas \nText: 860-480-7300 to sign up!
URL:https://talcottcollective.com/event/open-mic-night-hosted-by-michael-sasportas-2-2026-04-09/2026-06-23/
CATEGORIES:Music,Open Mic
ATTACH;FMTTYPE=image/jpeg:https://talcottcollective.com/wp-content/uploads/2025/03/OpenMic.jpg
END:VEVENT
BEGIN:VEVENT
DTSTART;VALUE=DATE:20260626
DTEND;VALUE=DATE:20260627
DTSTAMP:20260420T201728
CREATED:20260114T141541Z
LAST-MODIFIED:20260114T141541Z
UID:9636-1782432000-1782518399@talcottcollective.com
SUMMARY:Pika Food Truck
DESCRIPTION:
URL:https://talcottcollective.com/event/pika-food-truck-8/2026-06-26/
CATEGORIES:Food Truck
ATTACH;FMTTYPE=image/jpeg:https://talcottcollective.com/wp-content/uploads/2025/04/FoodTruck-Pika-scaled.jpg
END:VEVENT
BEGIN:VEVENT
DTSTART;VALUE=DATE:20260628
DTEND;VALUE=DATE:20260629
DTSTAMP:20260420T201728
CREATED:20260113T184158Z
LAST-MODIFIED:20260113T184158Z
UID:9775-1782604800-1782691199@talcottcollective.com
SUMMARY:Skatz BBQ Food Truck
DESCRIPTION:
URL:https://talcottcollective.com/event/skatz-bbq-food-truck/2026-06-28/
CATEGORIES:Food Truck
ATTACH;FMTTYPE=image/jpeg:https://talcottcollective.com/wp-content/uploads/2025/04/FoodTruck-Scatz-scaled.jpg
END:VEVENT
BEGIN:VEVENT
DTSTART;TZID=America/New_York:20260630T183000
DTEND;TZID=America/New_York:20260630T210000
DTSTAMP:20260420T201728
CREATED:20260113T151928Z
LAST-MODIFIED:20260113T151928Z
UID:10957-1782844200-1782853200@talcottcollective.com
SUMMARY:Open Mic Night! Hosted by Michael Sasportas
DESCRIPTION:Weekly Open Mic: Hosted By Michael Sasportas \nText: 860-480-7300 to sign up!
URL:https://talcottcollective.com/event/open-mic-night-hosted-by-michael-sasportas-2-2026-04-09/2026-06-30/
CATEGORIES:Music,Open Mic
ATTACH;FMTTYPE=image/jpeg:https://talcottcollective.com/wp-content/uploads/2025/03/OpenMic.jpg
END:VEVENT
BEGIN:VEVENT
DTSTART;TZID=America/New_York:20260707T183000
DTEND;TZID=America/New_York:20260707T210000
DTSTAMP:20260420T201728
CREATED:20260113T151928Z
LAST-MODIFIED:20260113T151928Z
UID:10958-1783449000-1783458000@talcottcollective.com
SUMMARY:Open Mic Night! Hosted by Michael Sasportas
DESCRIPTION:Weekly Open Mic: Hosted By Michael Sasportas \nText: 860-480-7300 to sign up!
URL:https://talcottcollective.com/event/open-mic-night-hosted-by-michael-sasportas-2-2026-04-09/2026-07-07/
CATEGORIES:Music,Open Mic
ATTACH;FMTTYPE=image/jpeg:https://talcottcollective.com/wp-content/uploads/2025/03/OpenMic.jpg
END:VEVENT
BEGIN:VEVENT
DTSTART;VALUE=DATE:20260710
DTEND;VALUE=DATE:20260711
DTSTAMP:20260420T201728
CREATED:20260113T184158Z
LAST-MODIFIED:20260113T184158Z
UID:9776-1783641600-1783727999@talcottcollective.com
SUMMARY:Skatz BBQ Food Truck
DESCRIPTION:
URL:https://talcottcollective.com/event/skatz-bbq-food-truck/2026-07-10/
CATEGORIES:Food Truck
ATTACH;FMTTYPE=image/jpeg:https://talcottcollective.com/wp-content/uploads/2025/04/FoodTruck-Scatz-scaled.jpg
END:VEVENT
BEGIN:VEVENT
DTSTART;VALUE=DATE:20260711
DTEND;VALUE=DATE:20260712
DTSTAMP:20260420T201728
CREATED:20260114T141541Z
LAST-MODIFIED:20260121T223917Z
UID:9622-1783728000-1783814399@talcottcollective.com
SUMMARY:Pika Food Truck
DESCRIPTION:
URL:https://talcottcollective.com/event/pika-food-truck-8/2026-07-11/
CATEGORIES:Food Truck
ATTACH;FMTTYPE=image/jpeg:https://talcottcollective.com/wp-content/uploads/2025/04/FoodTruck-Pika-scaled.jpg
END:VEVENT
BEGIN:VEVENT
DTSTART;TZID=America/New_York:20260714T183000
DTEND;TZID=America/New_York:20260714T210000
DTSTAMP:20260420T201728
CREATED:20260113T151928Z
LAST-MODIFIED:20260113T151928Z
UID:10959-1784053800-1784062800@talcottcollective.com
SUMMARY:Open Mic Night! Hosted by Michael Sasportas
DESCRIPTION:Weekly Open Mic: Hosted By Michael Sasportas \nText: 860-480-7300 to sign up!
URL:https://talcottcollective.com/event/open-mic-night-hosted-by-michael-sasportas-2-2026-04-09/2026-07-14/
CATEGORIES:Music,Open Mic
ATTACH;FMTTYPE=image/jpeg:https://talcottcollective.com/wp-content/uploads/2025/03/OpenMic.jpg
END:VEVENT
BEGIN:VEVENT
DTSTART;VALUE=DATE:20260718
DTEND;VALUE=DATE:20260719
DTSTAMP:20260420T201728
CREATED:20260113T182106Z
LAST-MODIFIED:20260113T182106Z
UID:9631-1784332800-1784419199@talcottcollective.com
SUMMARY:Mama Nena Food Truck
DESCRIPTION:Serving fresh\, hand made tapas from across Spain
URL:https://talcottcollective.com/event/mama-nena-food-truck-8/2026-07-18/
CATEGORIES:Food Truck
ATTACH;FMTTYPE=image/png:https://talcottcollective.com/wp-content/uploads/2025/04/Mama-Nena-FoodTruck25.png
END:VEVENT
BEGIN:VEVENT
DTSTART;VALUE=DATE:20260719
DTEND;VALUE=DATE:20260720
DTSTAMP:20260420T201728
CREATED:20260123T154643Z
LAST-MODIFIED:20260123T154643Z
UID:9656-1784419200-1784505599@talcottcollective.com
SUMMARY:Samba's Food Truck
DESCRIPTION:
URL:https://talcottcollective.com/event/sambas-food-truck-6/2026-07-19/
CATEGORIES:Food Truck
ATTACH;FMTTYPE=image/jpeg:https://talcottcollective.com/wp-content/uploads/2025/04/FoodTruck-Samba-scaled.jpg
END:VEVENT
BEGIN:VEVENT
DTSTART;TZID=America/New_York:20260721T183000
DTEND;TZID=America/New_York:20260721T210000
DTSTAMP:20260420T201728
CREATED:20260113T151928Z
LAST-MODIFIED:20260113T151928Z
UID:10960-1784658600-1784667600@talcottcollective.com
SUMMARY:Open Mic Night! Hosted by Michael Sasportas
DESCRIPTION:Weekly Open Mic: Hosted By Michael Sasportas \nText: 860-480-7300 to sign up!
URL:https://talcottcollective.com/event/open-mic-night-hosted-by-michael-sasportas-2-2026-04-09/2026-07-21/
CATEGORIES:Music,Open Mic
ATTACH;FMTTYPE=image/jpeg:https://talcottcollective.com/wp-content/uploads/2025/03/OpenMic.jpg
END:VEVENT
BEGIN:VEVENT
DTSTART;VALUE=DATE:20260725
DTEND;VALUE=DATE:20260726
DTSTAMP:20260420T201728
CREATED:20260114T142027Z
LAST-MODIFIED:20260114T142027Z
UID:9646-1784937600-1785023999@talcottcollective.com
SUMMARY:East-West Grill Food Truck
DESCRIPTION:
URL:https://talcottcollective.com/event/east-west-grill-food-truck-3/2026-07-25/
CATEGORIES:Food Truck
ATTACH;FMTTYPE=image/jpeg:https://talcottcollective.com/wp-content/uploads/2025/04/FoodTruck-East-West-Grill-scaled.jpg
END:VEVENT
BEGIN:VEVENT
DTSTART;TZID=America/New_York:20260728T183000
DTEND;TZID=America/New_York:20260728T210000
DTSTAMP:20260420T201728
CREATED:20260113T151928Z
LAST-MODIFIED:20260113T151928Z
UID:10961-1785263400-1785272400@talcottcollective.com
SUMMARY:Open Mic Night! Hosted by Michael Sasportas
DESCRIPTION:Weekly Open Mic: Hosted By Michael Sasportas \nText: 860-480-7300 to sign up!
URL:https://talcottcollective.com/event/open-mic-night-hosted-by-michael-sasportas-2-2026-04-09/2026-07-28/
CATEGORIES:Music,Open Mic
ATTACH;FMTTYPE=image/jpeg:https://talcottcollective.com/wp-content/uploads/2025/03/OpenMic.jpg
END:VEVENT
BEGIN:VEVENT
DTSTART;VALUE=DATE:20260731
DTEND;VALUE=DATE:20260801
DTSTAMP:20260420T201728
CREATED:20260113T184158Z
LAST-MODIFIED:20260113T184158Z
UID:9777-1785456000-1785542399@talcottcollective.com
SUMMARY:Skatz BBQ Food Truck
DESCRIPTION:
URL:https://talcottcollective.com/event/skatz-bbq-food-truck/2026-07-31/
CATEGORIES:Food Truck
ATTACH;FMTTYPE=image/jpeg:https://talcottcollective.com/wp-content/uploads/2025/04/FoodTruck-Scatz-scaled.jpg
END:VEVENT
BEGIN:VEVENT
DTSTART;TZID=America/New_York:20260804T183000
DTEND;TZID=America/New_York:20260804T210000
DTSTAMP:20260420T201728
CREATED:20260113T151928Z
LAST-MODIFIED:20260113T151928Z
UID:10962-1785868200-1785877200@talcottcollective.com
SUMMARY:Open Mic Night! Hosted by Michael Sasportas
DESCRIPTION:Weekly Open Mic: Hosted By Michael Sasportas \nText: 860-480-7300 to sign up!
URL:https://talcottcollective.com/event/open-mic-night-hosted-by-michael-sasportas-2-2026-04-09/2026-08-04/
CATEGORIES:Music,Open Mic
ATTACH;FMTTYPE=image/jpeg:https://talcottcollective.com/wp-content/uploads/2025/03/OpenMic.jpg
END:VEVENT
BEGIN:VEVENT
DTSTART;VALUE=DATE:20260808
DTEND;VALUE=DATE:20260809
DTSTAMP:20260420T201728
CREATED:20260114T142027Z
LAST-MODIFIED:20260114T142027Z
UID:9647-1786147200-1786233599@talcottcollective.com
SUMMARY:East-West Grill Food Truck
DESCRIPTION:
URL:https://talcottcollective.com/event/east-west-grill-food-truck-3/2026-08-08/
CATEGORIES:Food Truck
ATTACH;FMTTYPE=image/jpeg:https://talcottcollective.com/wp-content/uploads/2025/04/FoodTruck-East-West-Grill-scaled.jpg
END:VEVENT
END:VCALENDAR