BEGIN:VCALENDAR
VERSION:2.0
PRODID:-//Talcott Mountain Collective - ECPv6.15.20//NONSGML v1.0//EN
CALSCALE:GREGORIAN
METHOD:PUBLISH
X-WR-CALNAME:Talcott Mountain Collective
X-ORIGINAL-URL:https://talcottcollective.com
X-WR-CALDESC:Events for Talcott Mountain Collective
REFRESH-INTERVAL;VALUE=DURATION:PT1H
X-Robots-Tag:noindex
X-PUBLISHED-TTL:PT1H
BEGIN:VTIMEZONE
TZID:America/New_York
BEGIN:DAYLIGHT
TZOFFSETFROM:-0500
TZOFFSETTO:-0400
TZNAME:EDT
DTSTART:20240310T070000
END:DAYLIGHT
BEGIN:STANDARD
TZOFFSETFROM:-0400
TZOFFSETTO:-0500
TZNAME:EST
DTSTART:20241103T060000
END:STANDARD
BEGIN:DAYLIGHT
TZOFFSETFROM:-0500
TZOFFSETTO:-0400
TZNAME:EDT
DTSTART:20250309T070000
END:DAYLIGHT
BEGIN:STANDARD
TZOFFSETFROM:-0400
TZOFFSETTO:-0500
TZNAME:EST
DTSTART:20251102T060000
END:STANDARD
BEGIN:DAYLIGHT
TZOFFSETFROM:-0500
TZOFFSETTO:-0400
TZNAME:EDT
DTSTART:20260308T070000
END:DAYLIGHT
BEGIN:STANDARD
TZOFFSETFROM:-0400
TZOFFSETTO:-0500
TZNAME:EST
DTSTART:20261101T060000
END:STANDARD
END:VTIMEZONE
BEGIN:VEVENT
DTSTART;TZID=America/New_York:20251021T183000
DTEND;TZID=America/New_York:20251021T210000
DTSTAMP:20260420T030204
CREATED:20250329T194125Z
LAST-MODIFIED:20251109T200700Z
UID:7343-1761071400-1761080400@talcottcollective.com
SUMMARY:Open Mic Night - Hosted by Michael Sasportas Music
DESCRIPTION:Weekly Open Mic: Hosted By Michael Sasportas \nText: 860-480-7300 to sign up!
URL:https://talcottcollective.com/event/open-mic-night-hosted-by-michael-sasportas-music/2025-10-21/
CATEGORIES:Music,Open Mic
ATTACH;FMTTYPE=image/jpeg:https://talcottcollective.com/wp-content/uploads/2025/03/OpenMic.jpg
END:VEVENT
BEGIN:VEVENT
DTSTART;TZID=America/New_York:20251019T140000
DTEND;TZID=America/New_York:20251019T180000
DTSTAMP:20260420T030204
CREATED:20250928T194938Z
LAST-MODIFIED:20250928T194938Z
UID:9119-1760882400-1760896800@talcottcollective.com
SUMMARY:Autumn Groove
DESCRIPTION:Our annual Fall jam! Two great acts\, one lovely day. Saintshouse/Eddie Gautier brings his soulful originals and covers back to the Mountain Stage for a 90 minute set\, followed by the Americana/bluesgrassy sounds of Free Range Humans\, Food trucks and other special features all day long. Follow for details and updates.\nSaintshouse 1:00/1:30 – 2:30/3:00FRH – 3:00 – 6:00
URL:https://talcottcollective.com/event/autumn-groove/
CATEGORIES:Music
ATTACH;FMTTYPE=image/jpeg:https://talcottcollective.com/wp-content/uploads/2025/09/Autumn-Groove.jpg
END:VEVENT
BEGIN:VEVENT
DTSTART;TZID=America/New_York:20251019T130000
DTEND;TZID=America/New_York:20251019T190000
DTSTAMP:20260420T030204
CREATED:20250609T004941Z
LAST-MODIFIED:20250609T010450Z
UID:8407-1760878800-1760900400@talcottcollective.com
SUMMARY:Mama Nena Food Truck
DESCRIPTION:Serving fresh\, hand made tapas from across Spain
URL:https://talcottcollective.com/event/8389/2025-10-19/
CATEGORIES:Food Truck
ATTACH;FMTTYPE=image/png:https://talcottcollective.com/wp-content/uploads/2025/04/Mama-Nena-FoodTruck25.png
END:VEVENT
BEGIN:VEVENT
DTSTART;TZID=America/New_York:20251018T200000
DTEND;TZID=America/New_York:20251018T223000
DTSTAMP:20260420T030204
CREATED:20250929T024950Z
LAST-MODIFIED:20251017T213457Z
UID:9131-1760817600-1760826600@talcottcollective.com
SUMMARY:Shout! 90's Dance Party $10 / 16+(under 18 must be accompanied by adult)
DESCRIPTION:Connecticut based tribute band Shout presents a 90’s dance party at Talcott Mountain Collective featuring a variety of 90’s dance hits!! $10 : 16+(under 18 must be accompanied by adult)
URL:https://talcottcollective.com/event/shout-90s-dance-party-10-16under-18-must-be-accompanied-by-adult/
CATEGORIES:Music
ATTACH;FMTTYPE=image/jpeg:https://talcottcollective.com/wp-content/uploads/2025/03/476486863_18021295907648158_2630716935572203528_n-scaled.jpg
END:VEVENT
BEGIN:VEVENT
DTSTART;TZID=America/New_York:20251018T140000
DTEND;TZID=America/New_York:20251018T190000
DTSTAMP:20260420T030204
CREATED:20241001T152635Z
LAST-MODIFIED:20250601T193128Z
UID:7113-1760796000-1760814000@talcottcollective.com
SUMMARY:Vinyl Days With Wolfbain
DESCRIPTION:Our most popular music feature is now a weekly treat.
URL:https://talcottcollective.com/event/vinyl-days-with-wolfbain/2025-10-18/
CATEGORIES:Music
ATTACH;FMTTYPE=image/jpeg:https://talcottcollective.com/wp-content/uploads/2023/10/DJ-Wolfbain-2.jpg
END:VEVENT
BEGIN:VEVENT
DTSTART;TZID=America/New_York:20251018T130000
DTEND;TZID=America/New_York:20251018T200000
DTSTAMP:20260420T030204
CREATED:20250928T190537Z
LAST-MODIFIED:20250928T190537Z
UID:9107-1760792400-1760817600@talcottcollective.com
SUMMARY:Samba's Food Truck
DESCRIPTION:
URL:https://talcottcollective.com/event/sambas-food-truck-5/
CATEGORIES:Food Truck
ATTACH;FMTTYPE=image/jpeg:https://talcottcollective.com/wp-content/uploads/2025/04/FoodTruck-Samba-scaled.jpg
END:VEVENT
BEGIN:VEVENT
DTSTART;TZID=America/New_York:20251018T130000
DTEND;TZID=America/New_York:20251018T200000
DTSTAMP:20260420T030204
CREATED:20250928T190457Z
LAST-MODIFIED:20250928T190457Z
UID:9105-1760792400-1760817600@talcottcollective.com
SUMMARY:Capt n' Jerk Food Truck
DESCRIPTION:
URL:https://talcottcollective.com/event/capt-n-jerk-food-truck-12/
CATEGORIES:Food Truck
ATTACH;FMTTYPE=image/jpeg:https://talcottcollective.com/wp-content/uploads/2025/04/FoodTruck-Capt-N-Jerk-scaled.jpg
END:VEVENT
BEGIN:VEVENT
DTSTART;TZID=America/New_York:20251017T190000
DTEND;TZID=America/New_York:20251017T220000
DTSTAMP:20260420T030204
CREATED:20250928T190811Z
LAST-MODIFIED:20251011T181556Z
UID:9109-1760727600-1760738400@talcottcollective.com
SUMMARY:Shakedown Citi-$15 --21+event
DESCRIPTION:Shakedown Citi was formed in the heart of NYC by a group of passionate musicians who share a love for the Grateful Dead and their timeless music. $15 cover for 21+
URL:https://talcottcollective.com/event/shakedown-citi-15-for-13/
CATEGORIES:21+ Event,Music
ATTACH;FMTTYPE=image/jpeg:https://talcottcollective.com/wp-content/uploads/2025/03/Shakedown-Citi.jpg
END:VEVENT
BEGIN:VEVENT
DTSTART;TZID=America/New_York:20251017T160000
DTEND;TZID=America/New_York:20251017T200000
DTSTAMP:20260420T030204
CREATED:20250928T190353Z
LAST-MODIFIED:20250928T190353Z
UID:9103-1760716800-1760731200@talcottcollective.com
SUMMARY:Crave Food Truck
DESCRIPTION:
URL:https://talcottcollective.com/event/crave-food-truck-6/
CATEGORIES:Food Truck
ATTACH;FMTTYPE=image/jpeg:https://talcottcollective.com/wp-content/uploads/2025/04/FoodTruck-Crave-scaled.jpg
END:VEVENT
BEGIN:VEVENT
DTSTART;TZID=America/New_York:20251016T160000
DTEND;TZID=America/New_York:20251016T200000
DTSTAMP:20260420T030204
CREATED:20250830T173840Z
LAST-MODIFIED:20250830T173840Z
UID:8954-1760630400-1760644800@talcottcollective.com
SUMMARY:Capt 'N Jerk Food Truck
DESCRIPTION:
URL:https://talcottcollective.com/event/capt-n-jerk-food-truck-10/2025-10-16/
CATEGORIES:Food Truck
ATTACH;FMTTYPE=image/jpeg:https://talcottcollective.com/wp-content/uploads/2025/04/FoodTruck-Capt-N-Jerk-scaled.jpg
END:VEVENT
BEGIN:VEVENT
DTSTART;TZID=America/New_York:20251014T183000
DTEND;TZID=America/New_York:20251014T210000
DTSTAMP:20260420T030204
CREATED:20250329T194125Z
LAST-MODIFIED:20251109T200700Z
UID:7342-1760466600-1760475600@talcottcollective.com
SUMMARY:Open Mic Night - Hosted by Michael Sasportas Music
DESCRIPTION:Weekly Open Mic: Hosted By Michael Sasportas \nText: 860-480-7300 to sign up!
URL:https://talcottcollective.com/event/open-mic-night-hosted-by-michael-sasportas-music/2025-10-14/
CATEGORIES:Music,Open Mic
ATTACH;FMTTYPE=image/jpeg:https://talcottcollective.com/wp-content/uploads/2025/03/OpenMic.jpg
END:VEVENT
BEGIN:VEVENT
DTSTART;TZID=America/New_York:20251012T140000
DTEND;TZID=America/New_York:20251012T180000
DTSTAMP:20260420T030204
CREATED:20251011T181110Z
LAST-MODIFIED:20251011T181110Z
UID:9193-1760277600-1760292000@talcottcollective.com
SUMMARY:Scha-Musi
DESCRIPTION:Traditional German Music!
URL:https://talcottcollective.com/event/scha-musi-3/
CATEGORIES:Music
ATTACH;FMTTYPE=image/heic:https://talcottcollective.com/wp-content/uploads/2025/10/FullSizeRender-scaled.jpg
END:VEVENT
BEGIN:VEVENT
DTSTART;TZID=America/New_York:20251012T130000
DTEND;TZID=America/New_York:20251012T200000
DTSTAMP:20260420T030204
CREATED:20250609T011646Z
LAST-MODIFIED:20250609T014915Z
UID:8442-1760274000-1760299200@talcottcollective.com
SUMMARY:Samba e Favela Food Truck
DESCRIPTION:We are taking Street Food to a new level with a delicious fusion of Brazilian\, Latin and Spanish Food
URL:https://talcottcollective.com/event/samba-e-favela-food-truck/2025-10-12/
CATEGORIES:Food Truck
ATTACH;FMTTYPE=image/jpeg:https://talcottcollective.com/wp-content/uploads/2025/04/FoodTruck-Samba-scaled.jpg
END:VEVENT
BEGIN:VEVENT
DTSTART;TZID=America/New_York:20251012T130000
DTEND;TZID=America/New_York:20251012T190000
DTSTAMP:20260420T030204
CREATED:20250928T190210Z
LAST-MODIFIED:20250928T190210Z
UID:9101-1760274000-1760295600@talcottcollective.com
SUMMARY:Capt n' Jerk Food Truck
DESCRIPTION:
URL:https://talcottcollective.com/event/capt-n-jerk-food-truck-11/
CATEGORIES:Food Truck
ATTACH;FMTTYPE=image/jpeg:https://talcottcollective.com/wp-content/uploads/2025/04/FoodTruck-Capt-N-Jerk-scaled.jpg
END:VEVENT
BEGIN:VEVENT
DTSTART;VALUE=DATE:20251012
DTEND;VALUE=DATE:20251013
DTSTAMP:20260420T030204
CREATED:20250922T225636Z
LAST-MODIFIED:20251011T182111Z
UID:9080-1760227200-1760313599@talcottcollective.com
SUMMARY:CollectOberfest featuring Scha-Musi
DESCRIPTION:Today is the last day of our CollectOberfest!  Weekend Das Boot promo – @weihenstephanusa limited addition boot glasses for sale with pour!
URL:https://talcottcollective.com/event/collectoberfest-2-2025-10-12/
CATEGORIES:Music
ATTACH;FMTTYPE=image/heic:https://talcottcollective.com/wp-content/uploads/2025/10/FullSizeRender-scaled.jpg
END:VEVENT
BEGIN:VEVENT
DTSTART;TZID=America/New_York:20251011T200000
DTEND;TZID=America/New_York:20251011T230000
DTSTAMP:20260420T030204
CREATED:20250922T231044Z
LAST-MODIFIED:20251011T182203Z
UID:9087-1760212800-1760223600@talcottcollective.com
SUMMARY:Mauve Lloyd/Pink Floyd tribute: $10; 21+
DESCRIPTION:..and They sent us along\, as a surrogate band\, to play the music of the Pink Floyd.
URL:https://talcottcollective.com/event/mauve-lloyd-10/
CATEGORIES:21+ Event,Music
ATTACH;FMTTYPE=image/jpeg:https://talcottcollective.com/wp-content/uploads/2025/09/Mauve-Lloyd.jpg
END:VEVENT
BEGIN:VEVENT
DTSTART;TZID=America/New_York:20251011T150000
DTEND;TZID=America/New_York:20251011T190000
DTSTAMP:20260420T030204
CREATED:20251010T211323Z
LAST-MODIFIED:20251010T211323Z
UID:9184-1760194800-1760209200@talcottcollective.com
SUMMARY:Camden Fuller & Katie Kelly
DESCRIPTION:We are excited to feature two distinct sounds on our outdoor stage this Saturday – it’s all part of our final CollectOberfest weekend. $5 door – all ages welcome
URL:https://talcottcollective.com/event/camden-fuller-katie-kelly/
CATEGORIES:Music
ATTACH;FMTTYPE=image/jpeg:https://talcottcollective.com/wp-content/uploads/2025/10/Camden-Fuller-and-Katie.jpg
END:VEVENT
BEGIN:VEVENT
DTSTART;TZID=America/New_York:20251011T130000
DTEND;TZID=America/New_York:20251011T190000
DTSTAMP:20260420T030204
CREATED:20250928T185237Z
LAST-MODIFIED:20250928T185301Z
UID:9096-1760187600-1760209200@talcottcollective.com
SUMMARY:Elo's Hibachi Food Truck
DESCRIPTION:
URL:https://talcottcollective.com/event/elos-hibatchi/
CATEGORIES:Food Truck
ATTACH;FMTTYPE=image/jpeg:https://talcottcollective.com/wp-content/uploads/2025/04/FoodTruck-Elos-Hibachi-scaled.jpg
END:VEVENT
BEGIN:VEVENT
DTSTART;TZID=America/New_York:20251010T180000
DTEND;TZID=America/New_York:20251010T210000
DTSTAMP:20260420T030204
CREATED:20250922T230447Z
LAST-MODIFIED:20251009T061319Z
UID:9084-1760119200-1760130000@talcottcollective.com
SUMMARY:Duketones
DESCRIPTION:We’ll be rockin’ Chuck Berry\, Bob Dylan\, Bruce Springsteen\, John Hiatt\, Townes Van Zandt and others. We hope you’ll join us!
URL:https://talcottcollective.com/event/residual-groove/
CATEGORIES:Music
ATTACH;FMTTYPE=image/jpeg:https://talcottcollective.com/wp-content/uploads/2024/02/duketones.jpg
END:VEVENT
BEGIN:VEVENT
DTSTART;TZID=America/New_York:20251010T160000
DTEND;TZID=America/New_York:20251010T200000
DTSTAMP:20260420T030204
CREATED:20250609T004941Z
LAST-MODIFIED:20250609T010449Z
UID:8391-1760112000-1760126400@talcottcollective.com
SUMMARY:Mama Nena Food Truck
DESCRIPTION:Serving fresh\, hand made tapas from across Spain
URL:https://talcottcollective.com/event/8389/2025-10-10/
CATEGORIES:Food Truck
ATTACH;FMTTYPE=image/png:https://talcottcollective.com/wp-content/uploads/2025/04/Mama-Nena-FoodTruck25.png
END:VEVENT
BEGIN:VEVENT
DTSTART;TZID=America/New_York:20251009T170000
DTEND;TZID=America/New_York:20251009T210000
DTSTAMP:20260420T030204
CREATED:20250928T185450Z
LAST-MODIFIED:20250928T185450Z
UID:9099-1760029200-1760043600@talcottcollective.com
SUMMARY:CLOSED to the Public
DESCRIPTION:Due to a private event we are closing at 5:00 pm today
URL:https://talcottcollective.com/event/closed-to-the-public/
END:VEVENT
BEGIN:VEVENT
DTSTART;TZID=America/New_York:20251009T160000
DTEND;TZID=America/New_York:20251009T200000
DTSTAMP:20260420T030204
CREATED:20250830T173840Z
LAST-MODIFIED:20250830T173840Z
UID:8953-1760025600-1760040000@talcottcollective.com
SUMMARY:Capt 'N Jerk Food Truck
DESCRIPTION:
URL:https://talcottcollective.com/event/capt-n-jerk-food-truck-10/2025-10-09/
CATEGORIES:Food Truck
ATTACH;FMTTYPE=image/jpeg:https://talcottcollective.com/wp-content/uploads/2025/04/FoodTruck-Capt-N-Jerk-scaled.jpg
END:VEVENT
BEGIN:VEVENT
DTSTART;TZID=America/New_York:20251007T183000
DTEND;TZID=America/New_York:20251007T210000
DTSTAMP:20260420T030204
CREATED:20250329T194125Z
LAST-MODIFIED:20251109T200659Z
UID:7341-1759861800-1759870800@talcottcollective.com
SUMMARY:Open Mic Night - Hosted by Michael Sasportas Music
DESCRIPTION:Weekly Open Mic: Hosted By Michael Sasportas \nText: 860-480-7300 to sign up!
URL:https://talcottcollective.com/event/open-mic-night-hosted-by-michael-sasportas-music/2025-10-07/
CATEGORIES:Music,Open Mic
ATTACH;FMTTYPE=image/jpeg:https://talcottcollective.com/wp-content/uploads/2025/03/OpenMic.jpg
END:VEVENT
BEGIN:VEVENT
DTSTART;TZID=America/New_York:20251005T160000
DTEND;TZID=America/New_York:20251005T190000
DTSTAMP:20260420T030204
CREATED:20250922T223530Z
LAST-MODIFIED:20251005T171137Z
UID:9067-1759680000-1759690800@talcottcollective.com
SUMMARY:Booyah! $10
DESCRIPTION:It’s always a special night when BOOYAH! makes it back to mountain time @ The Collective. Come experience the FUNK!!\n$10 door. 16+.
URL:https://talcottcollective.com/event/booyah-10/
CATEGORIES:Music
ATTACH;FMTTYPE=image/png:https://talcottcollective.com/wp-content/uploads/2022/09/Booyah-e1739214507696.png
END:VEVENT
BEGIN:VEVENT
DTSTART;TZID=America/New_York:20251005T130000
DTEND;TZID=America/New_York:20251005T200000
DTSTAMP:20260420T030204
CREATED:20250830T173840Z
LAST-MODIFIED:20250928T185022Z
UID:8952-1759669200-1759694400@talcottcollective.com
SUMMARY:Capt 'N Jerk Food Truck
DESCRIPTION:
URL:https://talcottcollective.com/event/capt-n-jerk-food-truck-10-2025-10-05/
CATEGORIES:Food Truck
ATTACH;FMTTYPE=image/jpeg:https://talcottcollective.com/wp-content/uploads/2025/04/FoodTruck-Capt-N-Jerk-scaled.jpg
END:VEVENT
BEGIN:VEVENT
DTSTART;TZID=America/New_York:20251005T130000
DTEND;TZID=America/New_York:20251005T190000
DTSTAMP:20260420T030204
CREATED:20250928T184905Z
LAST-MODIFIED:20250928T184905Z
UID:9093-1759669200-1759690800@talcottcollective.com
SUMMARY:Pika Food Truck
DESCRIPTION:
URL:https://talcottcollective.com/event/pika-food-truck-6/
CATEGORIES:Food Truck
ATTACH;FMTTYPE=image/jpeg:https://talcottcollective.com/wp-content/uploads/2025/04/FoodTruck-Pika-scaled.jpg
END:VEVENT
BEGIN:VEVENT
DTSTART;TZID=America/New_York:20251004T190000
DTEND;TZID=America/New_York:20251004T220000
DTSTAMP:20260420T030204
CREATED:20250922T223118Z
LAST-MODIFIED:20250922T223118Z
UID:9065-1759604400-1759615200@talcottcollective.com
SUMMARY:Street Vipers
DESCRIPTION:No strangers to the Greater Hartford music scene\, The Street Vipers recently re-formed with original and new members to bring out their mix of classic rock songs from the 1960’s to the 2000’s
URL:https://talcottcollective.com/event/street-vipers/
CATEGORIES:Music
ATTACH;FMTTYPE=image/jpeg:https://talcottcollective.com/wp-content/uploads/2025/04/The-Street-Vipers.jpg
END:VEVENT
BEGIN:VEVENT
DTSTART;TZID=America/New_York:20251004T140000
DTEND;TZID=America/New_York:20251004T180000
DTSTAMP:20260420T030204
CREATED:20250922T222949Z
LAST-MODIFIED:20250922T224825Z
UID:9063-1759586400-1759600800@talcottcollective.com
SUMMARY:Scha Musi
DESCRIPTION:Traditional Oktoberfest music!
URL:https://talcottcollective.com/event/scha-musi-2/
CATEGORIES:Music
ATTACH;FMTTYPE=image/jpeg:https://talcottcollective.com/wp-content/uploads/2025/09/scha-musi-3-e1758470199450.jpg
END:VEVENT
BEGIN:VEVENT
DTSTART;TZID=America/New_York:20251004T130000
DTEND;TZID=America/New_York:20251004T200000
DTSTAMP:20260420T030204
CREATED:20250830T175538Z
LAST-MODIFIED:20250830T175538Z
UID:8972-1759582800-1759608000@talcottcollective.com
SUMMARY:Cluck Cluck Moo's Food Truck
DESCRIPTION:
URL:https://talcottcollective.com/event/cluck-cluck-moos-food-truck-4/2025-10-04/
CATEGORIES:Food Truck
ATTACH;FMTTYPE=image/jpeg:https://talcottcollective.com/wp-content/uploads/2025/04/FoodTruck-Cluck-cluck-moos-scaled.jpg
END:VEVENT
BEGIN:VEVENT
DTSTART;TZID=America/New_York:20251004T130000
DTEND;TZID=America/New_York:20251004T190000
DTSTAMP:20260420T030204
CREATED:20250830T175923Z
LAST-MODIFIED:20250830T175923Z
UID:8978-1759582800-1759604400@talcottcollective.com
SUMMARY:Nibbles & Noms Food Truck
DESCRIPTION:
URL:https://talcottcollective.com/event/nibbles-noms-food-truck/2025-10-04/
CATEGORIES:Food Truck
ATTACH;FMTTYPE=image/jpeg:https://talcottcollective.com/wp-content/uploads/2025/04/FoodTruck-Nibbles-n-Noms-scaled.jpg
END:VEVENT
END:VCALENDAR