BEGIN:VCALENDAR
VERSION:2.0
PRODID:-//Talcott Mountain Collective - ECPv6.15.20//NONSGML v1.0//EN
CALSCALE:GREGORIAN
METHOD:PUBLISH
X-ORIGINAL-URL:https://talcottcollective.com
X-WR-CALDESC:Events for Talcott Mountain Collective
REFRESH-INTERVAL;VALUE=DURATION:PT1H
X-Robots-Tag:noindex
X-PUBLISHED-TTL:PT1H
BEGIN:VTIMEZONE
TZID:America/New_York
BEGIN:DAYLIGHT
TZOFFSETFROM:-0500
TZOFFSETTO:-0400
TZNAME:EDT
DTSTART:20240310T070000
END:DAYLIGHT
BEGIN:STANDARD
TZOFFSETFROM:-0400
TZOFFSETTO:-0500
TZNAME:EST
DTSTART:20241103T060000
END:STANDARD
BEGIN:DAYLIGHT
TZOFFSETFROM:-0500
TZOFFSETTO:-0400
TZNAME:EDT
DTSTART:20250309T070000
END:DAYLIGHT
BEGIN:STANDARD
TZOFFSETFROM:-0400
TZOFFSETTO:-0500
TZNAME:EST
DTSTART:20251102T060000
END:STANDARD
BEGIN:DAYLIGHT
TZOFFSETFROM:-0500
TZOFFSETTO:-0400
TZNAME:EDT
DTSTART:20260308T070000
END:DAYLIGHT
BEGIN:STANDARD
TZOFFSETFROM:-0400
TZOFFSETTO:-0500
TZNAME:EST
DTSTART:20261101T060000
END:STANDARD
END:VTIMEZONE
BEGIN:VEVENT
DTSTART;TZID=America/New_York:20251220T140000
DTEND;TZID=America/New_York:20251220T190000
DTSTAMP:20260419T184013
CREATED:20241001T152635Z
LAST-MODIFIED:20250601T193136Z
UID:7122-1766239200-1766257200@talcottcollective.com
SUMMARY:Vinyl Days With Wolfbain
DESCRIPTION:Our most popular music feature is now a weekly treat.
URL:https://talcottcollective.com/event/vinyl-days-with-wolfbain/2025-12-20/
CATEGORIES:Music
ATTACH;FMTTYPE=image/jpeg:https://talcottcollective.com/wp-content/uploads/2023/10/DJ-Wolfbain-2.jpg
END:VEVENT
BEGIN:VEVENT
DTSTART;TZID=America/New_York:20251219T190000
DTEND;TZID=America/New_York:20251219T220000
DTSTAMP:20260419T184013
CREATED:20251116T205354Z
LAST-MODIFIED:20251116T205354Z
UID:9332-1766170800-1766181600@talcottcollective.com
SUMMARY:7 Below Acoustic Duo
DESCRIPTION:Pete and Josh from 7 Below will be performing an acoustic set of Phish!
URL:https://talcottcollective.com/event/7-below-acoustic-duo/
CATEGORIES:Music
ATTACH;FMTTYPE=image/png:https://talcottcollective.com/wp-content/uploads/2024/05/Screenshot-2024-05-08-10.07.02-AM.png
END:VEVENT
BEGIN:VEVENT
DTSTART;TZID=America/New_York:20251218T183000
DTEND;TZID=America/New_York:20251218T213000
DTSTAMP:20260419T184013
CREATED:20251109T201049Z
LAST-MODIFIED:20251109T201216Z
UID:9266-1766082600-1766093400@talcottcollective.com
SUMMARY:Open Mic Night! Hosted By Michael Sasportas
DESCRIPTION:Weekly Open Mic: Hosted By Michael Sasportas \nText: 860-480-7300 to sign up!
URL:https://talcottcollective.com/event/open-mic-night-hosted-by-michael-sasportas/2025-12-18/
CATEGORIES:Music,Open Mic
ATTACH;FMTTYPE=image/jpeg:https://talcottcollective.com/wp-content/uploads/2025/03/OpenMic.jpg
END:VEVENT
BEGIN:VEVENT
DTSTART;TZID=America/New_York:20251217T180000
DTEND;TZID=America/New_York:20251217T210000
DTSTAMP:20260419T184013
CREATED:20251118T220315Z
LAST-MODIFIED:20251118T220315Z
UID:9367-1765994400-1766005200@talcottcollective.com
SUMMARY:Own the Mic featuring Todd Chmielewski
DESCRIPTION:
URL:https://talcottcollective.com/event/own-the-mic-featuring-todd-chmielewski/
CATEGORIES:Music
ATTACH;FMTTYPE=image/jpeg:https://talcottcollective.com/wp-content/uploads/2025/11/Todd-Chmielewski.jpg
END:VEVENT
BEGIN:VEVENT
DTSTART;TZID=America/New_York:20251214T153000
DTEND;TZID=America/New_York:20251214T183000
DTSTAMP:20260419T184013
CREATED:20251118T213538Z
LAST-MODIFIED:20251118T213538Z
UID:9357-1765726200-1765737000@talcottcollective.com
SUMMARY:Dan Ringrose
DESCRIPTION:I simply love to sing and have been doing so professionally for over 40 years. While my first love remains Celtic folk music\, I have over time\, absorbed the music of many of this country’s greatest troubadours and singer songwriters from Steve Goodman\, John Prine and Jim Croce to Jonathan Edwards\, Harry Chapin\, The Eagles\, CCR\, Steve Miller Dr. Hook and more! I’m glad to be returning to TMC! I’ll be mixing in some Christmas tunes to keep everyone in the Holiday spirit!
URL:https://talcottcollective.com/event/dan-ringrose-5/
CATEGORIES:Music
ATTACH;FMTTYPE=image/jpeg:https://talcottcollective.com/wp-content/uploads/2025/11/Dan-Ringrose.jpg
END:VEVENT
BEGIN:VEVENT
DTSTART;TZID=America/New_York:20251213T190000
DTEND;TZID=America/New_York:20251213T220000
DTSTAMP:20260419T184013
CREATED:20251116T211905Z
LAST-MODIFIED:20251116T211905Z
UID:9341-1765652400-1765663200@talcottcollective.com
SUMMARY:The Decker Bandits
DESCRIPTION:Join us for live music with the celebrated Decker Bandits – music/21+
URL:https://talcottcollective.com/event/the-decker-bandits-2/
CATEGORIES:21+ Event,Music
ATTACH;FMTTYPE=image/jpeg:https://talcottcollective.com/wp-content/uploads/2025/11/Collectivus-25.jpg
END:VEVENT
BEGIN:VEVENT
DTSTART;TZID=America/New_York:20251213T150000
DTEND;TZID=America/New_York:20251213T180000
DTSTAMP:20260419T184013
CREATED:20251116T210803Z
LAST-MODIFIED:20251116T210803Z
UID:9339-1765638000-1765648800@talcottcollective.com
SUMMARY:Downright Music Student Concert
DESCRIPTION:Downright Music is one of the original student-band music schools. Located in the heart of historic Collinsville\, CT\, Downright Music is an inspiring atmosphere that embraces the arts and music.
URL:https://talcottcollective.com/event/downright-music-student-concert-2/
CATEGORIES:Music
ATTACH;FMTTYPE=image/jpeg:https://talcottcollective.com/wp-content/uploads/2025/05/Downright-Student-Music--scaled.jpg
END:VEVENT
BEGIN:VEVENT
DTSTART;TZID=America/New_York:20251213T140000
DTEND;TZID=America/New_York:20251213T190000
DTSTAMP:20260419T184013
CREATED:20241001T152635Z
LAST-MODIFIED:20250601T193135Z
UID:7121-1765634400-1765652400@talcottcollective.com
SUMMARY:Vinyl Days With Wolfbain
DESCRIPTION:Our most popular music feature is now a weekly treat.
URL:https://talcottcollective.com/event/vinyl-days-with-wolfbain/2025-12-13/
CATEGORIES:Music
ATTACH;FMTTYPE=image/jpeg:https://talcottcollective.com/wp-content/uploads/2023/10/DJ-Wolfbain-2.jpg
END:VEVENT
BEGIN:VEVENT
DTSTART;TZID=America/New_York:20251212T180000
DTEND;TZID=America/New_York:20251212T210000
DTSTAMP:20260419T184013
CREATED:20251116T205134Z
LAST-MODIFIED:20251118T215007Z
UID:9330-1765562400-1765573200@talcottcollective.com
SUMMARY:Bad Management Acoustic Duo
DESCRIPTION:Bad Management – a talented local band
URL:https://talcottcollective.com/event/bad-management-4/
CATEGORIES:Music
ATTACH;FMTTYPE=image/jpeg:https://talcottcollective.com/wp-content/uploads/2024/01/Bad-Management.jpg
END:VEVENT
BEGIN:VEVENT
DTSTART;TZID=America/New_York:20251211T183000
DTEND;TZID=America/New_York:20251211T213000
DTSTAMP:20260419T184013
CREATED:20251109T201049Z
LAST-MODIFIED:20251109T201216Z
UID:9265-1765477800-1765488600@talcottcollective.com
SUMMARY:Open Mic Night! Hosted By Michael Sasportas
DESCRIPTION:Weekly Open Mic: Hosted By Michael Sasportas \nText: 860-480-7300 to sign up!
URL:https://talcottcollective.com/event/open-mic-night-hosted-by-michael-sasportas/2025-12-11/
CATEGORIES:Music,Open Mic
ATTACH;FMTTYPE=image/jpeg:https://talcottcollective.com/wp-content/uploads/2025/03/OpenMic.jpg
END:VEVENT
BEGIN:VEVENT
DTSTART;TZID=America/New_York:20251210T180000
DTEND;TZID=America/New_York:20251210T210000
DTSTAMP:20260419T184013
CREATED:20251116T204423Z
LAST-MODIFIED:20251118T220452Z
UID:9325-1765389600-1765400400@talcottcollective.com
SUMMARY:Own the Mic featuring Devon Wallace
DESCRIPTION:
URL:https://talcottcollective.com/event/devon-wallace-2/
CATEGORIES:Music
ATTACH;FMTTYPE=image/jpeg:https://talcottcollective.com/wp-content/uploads/2025/09/Devon-Wallace.jpg
END:VEVENT
BEGIN:VEVENT
DTSTART;TZID=America/New_York:20251207T150000
DTEND;TZID=America/New_York:20251207T180000
DTSTAMP:20260419T184013
CREATED:20251116T205955Z
LAST-MODIFIED:20251116T205955Z
UID:9336-1765119600-1765130400@talcottcollective.com
SUMMARY:Michael Sasportas Solo
DESCRIPTION:Live Music with Michael Sasportas
URL:https://talcottcollective.com/event/michael-sasportas-solo-6/2025-12-07/
CATEGORIES:Music
ATTACH;FMTTYPE=image/jpeg:https://talcottcollective.com/wp-content/uploads/2022/04/Sasportas-e1650576952684.jpg
END:VEVENT
BEGIN:VEVENT
DTSTART;TZID=America/New_York:20251207T130000
DTEND;TZID=America/New_York:20251207T200000
DTSTAMP:20260419T184013
CREATED:20251109T201607Z
LAST-MODIFIED:20251112T222013Z
UID:9283-1765112400-1765137600@talcottcollective.com
SUMMARY:Mama Nena Food Truck
DESCRIPTION:
URL:https://talcottcollective.com/event/mama-nena-food-truck-8-2025-11-23/2025-12-07/
ATTACH;FMTTYPE=image/png:https://talcottcollective.com/wp-content/uploads/2025/04/Mama-Nena-FoodTruck25.png
END:VEVENT
BEGIN:VEVENT
DTSTART;TZID=America/New_York:20251206T190000
DTEND;TZID=America/New_York:20251206T220000
DTSTAMP:20260419T184013
CREATED:20251118T212658Z
LAST-MODIFIED:20251118T212658Z
UID:9354-1765047600-1765058400@talcottcollective.com
SUMMARY:The Tribulations
DESCRIPTION:
URL:https://talcottcollective.com/event/the-tribulations/
CATEGORIES:Music
ATTACH;FMTTYPE=image/jpeg:https://talcottcollective.com/wp-content/uploads/2025/11/The-Tribulations.jpg
END:VEVENT
BEGIN:VEVENT
DTSTART;TZID=America/New_York:20251206T140000
DTEND;TZID=America/New_York:20251206T190000
DTSTAMP:20260419T184013
CREATED:20241001T152635Z
LAST-MODIFIED:20250601T193133Z
UID:7120-1765029600-1765047600@talcottcollective.com
SUMMARY:Vinyl Days With Wolfbain
DESCRIPTION:Our most popular music feature is now a weekly treat.
URL:https://talcottcollective.com/event/vinyl-days-with-wolfbain/2025-12-06/
CATEGORIES:Music
ATTACH;FMTTYPE=image/jpeg:https://talcottcollective.com/wp-content/uploads/2023/10/DJ-Wolfbain-2.jpg
END:VEVENT
BEGIN:VEVENT
DTSTART;TZID=America/New_York:20251205T180000
DTEND;TZID=America/New_York:20251205T210000
DTSTAMP:20260419T184013
CREATED:20251116T204929Z
LAST-MODIFIED:20251205T221158Z
UID:9327-1764957600-1764968400@talcottcollective.com
SUMMARY:Ian D'Arcangelo
DESCRIPTION:Ian is the lead singer for One Time Weekend – “the innovative shred-funk Connecticut quartet bringing driving grooves with a melodic and progressive edge to the universe.” A singer & songwriter from CT. Ian keeps a familiar sound while pushing the boundaries of his genre.
URL:https://talcottcollective.com/event/ian-darcangelo-9/
CATEGORIES:Music
ATTACH;FMTTYPE=image/jpeg:https://talcottcollective.com/wp-content/uploads/2025/11/I-DArcangelo.jpg
END:VEVENT
BEGIN:VEVENT
DTSTART;TZID=America/New_York:20251204T183000
DTEND;TZID=America/New_York:20251204T213000
DTSTAMP:20260419T184013
CREATED:20251109T201049Z
LAST-MODIFIED:20251109T201215Z
UID:9264-1764873000-1764883800@talcottcollective.com
SUMMARY:Open Mic Night! Hosted By Michael Sasportas
DESCRIPTION:Weekly Open Mic: Hosted By Michael Sasportas \nText: 860-480-7300 to sign up!
URL:https://talcottcollective.com/event/open-mic-night-hosted-by-michael-sasportas/2025-12-04/
CATEGORIES:Music,Open Mic
ATTACH;FMTTYPE=image/jpeg:https://talcottcollective.com/wp-content/uploads/2025/03/OpenMic.jpg
END:VEVENT
BEGIN:VEVENT
DTSTART;TZID=America/New_York:20251203T180000
DTEND;TZID=America/New_York:20251203T210000
DTSTAMP:20260419T184013
CREATED:20251116T204033Z
LAST-MODIFIED:20251116T204033Z
UID:9323-1764784800-1764795600@talcottcollective.com
SUMMARY:Alex Davis
DESCRIPTION:
URL:https://talcottcollective.com/event/alex-davis-3/
CATEGORIES:Music
ATTACH;FMTTYPE=image/jpeg:https://talcottcollective.com/wp-content/uploads/2025/05/Alex-Davis-2.jpg
END:VEVENT
BEGIN:VEVENT
DTSTART;TZID=America/New_York:20251130T140000
DTEND;TZID=America/New_York:20251130T170000
DTSTAMP:20260419T184013
CREATED:20251112T223144Z
LAST-MODIFIED:20251112T223144Z
UID:9301-1764511200-1764522000@talcottcollective.com
SUMMARY:Blaney Brothers Christmas Trio
DESCRIPTION:
URL:https://talcottcollective.com/event/blaney-brothers-christmas-trio/
CATEGORIES:Music
ATTACH;FMTTYPE=image/jpeg:https://talcottcollective.com/wp-content/uploads/2022/09/blaneybrotherslogo-e1662649761364.jpg
END:VEVENT
BEGIN:VEVENT
DTSTART;TZID=America/New_York:20251129T200000
DTEND;TZID=America/New_York:20251129T223000
DTSTAMP:20260419T184013
CREATED:20251112T223645Z
LAST-MODIFIED:20251112T223645Z
UID:9303-1764446400-1764455400@talcottcollective.com
SUMMARY:Shout! Decades Dance Party
DESCRIPTION:
URL:https://talcottcollective.com/event/shout-decades-dance-party/
CATEGORIES:Music
ATTACH;FMTTYPE=image/jpeg:https://talcottcollective.com/wp-content/uploads/2025/11/Shout-Decades-Dance-Party.jpg
END:VEVENT
BEGIN:VEVENT
DTSTART;TZID=America/New_York:20251129T140000
DTEND;TZID=America/New_York:20251129T190000
DTSTAMP:20260419T184013
CREATED:20241001T152635Z
LAST-MODIFIED:20250601T193132Z
UID:7119-1764424800-1764442800@talcottcollective.com
SUMMARY:Vinyl Days With Wolfbain
DESCRIPTION:Our most popular music feature is now a weekly treat.
URL:https://talcottcollective.com/event/vinyl-days-with-wolfbain/2025-11-29/
CATEGORIES:Music
ATTACH;FMTTYPE=image/jpeg:https://talcottcollective.com/wp-content/uploads/2023/10/DJ-Wolfbain-2.jpg
END:VEVENT
BEGIN:VEVENT
DTSTART;TZID=America/New_York:20251129T130000
DTEND;TZID=America/New_York:20251129T190000
DTSTAMP:20260419T184013
CREATED:20250609T004941Z
LAST-MODIFIED:20251109T201935Z
UID:8410-1764421200-1764442800@talcottcollective.com
SUMMARY:Capt-n-Jerk Food Truck
DESCRIPTION:
URL:https://talcottcollective.com/event/8389-2025-11-29/
CATEGORIES:Food Truck
ATTACH;FMTTYPE=image/jpeg:https://talcottcollective.com/wp-content/uploads/2025/04/FoodTruck-Capt-N-Jerk-scaled.jpg
END:VEVENT
BEGIN:VEVENT
DTSTART;TZID=America/New_York:20251128T190000
DTEND;TZID=America/New_York:20251128T220000
DTSTAMP:20260419T184013
CREATED:20251112T222724Z
LAST-MODIFIED:20251118T220717Z
UID:9295-1764356400-1764367200@talcottcollective.com
SUMMARY:The Wilcox Brothers featuring Maddie Kovanda with special guest Hally Jaeggi
DESCRIPTION:
URL:https://talcottcollective.com/event/the-wilcox-brothers/
CATEGORIES:Music
ATTACH;FMTTYPE=image/jpeg:https://talcottcollective.com/wp-content/uploads/2025/11/Wilcox-Bros.-Nov-25.jpg
END:VEVENT
BEGIN:VEVENT
DTSTART;VALUE=DATE:20251127
DTEND;VALUE=DATE:20251128
DTSTAMP:20260419T184013
CREATED:20251109T195237Z
LAST-MODIFIED:20251109T195237Z
UID:9259-1764201600-1764287999@talcottcollective.com
SUMMARY:CLOSED for THANKSGIVING
DESCRIPTION:We’re closed today to give our staff time to celebrate the holiday with family and friends. We’re grateful that we can provide a fun filled atmosphere and setting for you to enjoy good food\, music and camaraderie and we’re thankful for your patronage. Have a wonderful Thanksgiving!
URL:https://talcottcollective.com/event/closed-for-thanksgiving/
CATEGORIES:Music
ATTACH;FMTTYPE=image/jpeg:https://talcottcollective.com/wp-content/uploads/2025/11/Thanksgiving-closed.jpeg
END:VEVENT
BEGIN:VEVENT
DTSTART;TZID=America/New_York:20251126T170000
DTEND;TZID=America/New_York:20251126T200000
DTSTAMP:20260419T184013
CREATED:20251112T222855Z
LAST-MODIFIED:20251124T210759Z
UID:9297-1764176400-1764187200@talcottcollective.com
SUMMARY:Saintshouse/Eddie Gautier
DESCRIPTION:Eddie Gautier\, a veteran and a songwriter\, with a distinct southern voice\, not of the beautiful NE area. Hailing from Texas\, sings classic and original songs about life.
URL:https://talcottcollective.com/event/eddie-gautier-10/
CATEGORIES:Music
ATTACH;FMTTYPE=image/jpeg:https://talcottcollective.com/wp-content/uploads/2025/03/Saintshouse-Eddie-Gautier.jpg
END:VEVENT
BEGIN:VEVENT
DTSTART;TZID=America/New_York:20251125T160000
DTEND;TZID=America/New_York:20251125T210000
DTSTAMP:20260419T184013
CREATED:20251124T210048Z
LAST-MODIFIED:20251124T210048Z
UID:9396-1764086400-1764104400@talcottcollective.com
SUMMARY:Vinyl Night
DESCRIPTION:Join us for Vinyl Night with DJ Wolfbain!
URL:https://talcottcollective.com/event/vinyl-night-5/2025-11-25/
CATEGORIES:Music
ATTACH;FMTTYPE=image/jpeg:https://talcottcollective.com/wp-content/uploads/2022/01/Vinyl-Night.jpg
END:VEVENT
BEGIN:VEVENT
DTSTART;TZID=America/New_York:20251124T160000
DTEND;TZID=America/New_York:20251124T210000
DTSTAMP:20260419T184013
CREATED:20251124T210048Z
LAST-MODIFIED:20251124T210048Z
UID:9395-1764000000-1764018000@talcottcollective.com
SUMMARY:Vinyl Night
DESCRIPTION:Join us for Vinyl Night with DJ Wolfbain!
URL:https://talcottcollective.com/event/vinyl-night-5/2025-11-24/
CATEGORIES:Music
ATTACH;FMTTYPE=image/jpeg:https://talcottcollective.com/wp-content/uploads/2022/01/Vinyl-Night.jpg
END:VEVENT
BEGIN:VEVENT
DTSTART;TZID=America/New_York:20251123T150000
DTEND;TZID=America/New_York:20251123T180000
DTSTAMP:20260419T184013
CREATED:20251112T223016Z
LAST-MODIFIED:20251112T223016Z
UID:9299-1763910000-1763920800@talcottcollective.com
SUMMARY:Michael Sasportas Solo
DESCRIPTION:
URL:https://talcottcollective.com/event/michael-sasportas-solo-5/
CATEGORIES:Music
ATTACH;FMTTYPE=image/jpeg:https://talcottcollective.com/wp-content/uploads/2022/04/Sasportas-e1650576952684.jpg
END:VEVENT
BEGIN:VEVENT
DTSTART;TZID=America/New_York:20251123T130000
DTEND;TZID=America/New_York:20251123T200000
DTSTAMP:20260419T184013
CREATED:20251109T201607Z
LAST-MODIFIED:20251112T222013Z
UID:9282-1763902800-1763928000@talcottcollective.com
SUMMARY:Mama Nena Food Truck
DESCRIPTION:
URL:https://talcottcollective.com/event/mama-nena-food-truck-8-2025-11-23/2025-11-23/
ATTACH;FMTTYPE=image/png:https://talcottcollective.com/wp-content/uploads/2025/04/Mama-Nena-FoodTruck25.png
END:VEVENT
BEGIN:VEVENT
DTSTART;TZID=America/New_York:20251122T200000
DTEND;TZID=America/New_York:20251122T230000
DTSTAMP:20260419T184013
CREATED:20251108T143929Z
LAST-MODIFIED:20251108T145537Z
UID:9240-1763841600-1763852400@talcottcollective.com
SUMMARY:Gryme - Unplugged
DESCRIPTION:Gryme is the ultimate grunge experience. \n\nThis show will be an unplugged tribute to Hole\, Garbage\, The Cranberries\, Alanis and more!\n$15 at the door; 21+ \n 
URL:https://talcottcollective.com/event/gryme-unplugged/
CATEGORIES:21+ Event,Food Truck,Music
ATTACH;FMTTYPE=image/png:https://talcottcollective.com/wp-content/uploads/2025/11/Artboard-1.png
END:VEVENT
END:VCALENDAR