BEGIN:VCALENDAR
VERSION:2.0
PRODID:-//Talcott Mountain Collective - ECPv6.15.20//NONSGML v1.0//EN
CALSCALE:GREGORIAN
METHOD:PUBLISH
X-WR-CALNAME:Talcott Mountain Collective
X-ORIGINAL-URL:https://talcottcollective.com
X-WR-CALDESC:Events for Talcott Mountain Collective
REFRESH-INTERVAL;VALUE=DURATION:PT1H
X-Robots-Tag:noindex
X-PUBLISHED-TTL:PT1H
BEGIN:VTIMEZONE
TZID:America/New_York
BEGIN:DAYLIGHT
TZOFFSETFROM:-0500
TZOFFSETTO:-0400
TZNAME:EDT
DTSTART:20220313T070000
END:DAYLIGHT
BEGIN:STANDARD
TZOFFSETFROM:-0400
TZOFFSETTO:-0500
TZNAME:EST
DTSTART:20221106T060000
END:STANDARD
BEGIN:DAYLIGHT
TZOFFSETFROM:-0500
TZOFFSETTO:-0400
TZNAME:EDT
DTSTART:20230312T070000
END:DAYLIGHT
BEGIN:STANDARD
TZOFFSETFROM:-0400
TZOFFSETTO:-0500
TZNAME:EST
DTSTART:20231105T060000
END:STANDARD
BEGIN:DAYLIGHT
TZOFFSETFROM:-0500
TZOFFSETTO:-0400
TZNAME:EDT
DTSTART:20240310T070000
END:DAYLIGHT
BEGIN:STANDARD
TZOFFSETFROM:-0400
TZOFFSETTO:-0500
TZNAME:EST
DTSTART:20241103T060000
END:STANDARD
END:VTIMEZONE
BEGIN:VEVENT
DTSTART;TZID=America/New_York:20230601T173000
DTEND;TZID=America/New_York:20230601T203000
DTSTAMP:20260422T145020
CREATED:20230531T151501Z
LAST-MODIFIED:20230531T151501Z
UID:4232-1685640600-1685651400@talcottcollective.com
SUMMARY:7 Below: An Evening of Phish at the Collective
DESCRIPTION:Pete and Josh return to the Collective for some acoustic Phish!
URL:https://talcottcollective.com/event/7-below-an-evening-of-phish-at-the-collective-5/
LOCATION:CT
CATEGORIES:Music
ATTACH;FMTTYPE=image/jpeg:https://talcottcollective.com/wp-content/uploads/2022/03/phishtribute.jpg
END:VEVENT
BEGIN:VEVENT
DTSTART;TZID=America/New_York:20230528T150000
DTEND;TZID=America/New_York:20230528T170000
DTSTAMP:20260422T145020
CREATED:20230523T171930Z
LAST-MODIFIED:20230523T171930Z
UID:4219-1685286000-1685293200@talcottcollective.com
SUMMARY:Righteous Continental
DESCRIPTION:Righteous Continental is Ryan Newman\, Tim Leffingwell\, and Mitch Igneri. Twisted\, fiery blues rock!
URL:https://talcottcollective.com/event/righteous-continental/
LOCATION:CT
CATEGORIES:Food Truck,Music
ATTACH;FMTTYPE=image/png:https://talcottcollective.com/wp-content/uploads/2023/05/Righteous.png
END:VEVENT
BEGIN:VEVENT
DTSTART;TZID=America/New_York:20230527T190000
DTEND;TZID=America/New_York:20230527T220000
DTSTAMP:20260422T145020
CREATED:20230523T170329Z
LAST-MODIFIED:20230523T170329Z
UID:4217-1685214000-1685224800@talcottcollective.com
SUMMARY:Tim McDonald and Hally Jaeggi
DESCRIPTION:Live music with Tim McDonald and Hally Jaeggi \n21+\, $5 cover \nFood truck on site
URL:https://talcottcollective.com/event/tim-mcdonald-and-hally-jaeggi-11/
LOCATION:CT
CATEGORIES:21+ Event,Music
ATTACH;FMTTYPE=image/jpeg:https://talcottcollective.com/wp-content/uploads/2022/03/MCdonald-Jaeggi-e1648094528742.jpg
END:VEVENT
BEGIN:VEVENT
DTSTART;TZID=America/New_York:20230526T180000
DTEND;TZID=America/New_York:20230526T210000
DTSTAMP:20260422T145020
CREATED:20230516T205527Z
LAST-MODIFIED:20230516T205527Z
UID:4136-1685124000-1685134800@talcottcollective.com
SUMMARY:Acoustic Valhalla
DESCRIPTION:Acoustic Valhalla is a Connecticut based acoustic duo featuring David Sessions on vocals and Greg Or!
URL:https://talcottcollective.com/event/acoustic-valhalla-6/
LOCATION:CT
CATEGORIES:Music
ATTACH;FMTTYPE=image/jpeg:https://talcottcollective.com/wp-content/uploads/2022/03/Valhalla-e1647528913243.jpg
END:VEVENT
BEGIN:VEVENT
DTSTART;TZID=America/New_York:20230525T190000
DTEND;TZID=America/New_York:20230525T210000
DTSTAMP:20260422T145020
CREATED:20230523T162713Z
LAST-MODIFIED:20230523T162713Z
UID:4171-1685041200-1685048400@talcottcollective.com
SUMMARY:Pairing On The Mountain
DESCRIPTION:Join us on Thursday\, May 25 for a limited seat experience. Present Company and New Park Brewing will join forces to deliver a tailored menu that will  WOW your palate\, delight your stomach  and quench a mighty thirst \n\n\n\nWeather permitting\, this rain or shine event will be tabled on our upper lawn. Tickets  booked in advance  see below.\n\n\n\nOur night will also feature the acoustic talents of John Mayock  and a special beer tasting between 6:00-7:00 for ticket holders only.\n\n\n\nSnacks\nPresent Company Seaweed Popcorn & Beer Nuts\n\n1st Course\nGriddled Local Asparagus & Carrots – spring garlic & melted greens\, crispy pancetta aioli\n\n2nd Course\nDouble Cloud Braised Beef ShortRib – hot crushed potatoes & curried onion rings\, roasted mushroom- mustard glaze\n\n3rd Course\nTonka Bean Beignets – whipped Hudson Valley camembert\, rhubarb relish
URL:https://talcottcollective.com/event/pairing-on-the-mountain/
LOCATION:CT
CATEGORIES:21+ Event,Music,Promotion Night
ATTACH;FMTTYPE=image/jpeg:https://talcottcollective.com/wp-content/uploads/2023/05/New-Park.jpg
END:VEVENT
BEGIN:VEVENT
DTSTART;TZID=America/New_York:20230521T150000
DTEND;TZID=America/New_York:20230521T180000
DTSTAMP:20260422T145020
CREATED:20230516T203046Z
LAST-MODIFIED:20230516T203046Z
UID:4133-1684681200-1684692000@talcottcollective.com
SUMMARY:Shakedown
DESCRIPTION:“Shakedown is New England’s Grateful Dead Tribute Band since 1987.\nDave Frankel: Guitar\, vocals\nMike Kinghorn Bass and vocals\nDan O’Connor: Drums”\n\nLive from the outdoor stage.\n18+\, $5 cover
URL:https://talcottcollective.com/event/shakedown/
LOCATION:CT
CATEGORIES:21+ Event,Music
ATTACH;FMTTYPE=image/jpeg:https://talcottcollective.com/wp-content/uploads/2023/05/shakedown.jpg
END:VEVENT
BEGIN:VEVENT
DTSTART;TZID=America/New_York:20230520T120000
DTEND;TZID=America/New_York:20230520T220000
DTSTAMP:20260422T145020
CREATED:20230516T195123Z
LAST-MODIFIED:20230516T195123Z
UID:4131-1684584000-1684620000@talcottcollective.com
SUMMARY:Light The Beacon!
DESCRIPTION:Join us as we celebrate the relighting of Heublein Tower! The event runs from Noon until 10pm and features a bunch of great attractions\, including: \nLive Music acts all day: Junior Mack Band\, One Time Weekend\, Iron Horse\, JK Orbit\, Shout \n– – – \nThree Food Trucks: Crave\, Sambas Cuisine\, East-West Grille \n– – – \nDisc Golf Tournament at Tower Ridge Disc Golf \n– – – \nAnd of course\, one of the finest collections of adult beverages in the state! \nWe’re gonna party ‘til the lights come on! Join us!
URL:https://talcottcollective.com/event/light-the-beacon/
LOCATION:CT
CATEGORIES:Food Truck,Music,Promotion Night
ATTACH;FMTTYPE=image/jpeg:https://talcottcollective.com/wp-content/uploads/2023/05/LTB_Banner_V2.jpg
END:VEVENT
BEGIN:VEVENT
DTSTART;TZID=America/New_York:20230514T120000
DTEND;TZID=America/New_York:20230514T200000
DTSTAMP:20260422T145020
CREATED:20230501T162750Z
LAST-MODIFIED:20230501T162750Z
UID:4089-1684065600-1684094400@talcottcollective.com
SUMMARY:Mom's Day on the Mountain
DESCRIPTION:Join us for an extra special day as we feature both a vinyl (record player) DJ from 1-4 and digital DJ from 4-7 playing mom’s requests. Thumb through the vinyl collection or just submit your request and these artists will work it into the musical flow.\nFood truck\, Collective Kitchen\, all day happy hour\, and additional drink specials for mom
URL:https://talcottcollective.com/event/moms-day-on-the-mountain/
LOCATION:CT
ATTACH;FMTTYPE=image/jpeg:https://talcottcollective.com/wp-content/uploads/2023/05/Moms-Day-at-TAlcott.jpg
END:VEVENT
BEGIN:VEVENT
DTSTART;TZID=America/New_York:20230513T180000
DTEND;TZID=America/New_York:20230513T210000
DTSTAMP:20260422T145020
CREATED:20230508T151945Z
LAST-MODIFIED:20230508T151945Z
UID:4123-1684000800-1684011600@talcottcollective.com
SUMMARY:The Substitutes
DESCRIPTION:The Substitutes’ style of music ranges from the 60’s British Invasion to today’s modern rock.
URL:https://talcottcollective.com/event/the-substitutes-6/
LOCATION:CT
CATEGORIES:Music
ATTACH;FMTTYPE=image/jpeg:https://talcottcollective.com/wp-content/uploads/2022/02/substitutes.jpg
END:VEVENT
BEGIN:VEVENT
DTSTART;TZID=America/New_York:20230513T140000
DTEND;TZID=America/New_York:20230513T170000
DTSTAMP:20260422T145020
CREATED:20230508T151619Z
LAST-MODIFIED:20230509T200439Z
UID:4121-1683986400-1683997200@talcottcollective.com
SUMMARY:String Theory
DESCRIPTION:Bluegrass-infused acoustic music.
URL:https://talcottcollective.com/event/string-theory/
LOCATION:CT
CATEGORIES:Music
ATTACH;FMTTYPE=image/jpeg:https://talcottcollective.com/wp-content/uploads/2022/10/Untitled-design-26.jpg
END:VEVENT
BEGIN:VEVENT
DTSTART;TZID=America/New_York:20230512T180000
DTEND;TZID=America/New_York:20230512T210000
DTSTAMP:20260422T145020
CREATED:20230508T150327Z
LAST-MODIFIED:20230508T150327Z
UID:4119-1683914400-1683925200@talcottcollective.com
SUMMARY:Jeff Przech
DESCRIPTION:Singer\, Songwriter\, & Guitar Player from Connecticut
URL:https://talcottcollective.com/event/jeff-przech-6/
LOCATION:CT
CATEGORIES:Music
ATTACH;FMTTYPE=image/jpeg:https://talcottcollective.com/wp-content/uploads/2022/03/Jeff-Przech-e1647529264734.jpg
END:VEVENT
BEGIN:VEVENT
DTSTART;TZID=America/New_York:20230507T140000
DTEND;TZID=America/New_York:20230507T180000
DTSTAMP:20260422T145020
CREATED:20230501T162332Z
LAST-MODIFIED:20230504T163300Z
UID:4087-1683468000-1683482400@talcottcollective.com
SUMMARY:Michael Sasportas and Friends
DESCRIPTION:Live Music w/ Michael Sasportas
URL:https://talcottcollective.com/event/michael-sasportas-and-friends/
LOCATION:CT
CATEGORIES:Music
ATTACH;FMTTYPE=image/jpeg:https://talcottcollective.com/wp-content/uploads/2022/04/Sasportas-e1650576952684.jpg
END:VEVENT
BEGIN:VEVENT
DTSTART;TZID=America/New_York:20230506T190000
DTEND;TZID=America/New_York:20230506T220000
DTSTAMP:20260422T145020
CREATED:20230428T200533Z
LAST-MODIFIED:20230504T132603Z
UID:4081-1683399600-1683410400@talcottcollective.com
SUMMARY:RGB Band
DESCRIPTION:RGB-ROB GLASSMAN BAND\nRob Glassman – guitar/vocals\nChris Gilbransen – guitar/vocals\nJoe Scialla – drums\nJan Goldstein – bass
URL:https://talcottcollective.com/event/rgb-band/
LOCATION:CT
CATEGORIES:21+ Event,Food Truck,Music
ATTACH;FMTTYPE=image/jpeg:https://talcottcollective.com/wp-content/uploads/2023/04/RGB-Band.jpg
END:VEVENT
BEGIN:VEVENT
DTSTART;TZID=America/New_York:20230505T190000
DTEND;TZID=America/New_York:20230505T220000
DTSTAMP:20260422T145020
CREATED:20230501T161546Z
LAST-MODIFIED:20230504T131947Z
UID:4084-1683313200-1683324000@talcottcollective.com
SUMMARY:Acoustic Marshpit - Cinco De Mayo!
DESCRIPTION:Join us on Cinco De Mayo for agreat night of music with Acoustic Marshpit. Crave food truck will be on hand with a special menu. \nEmerging up from murky depths of pure rock stardom\, \nAcoustic Marshpit is an electrifying act for any occasion! Playing a vast varity of cover (and originals) Benn\, Rich\, Jay\, sometimes Jer.\, take the stage again along a little help from our friends to continue the mission originally set forward by the local but legendary modern Rock&Roll band ​~~~~ OLD MARSH ~~~~
URL:https://talcottcollective.com/event/acoustic-marshpit-cinco-de-mayo/
LOCATION:CT
CATEGORIES:Food Truck,Music
ATTACH;FMTTYPE=image/jpeg:https://talcottcollective.com/wp-content/uploads/2023/05/Accoustic-Marshpit-e1743279768972.jpeg
END:VEVENT
BEGIN:VEVENT
DTSTART;TZID=America/New_York:20230430T140000
DTEND;TZID=America/New_York:20230430T170000
DTSTAMP:20260422T145020
CREATED:20230424T155700Z
LAST-MODIFIED:20230424T160412Z
UID:4076-1682863200-1682874000@talcottcollective.com
SUMMARY:Live Bait: An Afternoon of Phish at the Collective
DESCRIPTION:All ages. $10 cover.\n\n\nMama Nena Food Truck  onsite – Collective Kitchen too
URL:https://talcottcollective.com/event/live-bait-an-afternoon-of-phish-at-the-collective/
LOCATION:CT
CATEGORIES:21+ Event,Food Truck,Music
ATTACH;FMTTYPE=image/jpeg:https://talcottcollective.com/wp-content/uploads/2023/03/LiveBait.jpg
END:VEVENT
BEGIN:VEVENT
DTSTART;TZID=America/New_York:20230429T190000
DTEND;TZID=America/New_York:20230429T220000
DTSTAMP:20260422T145020
CREATED:20230424T153610Z
LAST-MODIFIED:20230424T160247Z
UID:4073-1682794800-1682805600@talcottcollective.com
SUMMARY:Tim McDonald and Hally Jaeggi
DESCRIPTION:Live music with Tim McDonald and Hally Jaeggi \n21+\, $5 cover \nFood truck on site
URL:https://talcottcollective.com/event/tim-mcdonald-and-hally-jaeggi-10/
LOCATION:CT
CATEGORIES:21+ Event,Music
ATTACH;FMTTYPE=image/jpeg:https://talcottcollective.com/wp-content/uploads/2022/03/MCdonald-Jaeggi-e1648094528742.jpg
END:VEVENT
BEGIN:VEVENT
DTSTART;TZID=America/New_York:20230429T140000
DTEND;TZID=America/New_York:20230429T170000
DTSTAMP:20260422T145020
CREATED:20230424T153446Z
LAST-MODIFIED:20230424T153446Z
UID:4072-1682776800-1682787600@talcottcollective.com
SUMMARY:Joe Mandro Music
DESCRIPTION:Acoustic Guitarist\, Singer and Jam Extraordinaire
URL:https://talcottcollective.com/event/joe-mandro-music-6/
LOCATION:CT
CATEGORIES:Music
ATTACH;FMTTYPE=image/jpeg:https://talcottcollective.com/wp-content/uploads/2022/02/mandro-and-rob-e1646102187534.jpg
END:VEVENT
BEGIN:VEVENT
DTSTART;TZID=America/New_York:20230428T180000
DTEND;TZID=America/New_York:20230428T210000
DTSTAMP:20260422T145020
CREATED:20230424T153222Z
LAST-MODIFIED:20230424T153222Z
UID:4070-1682704800-1682715600@talcottcollective.com
SUMMARY:The Hooch
DESCRIPTION:Dynamic duo specializing in Pop\, Hip-Hop\, R&B and Soul
URL:https://talcottcollective.com/event/the-hooch-6/
LOCATION:CT
CATEGORIES:Music
ATTACH;FMTTYPE=image/jpeg:https://talcottcollective.com/wp-content/uploads/2022/05/thehooch-e1652454792897.jpg
END:VEVENT
BEGIN:VEVENT
DTSTART;TZID=America/New_York:20230423T143000
DTEND;TZID=America/New_York:20230423T173000
DTSTAMP:20260422T145020
CREATED:20230420T194215Z
LAST-MODIFIED:20230420T194215Z
UID:4057-1682260200-1682271000@talcottcollective.com
SUMMARY:Jeff Przech and Dennis Fancher
DESCRIPTION:Free Live Music w Jeff Przech and Dennis Fancher.
URL:https://talcottcollective.com/event/jeff-przech-and-dennis-fancher/
LOCATION:CT
CATEGORIES:Music
ATTACH;FMTTYPE=image/jpeg:https://talcottcollective.com/wp-content/uploads/2022/03/Jeff-Przech-e1647529264734.jpg
END:VEVENT
BEGIN:VEVENT
DTSTART;TZID=America/New_York:20230422T190000
DTEND;TZID=America/New_York:20230422T220000
DTSTAMP:20260422T145020
CREATED:20230406T195352Z
LAST-MODIFIED:20230422T215129Z
UID:4017-1682190000-1682200800@talcottcollective.com
SUMMARY:Jelly
DESCRIPTION:Bombastic funk fusion from the northeast US!
URL:https://talcottcollective.com/event/jelly/
LOCATION:CT
CATEGORIES:21+ Event,Music
ATTACH;FMTTYPE=image/jpeg:https://talcottcollective.com/wp-content/uploads/2023/04/Jelly-Logo.jpg
END:VEVENT
BEGIN:VEVENT
DTSTART;TZID=America/New_York:20230421T180000
DTEND;TZID=America/New_York:20230421T210000
DTSTAMP:20260422T145020
CREATED:20230406T190155Z
LAST-MODIFIED:20230406T190155Z
UID:4014-1682100000-1682110800@talcottcollective.com
SUMMARY:Tino and Malone
DESCRIPTION:Tino and Malone\, Christopher Tino & Brian Thomas Malone\, is an acoustic duo from Connecticut.
URL:https://talcottcollective.com/event/tino-and-malone/
LOCATION:CT
CATEGORIES:Music
ATTACH;FMTTYPE=image/jpeg:https://talcottcollective.com/wp-content/uploads/2023/04/Tino-and-Malone.jpg
END:VEVENT
BEGIN:VEVENT
DTSTART;TZID=America/New_York:20230416T140000
DTEND;TZID=America/New_York:20230416T170000
DTSTAMP:20260422T145020
CREATED:20230415T190920Z
LAST-MODIFIED:20230415T190920Z
UID:4041-1681653600-1681664400@talcottcollective.com
SUMMARY:Mark Paradis
DESCRIPTION:Live music with Mark Paradis.
URL:https://talcottcollective.com/event/mark-paradis-13/
LOCATION:CT
CATEGORIES:Music
ATTACH;FMTTYPE=image/jpeg:https://talcottcollective.com/wp-content/uploads/2022/01/paradis-e1645676902688.jpg
END:VEVENT
BEGIN:VEVENT
DTSTART;TZID=America/New_York:20230415T190000
DTEND;TZID=America/New_York:20230415T220000
DTSTAMP:20260422T145020
CREATED:20230406T185101Z
LAST-MODIFIED:20230415T225114Z
UID:4012-1681585200-1681596000@talcottcollective.com
SUMMARY:Mass-Conn-Fusion
DESCRIPTION:Join us for an encore showing of this locally celebrated 7-piece Big Band!\n21+\, $5 cover.\nA night of live music paired with Skatz BBQ\, The Collective Kitchen and more…keep an eye out for updates.
URL:https://talcottcollective.com/event/mass-conn-fusion-3/
LOCATION:CT
CATEGORIES:21+ Event,Food Truck Night,Music
ATTACH;FMTTYPE=image/jpeg:https://talcottcollective.com/wp-content/uploads/2023/01/mass-conn.jpg
END:VEVENT
BEGIN:VEVENT
DTSTART;TZID=America/New_York:20230414T180000
DTEND;TZID=America/New_York:20230414T210000
DTSTAMP:20260422T145020
CREATED:20230412T043228Z
LAST-MODIFIED:20230412T043228Z
UID:4037-1681495200-1681506000@talcottcollective.com
SUMMARY:Yellow Dog Story
DESCRIPTION:We are a three-piece Grateful Dead and classic rock cover band.
URL:https://talcottcollective.com/event/yellow-dog-story/
LOCATION:CT
CATEGORIES:Music
ATTACH;FMTTYPE=image/jpeg:https://talcottcollective.com/wp-content/uploads/2023/04/Yellow-Dog-Story.jpg
END:VEVENT
BEGIN:VEVENT
DTSTART;TZID=America/New_York:20230413T180000
DTEND;TZID=America/New_York:20230413T200000
DTSTAMP:20260422T145020
CREATED:20230412T042616Z
LAST-MODIFIED:20230412T042616Z
UID:4034-1681408800-1681416000@talcottcollective.com
SUMMARY:Bonnie Jacobson Trio
DESCRIPTION:
URL:https://talcottcollective.com/event/bonnie-jacobson-trio/
LOCATION:CT
CATEGORIES:Music
ATTACH;FMTTYPE=image/jpeg:https://talcottcollective.com/wp-content/uploads/2023/04/bonnie-jacobson.jpg
END:VEVENT
BEGIN:VEVENT
DTSTART;TZID=America/New_York:20230408T190000
DTEND;TZID=America/New_York:20230408T220000
DTSTAMP:20260422T145020
CREATED:20230404T143451Z
LAST-MODIFIED:20230404T143451Z
UID:3998-1680980400-1680991200@talcottcollective.com
SUMMARY:The Decker Band
DESCRIPTION:The Decker Bandits is a mix of original blue grassy latin gypsy carnival folk funk dance music.
URL:https://talcottcollective.com/event/the-decker-band/
LOCATION:CT
CATEGORIES:Music
ATTACH;FMTTYPE=image/png:https://talcottcollective.com/wp-content/uploads/2023/04/Untitled-design-11.png
END:VEVENT
BEGIN:VEVENT
DTSTART;TZID=America/New_York:20230407T180000
DTEND;TZID=America/New_York:20230407T210000
DTSTAMP:20260422T145020
CREATED:20230404T132512Z
LAST-MODIFIED:20230404T132512Z
UID:3996-1680890400-1680901200@talcottcollective.com
SUMMARY:Mollie Pop
DESCRIPTION:Mollie Pop is a Female Fronted Top 40+ Acoustic Duo bringing you a full band feel with a scaled down natural sound and energy.
URL:https://talcottcollective.com/event/mollie-pop-4/
LOCATION:CT
CATEGORIES:Music
ATTACH;FMTTYPE=image/jpeg:https://talcottcollective.com/wp-content/uploads/2022/09/MolliePop-e1663349740299.jpg
END:VEVENT
BEGIN:VEVENT
DTSTART;TZID=America/New_York:20230402T143000
DTEND;TZID=America/New_York:20230402T173000
DTSTAMP:20260422T145020
CREATED:20230331T201115Z
LAST-MODIFIED:20230331T201115Z
UID:3994-1680445800-1680456600@talcottcollective.com
SUMMARY:Tori Sokowlski
DESCRIPTION:
URL:https://talcottcollective.com/event/tori-sokowlski/
LOCATION:CT
CATEGORIES:Music
ATTACH;FMTTYPE=image/jpeg:https://talcottcollective.com/wp-content/uploads/2022/05/qtq80-RTEd3A.jpeg
END:VEVENT
BEGIN:VEVENT
DTSTART;TZID=America/New_York:20230401T170000
DTEND;TZID=America/New_York:20230401T200000
DTSTAMP:20260422T145020
CREATED:20230331T195908Z
LAST-MODIFIED:20230331T195908Z
UID:3992-1680368400-1680379200@talcottcollective.com
SUMMARY:Benny Mikula - The Lone Gnome
DESCRIPTION:The lead singer and chief songwriter of The Alpaca Gnomes.
URL:https://talcottcollective.com/event/benny-mikula-the-lone-gnome-3/
LOCATION:CT
CATEGORIES:Music
ATTACH;FMTTYPE=image/jpeg:https://talcottcollective.com/wp-content/uploads/2022/10/Lone-Gnome.jpg
END:VEVENT
BEGIN:VEVENT
DTSTART;TZID=America/New_York:20230331T190000
DTEND;TZID=America/New_York:20230331T220000
DTSTAMP:20260422T145020
CREATED:20230306T201137Z
LAST-MODIFIED:20230306T201455Z
UID:3892-1680289200-1680300000@talcottcollective.com
SUMMARY:Shout Presents Elton John Tribute Night
DESCRIPTION:Join Shout for a celebration of the music of Elton John!
URL:https://talcottcollective.com/event/shout-presents-elton-john-tribute-night/
LOCATION:CT
CATEGORIES:Food Truck,Music
ATTACH;FMTTYPE=image/jpeg:https://talcottcollective.com/wp-content/uploads/2023/03/Shout-Band-e1678133469654.jpg
END:VEVENT
END:VCALENDAR