BEGIN:VCALENDAR
VERSION:2.0
PRODID:-//Talcott Mountain Collective - ECPv6.15.20//NONSGML v1.0//EN
CALSCALE:GREGORIAN
METHOD:PUBLISH
X-WR-CALNAME:Talcott Mountain Collective
X-ORIGINAL-URL:https://talcottcollective.com
X-WR-CALDESC:Events for Talcott Mountain Collective
REFRESH-INTERVAL;VALUE=DURATION:PT1H
X-Robots-Tag:noindex
X-PUBLISHED-TTL:PT1H
BEGIN:VTIMEZONE
TZID:America/New_York
BEGIN:DAYLIGHT
TZOFFSETFROM:-0500
TZOFFSETTO:-0400
TZNAME:EDT
DTSTART:20220313T070000
END:DAYLIGHT
BEGIN:STANDARD
TZOFFSETFROM:-0400
TZOFFSETTO:-0500
TZNAME:EST
DTSTART:20221106T060000
END:STANDARD
BEGIN:DAYLIGHT
TZOFFSETFROM:-0500
TZOFFSETTO:-0400
TZNAME:EDT
DTSTART:20230312T070000
END:DAYLIGHT
BEGIN:STANDARD
TZOFFSETFROM:-0400
TZOFFSETTO:-0500
TZNAME:EST
DTSTART:20231105T060000
END:STANDARD
BEGIN:DAYLIGHT
TZOFFSETFROM:-0500
TZOFFSETTO:-0400
TZNAME:EDT
DTSTART:20240310T070000
END:DAYLIGHT
BEGIN:STANDARD
TZOFFSETFROM:-0400
TZOFFSETTO:-0500
TZNAME:EST
DTSTART:20241103T060000
END:STANDARD
END:VTIMEZONE
BEGIN:VEVENT
DTSTART;TZID=America/New_York:20230415T190000
DTEND;TZID=America/New_York:20230415T220000
DTSTAMP:20260421T012641
CREATED:20230406T185101Z
LAST-MODIFIED:20230415T225114Z
UID:4012-1681585200-1681596000@talcottcollective.com
SUMMARY:Mass-Conn-Fusion
DESCRIPTION:Join us for an encore showing of this locally celebrated 7-piece Big Band!\n21+\, $5 cover.\nA night of live music paired with Skatz BBQ\, The Collective Kitchen and more…keep an eye out for updates.
URL:https://talcottcollective.com/event/mass-conn-fusion-3/
CATEGORIES:21+ Event,Food Truck Night,Music
ATTACH;FMTTYPE=image/jpeg:https://talcottcollective.com/wp-content/uploads/2023/01/mass-conn.jpg
END:VEVENT
BEGIN:VEVENT
DTSTART;TZID=America/New_York:20230414T180000
DTEND;TZID=America/New_York:20230414T210000
DTSTAMP:20260421T012641
CREATED:20230412T043228Z
LAST-MODIFIED:20230412T043228Z
UID:4037-1681495200-1681506000@talcottcollective.com
SUMMARY:Yellow Dog Story
DESCRIPTION:We are a three-piece Grateful Dead and classic rock cover band.
URL:https://talcottcollective.com/event/yellow-dog-story/
CATEGORIES:Music
ATTACH;FMTTYPE=image/jpeg:https://talcottcollective.com/wp-content/uploads/2023/04/Yellow-Dog-Story.jpg
END:VEVENT
BEGIN:VEVENT
DTSTART;TZID=America/New_York:20230413T180000
DTEND;TZID=America/New_York:20230413T200000
DTSTAMP:20260421T012641
CREATED:20230412T042616Z
LAST-MODIFIED:20230412T042616Z
UID:4034-1681408800-1681416000@talcottcollective.com
SUMMARY:Bonnie Jacobson Trio
DESCRIPTION:
URL:https://talcottcollective.com/event/bonnie-jacobson-trio/
CATEGORIES:Music
ATTACH;FMTTYPE=image/jpeg:https://talcottcollective.com/wp-content/uploads/2023/04/bonnie-jacobson.jpg
END:VEVENT
BEGIN:VEVENT
DTSTART;TZID=America/New_York:20230408T190000
DTEND;TZID=America/New_York:20230408T220000
DTSTAMP:20260421T012641
CREATED:20230404T143451Z
LAST-MODIFIED:20230404T143451Z
UID:3998-1680980400-1680991200@talcottcollective.com
SUMMARY:The Decker Band
DESCRIPTION:The Decker Bandits is a mix of original blue grassy latin gypsy carnival folk funk dance music.
URL:https://talcottcollective.com/event/the-decker-band/
CATEGORIES:Music
ATTACH;FMTTYPE=image/png:https://talcottcollective.com/wp-content/uploads/2023/04/Untitled-design-11.png
END:VEVENT
BEGIN:VEVENT
DTSTART;TZID=America/New_York:20230407T180000
DTEND;TZID=America/New_York:20230407T210000
DTSTAMP:20260421T012641
CREATED:20230404T132512Z
LAST-MODIFIED:20230404T132512Z
UID:3996-1680890400-1680901200@talcottcollective.com
SUMMARY:Mollie Pop
DESCRIPTION:Mollie Pop is a Female Fronted Top 40+ Acoustic Duo bringing you a full band feel with a scaled down natural sound and energy.
URL:https://talcottcollective.com/event/mollie-pop-4/
CATEGORIES:Music
ATTACH;FMTTYPE=image/jpeg:https://talcottcollective.com/wp-content/uploads/2022/09/MolliePop-e1663349740299.jpg
END:VEVENT
BEGIN:VEVENT
DTSTART;TZID=America/New_York:20230402T143000
DTEND;TZID=America/New_York:20230402T173000
DTSTAMP:20260421T012641
CREATED:20230331T201115Z
LAST-MODIFIED:20230331T201115Z
UID:3994-1680445800-1680456600@talcottcollective.com
SUMMARY:Tori Sokowlski
DESCRIPTION:
URL:https://talcottcollective.com/event/tori-sokowlski/
CATEGORIES:Music
ATTACH;FMTTYPE=image/jpeg:https://talcottcollective.com/wp-content/uploads/2022/05/qtq80-RTEd3A.jpeg
END:VEVENT
BEGIN:VEVENT
DTSTART;TZID=America/New_York:20230401T170000
DTEND;TZID=America/New_York:20230401T200000
DTSTAMP:20260421T012641
CREATED:20230331T195908Z
LAST-MODIFIED:20230331T195908Z
UID:3992-1680368400-1680379200@talcottcollective.com
SUMMARY:Benny Mikula - The Lone Gnome
DESCRIPTION:The lead singer and chief songwriter of The Alpaca Gnomes.
URL:https://talcottcollective.com/event/benny-mikula-the-lone-gnome-3/
CATEGORIES:Music
ATTACH;FMTTYPE=image/jpeg:https://talcottcollective.com/wp-content/uploads/2022/10/Lone-Gnome.jpg
END:VEVENT
BEGIN:VEVENT
DTSTART;TZID=America/New_York:20230331T190000
DTEND;TZID=America/New_York:20230331T220000
DTSTAMP:20260421T012641
CREATED:20230306T201137Z
LAST-MODIFIED:20230306T201455Z
UID:3892-1680289200-1680300000@talcottcollective.com
SUMMARY:Shout Presents Elton John Tribute Night
DESCRIPTION:Join Shout for a celebration of the music of Elton John!
URL:https://talcottcollective.com/event/shout-presents-elton-john-tribute-night/
CATEGORIES:Food Truck,Music
ATTACH;FMTTYPE=image/jpeg:https://talcottcollective.com/wp-content/uploads/2023/03/Shout-Band-e1678133469654.jpg
END:VEVENT
BEGIN:VEVENT
DTSTART;TZID=America/New_York:20230326T150000
DTEND;TZID=America/New_York:20230326T180000
DTSTAMP:20260421T012641
CREATED:20230306T200634Z
LAST-MODIFIED:20230306T200634Z
UID:3890-1679842800-1679853600@talcottcollective.com
SUMMARY:Erin Earth & Cazz Piano Events
DESCRIPTION:
URL:https://talcottcollective.com/event/erin-earth-cazz-piano-events-2/
CATEGORIES:Music
ATTACH;FMTTYPE=image/jpeg:https://talcottcollective.com/wp-content/uploads/2022/02/ErinEarthCazzPiano-e1646103453191.jpg
END:VEVENT
BEGIN:VEVENT
DTSTART;TZID=America/New_York:20230325T190000
DTEND;TZID=America/New_York:20230325T220000
DTSTAMP:20260421T012641
CREATED:20230306T200212Z
LAST-MODIFIED:20230306T200212Z
UID:3888-1679770800-1679781600@talcottcollective.com
SUMMARY:Tim McDonald and Hally Jaeggi
DESCRIPTION:Live music with Tim McDonald and Hally Jaeggi
URL:https://talcottcollective.com/event/tim-mcdonald-and-hally-jaeggi-9/
CATEGORIES:Music
ATTACH;FMTTYPE=image/jpeg:https://talcottcollective.com/wp-content/uploads/2022/03/MCdonald-Jaeggi-e1648094528742.jpg
END:VEVENT
BEGIN:VEVENT
DTSTART;TZID=America/New_York:20230325T140000
DTEND;TZID=America/New_York:20230325T170000
DTSTAMP:20260421T012641
CREATED:20230315T153435Z
LAST-MODIFIED:20230315T153435Z
UID:3906-1679752800-1679763600@talcottcollective.com
SUMMARY:Mike and Dave's Grateful Duo
DESCRIPTION:Dave Frankel and Michael Sasportas are kindred spirits…and now musical partners!
URL:https://talcottcollective.com/event/mike-and-daves-grateful-duo/
ATTACH;FMTTYPE=image/jpeg:https://talcottcollective.com/wp-content/uploads/2023/03/Grateful-Duo.jpg
END:VEVENT
BEGIN:VEVENT
DTSTART;TZID=America/New_York:20230324T200000
DTEND;TZID=America/New_York:20230324T230000
DTSTAMP:20260421T012641
CREATED:20230306T195050Z
LAST-MODIFIED:20230322T152819Z
UID:3886-1679688000-1679698800@talcottcollective.com
SUMMARY:Live Bait: An Evening of Phish at the Collective
DESCRIPTION:Two sets!\nAges 21+. $10 cover.\n\n\nPika Food Truck  onsite – Collective Kitchen too\n\n\nFriday Happy Hour 12-6 
URL:https://talcottcollective.com/event/7-below-an-evening-of-phish-at-the-collective-4/
CATEGORIES:21+ Event,Food Truck,Music
ATTACH;FMTTYPE=image/jpeg:https://talcottcollective.com/wp-content/uploads/2023/03/LiveBait.jpg
END:VEVENT
BEGIN:VEVENT
DTSTART;TZID=America/New_York:20230319T140000
DTEND;TZID=America/New_York:20230319T170000
DTSTAMP:20260421T012641
CREATED:20230228T153432Z
LAST-MODIFIED:20230315T163755Z
UID:3836-1679234400-1679245200@talcottcollective.com
SUMMARY:John Mayock
DESCRIPTION:
URL:https://talcottcollective.com/event/chris-lo-presti-3/
CATEGORIES:Music
ATTACH;FMTTYPE=image/jpeg:https://talcottcollective.com/wp-content/uploads/2022/01/johnmay.jpg
END:VEVENT
BEGIN:VEVENT
DTSTART;TZID=America/New_York:20230317T120000
DTEND;TZID=America/New_York:20230317T230000
DTSTAMP:20260421T012641
CREATED:20230228T165620Z
LAST-MODIFIED:20230228T165824Z
UID:3853-1679054400-1679094000@talcottcollective.com
SUMMARY:2nd Annual Paddy's On The Mountain
DESCRIPTION:Our second annual Paddy’s on the Mountain featuring: \n\nMarch Madness  on all 5 tvs\nMusic\nFood truck\nDrink specials\nPerformance by the SRL Irish Dance Academy\n\n 
URL:https://talcottcollective.com/event/2nd-annual-paddys-on-the-mountain/
CATEGORIES:Food Truck,Holiday Opening,Music,Promotion Night
ATTACH;FMTTYPE=image/jpeg:https://talcottcollective.com/wp-content/uploads/2023/02/Paddys-ON-The-Mountain.jpg
END:VEVENT
BEGIN:VEVENT
DTSTART;TZID=America/New_York:20230315T180000
DTEND;TZID=America/New_York:20230315T210000
DTSTAMP:20260421T012641
CREATED:20230228T152333Z
LAST-MODIFIED:20230302T163023Z
UID:3832-1678903200-1678914000@talcottcollective.com
SUMMARY:Schachtelgebirger Musikanten - Live German Music!
DESCRIPTION:The Schachtelgebirger Musikanten are Freddie Meier and Ronald Kwas and they are joining our German Beer Haus tonight!
URL:https://talcottcollective.com/event/schachtelgebirger-musikanten-live-german-music-3/
CATEGORIES:Music,Promotion Night
ATTACH;FMTTYPE=image/jpeg:https://talcottcollective.com/wp-content/uploads/2022/07/Scha-musi-e1657737952989.jpg
END:VEVENT
BEGIN:VEVENT
DTSTART;TZID=America/New_York:20230312T140000
DTEND;TZID=America/New_York:20230312T170000
DTSTAMP:20260421T012641
CREATED:20230306T194705Z
LAST-MODIFIED:20230310T122316Z
UID:3883-1678629600-1678640400@talcottcollective.com
SUMMARY:Alek Rencurrel
DESCRIPTION:Live music with Alek Rencurrel.
URL:https://talcottcollective.com/event/alex-rencurel-2/
CATEGORIES:Music
ATTACH;FMTTYPE=image/jpeg:https://talcottcollective.com/wp-content/uploads/2022/06/IMG_0266001-e1654168367136.jpg
END:VEVENT
BEGIN:VEVENT
DTSTART;TZID=America/New_York:20230311T190000
DTEND;TZID=America/New_York:20230311T220000
DTSTAMP:20260421T012641
CREATED:20230306T165507Z
LAST-MODIFIED:20230310T165114Z
UID:3881-1678561200-1678572000@talcottcollective.com
SUMMARY:Ian D'Arcangelo
DESCRIPTION:Ian is the lead singer for One Time Weekend – “the innovative shred-funk Connecticut quartet bringing driving grooves with a melodic and progressive edge to the universe.” A singer & songwriter from CT. Ian keeps a familiar sound while pushing the boundaries of his genre.
URL:https://talcottcollective.com/event/ian-darcangelo-2/
CATEGORIES:Music
ATTACH;FMTTYPE=image/jpeg:https://talcottcollective.com/wp-content/uploads/2023/02/Darcangel.jpg
END:VEVENT
BEGIN:VEVENT
DTSTART;TZID=America/New_York:20230311T140000
DTEND;TZID=America/New_York:20230311T170000
DTSTAMP:20260421T012641
CREATED:20230306T165250Z
LAST-MODIFIED:20230306T165250Z
UID:3879-1678543200-1678554000@talcottcollective.com
SUMMARY:Joe Mandro Music
DESCRIPTION:Acoustic Guitarist\, Singer and Jam Extraordinaire
URL:https://talcottcollective.com/event/joe-mandro-music-5/
CATEGORIES:Music
ATTACH;FMTTYPE=image/jpeg:https://talcottcollective.com/wp-content/uploads/2022/02/mandro-and-rob-e1646102187534.jpg
END:VEVENT
BEGIN:VEVENT
DTSTART;TZID=America/New_York:20230310T180000
DTEND;TZID=America/New_York:20230310T210000
DTSTAMP:20260421T012641
CREATED:20230306T165041Z
LAST-MODIFIED:20230310T164721Z
UID:3877-1678471200-1678482000@talcottcollective.com
SUMMARY:Jeff Przech and Dennis Fancher
DESCRIPTION:Free Live Music w Jeff Przech and Dennis Fancher.
URL:https://talcottcollective.com/event/jeff-przech-5/
CATEGORIES:Music
ATTACH;FMTTYPE=image/jpeg:https://talcottcollective.com/wp-content/uploads/2022/03/Jeff-Przech-e1647529264734.jpg
END:VEVENT
BEGIN:VEVENT
DTSTART;TZID=America/New_York:20230305T140000
DTEND;TZID=America/New_York:20230305T170000
DTSTAMP:20260421T012641
CREATED:20230302T215215Z
LAST-MODIFIED:20230302T215352Z
UID:3866-1678024800-1678035600@talcottcollective.com
SUMMARY:Mark Paradis
DESCRIPTION:Live music with Mark Paradis.
URL:https://talcottcollective.com/event/mark-paradis-12/
CATEGORIES:Music
ATTACH;FMTTYPE=image/jpeg:https://talcottcollective.com/wp-content/uploads/2022/01/paradis-e1645676902688.jpg
END:VEVENT
BEGIN:VEVENT
DTSTART;TZID=America/New_York:20230304T190000
DTEND;TZID=America/New_York:20230304T220000
DTSTAMP:20260421T012641
CREATED:20230208T215440Z
LAST-MODIFIED:20230227T150057Z
UID:3790-1677956400-1677967200@talcottcollective.com
SUMMARY:Booyah!
DESCRIPTION:BOOYAH! is a collective of musicians delivering prime tribute nights that will surely get your feet stomping!
URL:https://talcottcollective.com/event/booyah-2/
CATEGORIES:21+ Event,Music
ATTACH;FMTTYPE=image/png:https://talcottcollective.com/wp-content/uploads/2022/09/Booyah-e1739214507696.png
END:VEVENT
BEGIN:VEVENT
DTSTART;TZID=America/New_York:20230303T190000
DTEND;TZID=America/New_York:20230303T220000
DTSTAMP:20260421T012641
CREATED:20230228T153113Z
LAST-MODIFIED:20230302T162553Z
UID:3834-1677870000-1677880800@talcottcollective.com
SUMMARY:Suburban Escape Plan
DESCRIPTION:Free live music!
URL:https://talcottcollective.com/event/suburban-escape-plan-2/
CATEGORIES:Music
ATTACH;FMTTYPE=image/jpeg:https://talcottcollective.com/wp-content/uploads/2023/02/suburban-escape-plan.jpg
END:VEVENT
BEGIN:VEVENT
DTSTART;TZID=America/New_York:20230301T150000
DTEND;TZID=America/New_York:20230301T210000
DTSTAMP:20260421T012641
CREATED:20230223T205527Z
LAST-MODIFIED:20230223T205527Z
UID:3816-1677682800-1677704400@talcottcollective.com
SUMMARY:Darkside of the Mountain
DESCRIPTION:Wednesday\, March 1 marks a special day in music history – the 50th anniversary of Pink Floyd’s celebrated studio album Dark Side of the Moon \n\n\n\nWednesdays are also our weekly German Bier Haus\, featuring $5 German draughts and $5 brats/kielbasa – and that will be matched musically by various takes on Dark Side of the Moon. Including album samplings by:\n\n\n\nLondon Philharmonic Orchestra \nThe Flaming Lips \nEasy Star All-Stars (reggae) \nGovernment Mule \nPhish \n\nAll bookended by the complete Vinyl Record playing to start and wrap the night.\n\n\nIt’s going to be a great celebration and honoring of a timeless  – join us!
URL:https://talcottcollective.com/event/darkside-of-the-mountain/
CATEGORIES:Music
ATTACH;FMTTYPE=image/jpeg:https://talcottcollective.com/wp-content/uploads/2023/02/pink-floyd.jpg
END:VEVENT
BEGIN:VEVENT
DTSTART;TZID=America/New_York:20230226T140000
DTEND;TZID=America/New_York:20230226T170000
DTSTAMP:20260421T012641
CREATED:20230223T212726Z
LAST-MODIFIED:20230223T212726Z
UID:3829-1677420000-1677430800@talcottcollective.com
SUMMARY:Joe Mandro/Dennis Fancher
DESCRIPTION:Live music.
URL:https://talcottcollective.com/event/joe-mandro-dennis-fancher-2/
CATEGORIES:Music
ATTACH;FMTTYPE=image/jpeg:https://talcottcollective.com/wp-content/uploads/2022/12/qtq80-gMhJnY.jpeg
END:VEVENT
BEGIN:VEVENT
DTSTART;TZID=America/New_York:20230225T190000
DTEND;TZID=America/New_York:20230225T220000
DTSTAMP:20260421T012641
CREATED:20230208T214500Z
LAST-MODIFIED:20230223T212111Z
UID:3787-1677351600-1677362400@talcottcollective.com
SUMMARY:St. George and The Dragons
DESCRIPTION:Michael St George is known as the fiery Blues guitarist that powered bands like Easy Baby. Now he steps out front\, leading a brand-new band of veteran musicians who share his vision for high-energy Blues-based good-time music.
URL:https://talcottcollective.com/event/st-george-and-the-dragons/
CATEGORIES:21+ Event,Music
ATTACH;FMTTYPE=image/jpeg:https://talcottcollective.com/wp-content/uploads/2023/02/George-dragons.jpg
END:VEVENT
BEGIN:VEVENT
DTSTART;TZID=America/New_York:20230225T140000
DTEND;TZID=America/New_York:20230225T170000
DTSTAMP:20260421T012641
CREATED:20230223T212440Z
LAST-MODIFIED:20230223T212440Z
UID:3827-1677333600-1677344400@talcottcollective.com
SUMMARY:John Mayock
DESCRIPTION:John Mayock is a singer\, song stylist\, and writer with deep roots in Folk\, Rock\, and Country music. An accomplished guitarist who also plays harmonica\, mandolin\, and piano\, John has shared the stage with  diverse artists including Greg Allman\, NRBQ\, Dar Williams\, and Jonathan Edwards. His live performances reflect his love of music\, and his repertoire is extensive and unique. \n\n 
URL:https://talcottcollective.com/event/john-mayock-5/
CATEGORIES:Music
ATTACH;FMTTYPE=image/jpeg:https://talcottcollective.com/wp-content/uploads/2022/01/johnmay.jpg
END:VEVENT
BEGIN:VEVENT
DTSTART;TZID=America/New_York:20230224T183000
DTEND;TZID=America/New_York:20230224T213000
DTSTAMP:20260421T012641
CREATED:20230223T211915Z
LAST-MODIFIED:20230227T145907Z
UID:3825-1677263400-1677274200@talcottcollective.com
SUMMARY:Firetown Road
DESCRIPTION:Firetown Road performs original alt country music.
URL:https://talcottcollective.com/event/firetown-road-4/
CATEGORIES:Music
ATTACH;FMTTYPE=image/jpeg:https://talcottcollective.com/wp-content/uploads/2022/07/firetown-road-e1657738262606.jpg
END:VEVENT
BEGIN:VEVENT
DTSTART;TZID=America/New_York:20230218T140000
DTEND;TZID=America/New_York:20230218T170000
DTSTAMP:20260421T012641
CREATED:20230208T204324Z
LAST-MODIFIED:20230208T204324Z
UID:3783-1676728800-1676739600@talcottcollective.com
SUMMARY:Joe Mandro Music
DESCRIPTION:Acoustic Guitarist\, Singer and Jam Extraordinaire
URL:https://talcottcollective.com/event/joe-mandro-music-4/
CATEGORIES:Music
ATTACH;FMTTYPE=image/jpeg:https://talcottcollective.com/wp-content/uploads/2022/02/mandro-and-rob-e1646102187534.jpg
END:VEVENT
BEGIN:VEVENT
DTSTART;TZID=America/New_York:20230217T190000
DTEND;TZID=America/New_York:20230217T220000
DTSTAMP:20260421T012641
CREATED:20240207T151411Z
LAST-MODIFIED:20240207T151411Z
UID:5307-1676660400-1676671200@talcottcollective.com
SUMMARY:The Marks Bros
DESCRIPTION:The Marks Brothers return to the fun and friendly Talcott Mountain Collective on Saturday evening\, February 17 at 7:00pm. See you there!\nMark Mercier – Keyboards\nMark Paradis – Guitar\nBrian “Duke” Konopka – Drums\nDave Stoltz – Bass
URL:https://talcottcollective.com/event/the-marks-bros-4/
CATEGORIES:21+ Event,Food Truck Night,Music
ATTACH;FMTTYPE=image/jpeg:https://talcottcollective.com/wp-content/uploads/2023/01/MArks-Bros.jpg
END:VEVENT
BEGIN:VEVENT
DTSTART;TZID=America/New_York:20230217T180000
DTEND;TZID=America/New_York:20230217T210000
DTSTAMP:20260421T012641
CREATED:20230208T203602Z
LAST-MODIFIED:20230208T203602Z
UID:3781-1676656800-1676667600@talcottcollective.com
SUMMARY:Lee Sylvestre
DESCRIPTION:Lee Sylvestre is a New England singer\, songwriter and multi-instrumentalist.
URL:https://talcottcollective.com/event/lee-sylvestre-2/
CATEGORIES:Music
ATTACH;FMTTYPE=image/jpeg:https://talcottcollective.com/wp-content/uploads/2022/02/Lee-Sylvestre.jpg
END:VEVENT
END:VCALENDAR