BEGIN:VCALENDAR
VERSION:2.0
PRODID:-//Talcott Mountain Collective - ECPv6.15.20//NONSGML v1.0//EN
CALSCALE:GREGORIAN
METHOD:PUBLISH
X-ORIGINAL-URL:https://talcottcollective.com
X-WR-CALDESC:Events for Talcott Mountain Collective
REFRESH-INTERVAL;VALUE=DURATION:PT1H
X-Robots-Tag:noindex
X-PUBLISHED-TTL:PT1H
BEGIN:VTIMEZONE
TZID:UTC
BEGIN:STANDARD
TZOFFSETFROM:+0000
TZOFFSETTO:+0000
TZNAME:UTC
DTSTART:20210101T000000
END:STANDARD
END:VTIMEZONE
BEGIN:VEVENT
DTSTART;VALUE=DATE:20220108
DTEND;VALUE=DATE:20220109
DTSTAMP:20260420T145551
CREATED:20220108T031300Z
LAST-MODIFIED:20220108T031300Z
UID:1637-1641600000-1641686399@talcottcollective.com
SUMMARY:Super Saturday @TMC
DESCRIPTION:All day food truck (12-8pm) – I Know A Guy (exceptional salads and paninis). \nOutdoor fire pits. \nEvening music with John Mayock\, 7-9pm \n  \nRSVP on Facebook: https://fb.me/e/1jaaDtTRH
URL:https://talcottcollective.com/event/super-saturday-tmc/
CATEGORIES:Food Truck,Music
ATTACH;FMTTYPE=image/jpeg:https://talcottcollective.com/wp-content/uploads/2022/01/tmc.jpg
END:VEVENT
END:VCALENDAR